BEGIN:VCALENDAR
VERSION:2.0
PRODID:-//Redeemer Church - ECPv6.15.20//NONSGML v1.0//EN
CALSCALE:GREGORIAN
METHOD:PUBLISH
X-WR-CALNAME:Redeemer Church
X-ORIGINAL-URL:https://redeemerpv.com
X-WR-CALDESC:Events for Redeemer Church
REFRESH-INTERVAL;VALUE=DURATION:PT1H
X-Robots-Tag:noindex
X-PUBLISHED-TTL:PT1H
BEGIN:VTIMEZONE
TZID:America/New_York
BEGIN:DAYLIGHT
TZOFFSETFROM:-0500
TZOFFSETTO:-0400
TZNAME:EDT
DTSTART:20260308T070000
END:DAYLIGHT
BEGIN:STANDARD
TZOFFSETFROM:-0400
TZOFFSETTO:-0500
TZNAME:EST
DTSTART:20261101T060000
END:STANDARD
BEGIN:DAYLIGHT
TZOFFSETFROM:-0500
TZOFFSETTO:-0400
TZNAME:EDT
DTSTART:20270314T070000
END:DAYLIGHT
BEGIN:STANDARD
TZOFFSETFROM:-0400
TZOFFSETTO:-0500
TZNAME:EST
DTSTART:20271107T060000
END:STANDARD
BEGIN:DAYLIGHT
TZOFFSETFROM:-0500
TZOFFSETTO:-0400
TZNAME:EDT
DTSTART:20280312T070000
END:DAYLIGHT
BEGIN:STANDARD
TZOFFSETFROM:-0400
TZOFFSETTO:-0500
TZNAME:EST
DTSTART:20281105T060000
END:STANDARD
BEGIN:DAYLIGHT
TZOFFSETFROM:-0500
TZOFFSETTO:-0400
TZNAME:EDT
DTSTART:20290311T070000
END:DAYLIGHT
BEGIN:STANDARD
TZOFFSETFROM:-0400
TZOFFSETTO:-0500
TZNAME:EST
DTSTART:20291104T060000
END:STANDARD
BEGIN:DAYLIGHT
TZOFFSETFROM:-0500
TZOFFSETTO:-0400
TZNAME:EDT
DTSTART:20300310T070000
END:DAYLIGHT
BEGIN:STANDARD
TZOFFSETFROM:-0400
TZOFFSETTO:-0500
TZNAME:EST
DTSTART:20301103T060000
END:STANDARD
END:VTIMEZONE
BEGIN:VEVENT
DTSTART;TZID=America/New_York:20270509T100000
DTEND;TZID=America/New_York:20270509T110000
DTSTAMP:20260423T112456
CREATED:20260105T151557Z
LAST-MODIFIED:20260105T151916Z
UID:10005284-1809856800-1809860400@redeemerpv.com
SUMMARY:Special Nation Praise Service
DESCRIPTION:On the second Sunday of the month\, we have a no-hush service that is put on by our Special Nation ministry and intentionally designed for those affected by disabilities and their families. All are welcome! \nSpecial Praise meets in the Student Auditorium in the Family Center at 10AM. \n 
URL:https://redeemerpv.com/event/special-nation-praise-service-2/2027-05-09/
LOCATION:Redeemer Campus\, 190 S Roscoe Blvd\, Ponte Vedra Beach\, FL\, 32082\, United States
CATEGORIES:Service
ATTACH;FMTTYPE=image/png:https://redeemerpv.com/wp-content/uploads/2024/07/Special-Praise-10am.png
END:VEVENT
BEGIN:VEVENT
DTSTART;TZID=America/New_York:20270613T100000
DTEND;TZID=America/New_York:20270613T110000
DTSTAMP:20260423T112456
CREATED:20260105T151557Z
LAST-MODIFIED:20260105T151916Z
UID:10005285-1812880800-1812884400@redeemerpv.com
SUMMARY:Special Nation Praise Service
DESCRIPTION:On the second Sunday of the month\, we have a no-hush service that is put on by our Special Nation ministry and intentionally designed for those affected by disabilities and their families. All are welcome! \nSpecial Praise meets in the Student Auditorium in the Family Center at 10AM. \n 
URL:https://redeemerpv.com/event/special-nation-praise-service-2/2027-06-13/
LOCATION:Redeemer Campus\, 190 S Roscoe Blvd\, Ponte Vedra Beach\, FL\, 32082\, United States
CATEGORIES:Service
ATTACH;FMTTYPE=image/png:https://redeemerpv.com/wp-content/uploads/2024/07/Special-Praise-10am.png
END:VEVENT
BEGIN:VEVENT
DTSTART;TZID=America/New_York:20270711T100000
DTEND;TZID=America/New_York:20270711T110000
DTSTAMP:20260423T112456
CREATED:20260105T151557Z
LAST-MODIFIED:20260105T151916Z
UID:10005286-1815300000-1815303600@redeemerpv.com
SUMMARY:Special Nation Praise Service
DESCRIPTION:On the second Sunday of the month\, we have a no-hush service that is put on by our Special Nation ministry and intentionally designed for those affected by disabilities and their families. All are welcome! \nSpecial Praise meets in the Student Auditorium in the Family Center at 10AM. \n 
URL:https://redeemerpv.com/event/special-nation-praise-service-2/2027-07-11/
LOCATION:Redeemer Campus\, 190 S Roscoe Blvd\, Ponte Vedra Beach\, FL\, 32082\, United States
CATEGORIES:Service
ATTACH;FMTTYPE=image/png:https://redeemerpv.com/wp-content/uploads/2024/07/Special-Praise-10am.png
END:VEVENT
BEGIN:VEVENT
DTSTART;TZID=America/New_York:20270808T100000
DTEND;TZID=America/New_York:20270808T110000
DTSTAMP:20260423T112456
CREATED:20260105T151557Z
LAST-MODIFIED:20260105T151916Z
UID:10005287-1817719200-1817722800@redeemerpv.com
SUMMARY:Special Nation Praise Service
DESCRIPTION:On the second Sunday of the month\, we have a no-hush service that is put on by our Special Nation ministry and intentionally designed for those affected by disabilities and their families. All are welcome! \nSpecial Praise meets in the Student Auditorium in the Family Center at 10AM. \n 
URL:https://redeemerpv.com/event/special-nation-praise-service-2/2027-08-08/
LOCATION:Redeemer Campus\, 190 S Roscoe Blvd\, Ponte Vedra Beach\, FL\, 32082\, United States
CATEGORIES:Service
ATTACH;FMTTYPE=image/png:https://redeemerpv.com/wp-content/uploads/2024/07/Special-Praise-10am.png
END:VEVENT
BEGIN:VEVENT
DTSTART;TZID=America/New_York:20270912T100000
DTEND;TZID=America/New_York:20270912T110000
DTSTAMP:20260423T112457
CREATED:20260105T151557Z
LAST-MODIFIED:20260105T151916Z
UID:10005288-1820743200-1820746800@redeemerpv.com
SUMMARY:Special Nation Praise Service
DESCRIPTION:On the second Sunday of the month\, we have a no-hush service that is put on by our Special Nation ministry and intentionally designed for those affected by disabilities and their families. All are welcome! \nSpecial Praise meets in the Student Auditorium in the Family Center at 10AM. \n 
URL:https://redeemerpv.com/event/special-nation-praise-service-2/2027-09-12/
LOCATION:Redeemer Campus\, 190 S Roscoe Blvd\, Ponte Vedra Beach\, FL\, 32082\, United States
CATEGORIES:Service
ATTACH;FMTTYPE=image/png:https://redeemerpv.com/wp-content/uploads/2024/07/Special-Praise-10am.png
END:VEVENT
BEGIN:VEVENT
DTSTART;TZID=America/New_York:20271010T100000
DTEND;TZID=America/New_York:20271010T110000
DTSTAMP:20260423T112457
CREATED:20260105T151557Z
LAST-MODIFIED:20260105T151916Z
UID:10005289-1823162400-1823166000@redeemerpv.com
SUMMARY:Special Nation Praise Service
DESCRIPTION:On the second Sunday of the month\, we have a no-hush service that is put on by our Special Nation ministry and intentionally designed for those affected by disabilities and their families. All are welcome! \nSpecial Praise meets in the Student Auditorium in the Family Center at 10AM. \n 
URL:https://redeemerpv.com/event/special-nation-praise-service-2/2027-10-10/
LOCATION:Redeemer Campus\, 190 S Roscoe Blvd\, Ponte Vedra Beach\, FL\, 32082\, United States
CATEGORIES:Service
ATTACH;FMTTYPE=image/png:https://redeemerpv.com/wp-content/uploads/2024/07/Special-Praise-10am.png
END:VEVENT
BEGIN:VEVENT
DTSTART;TZID=America/New_York:20271114T100000
DTEND;TZID=America/New_York:20271114T110000
DTSTAMP:20260423T112457
CREATED:20260105T151557Z
LAST-MODIFIED:20260105T151916Z
UID:10005290-1826186400-1826190000@redeemerpv.com
SUMMARY:Special Nation Praise Service
DESCRIPTION:On the second Sunday of the month\, we have a no-hush service that is put on by our Special Nation ministry and intentionally designed for those affected by disabilities and their families. All are welcome! \nSpecial Praise meets in the Student Auditorium in the Family Center at 10AM. \n 
URL:https://redeemerpv.com/event/special-nation-praise-service-2/2027-11-14/
LOCATION:Redeemer Campus\, 190 S Roscoe Blvd\, Ponte Vedra Beach\, FL\, 32082\, United States
CATEGORIES:Service
ATTACH;FMTTYPE=image/png:https://redeemerpv.com/wp-content/uploads/2024/07/Special-Praise-10am.png
END:VEVENT
BEGIN:VEVENT
DTSTART;TZID=America/New_York:20271212T100000
DTEND;TZID=America/New_York:20271212T110000
DTSTAMP:20260423T112457
CREATED:20260105T151557Z
LAST-MODIFIED:20260105T151916Z
UID:10005291-1828605600-1828609200@redeemerpv.com
SUMMARY:Special Nation Praise Service
DESCRIPTION:On the second Sunday of the month\, we have a no-hush service that is put on by our Special Nation ministry and intentionally designed for those affected by disabilities and their families. All are welcome! \nSpecial Praise meets in the Student Auditorium in the Family Center at 10AM. \n 
URL:https://redeemerpv.com/event/special-nation-praise-service-2/2027-12-12/
LOCATION:Redeemer Campus\, 190 S Roscoe Blvd\, Ponte Vedra Beach\, FL\, 32082\, United States
CATEGORIES:Service
ATTACH;FMTTYPE=image/png:https://redeemerpv.com/wp-content/uploads/2024/07/Special-Praise-10am.png
END:VEVENT
BEGIN:VEVENT
DTSTART;TZID=America/New_York:20280109T100000
DTEND;TZID=America/New_York:20280109T110000
DTSTAMP:20260423T112457
CREATED:20260105T151557Z
LAST-MODIFIED:20260105T151916Z
UID:10005292-1831024800-1831028400@redeemerpv.com
SUMMARY:Special Nation Praise Service
DESCRIPTION:On the second Sunday of the month\, we have a no-hush service that is put on by our Special Nation ministry and intentionally designed for those affected by disabilities and their families. All are welcome! \nSpecial Praise meets in the Student Auditorium in the Family Center at 10AM. \n 
URL:https://redeemerpv.com/event/special-nation-praise-service-2/2028-01-09/
LOCATION:Redeemer Campus\, 190 S Roscoe Blvd\, Ponte Vedra Beach\, FL\, 32082\, United States
CATEGORIES:Service
ATTACH;FMTTYPE=image/png:https://redeemerpv.com/wp-content/uploads/2024/07/Special-Praise-10am.png
END:VEVENT
BEGIN:VEVENT
DTSTART;TZID=America/New_York:20280213T100000
DTEND;TZID=America/New_York:20280213T110000
DTSTAMP:20260423T112457
CREATED:20260105T151557Z
LAST-MODIFIED:20260105T151916Z
UID:10005293-1834048800-1834052400@redeemerpv.com
SUMMARY:Special Nation Praise Service
DESCRIPTION:On the second Sunday of the month\, we have a no-hush service that is put on by our Special Nation ministry and intentionally designed for those affected by disabilities and their families. All are welcome! \nSpecial Praise meets in the Student Auditorium in the Family Center at 10AM. \n 
URL:https://redeemerpv.com/event/special-nation-praise-service-2/2028-02-13/
LOCATION:Redeemer Campus\, 190 S Roscoe Blvd\, Ponte Vedra Beach\, FL\, 32082\, United States
CATEGORIES:Service
ATTACH;FMTTYPE=image/png:https://redeemerpv.com/wp-content/uploads/2024/07/Special-Praise-10am.png
END:VEVENT
BEGIN:VEVENT
DTSTART;TZID=America/New_York:20280312T100000
DTEND;TZID=America/New_York:20280312T110000
DTSTAMP:20260423T112457
CREATED:20260105T151557Z
LAST-MODIFIED:20260105T151916Z
UID:10005294-1836468000-1836471600@redeemerpv.com
SUMMARY:Special Nation Praise Service
DESCRIPTION:On the second Sunday of the month\, we have a no-hush service that is put on by our Special Nation ministry and intentionally designed for those affected by disabilities and their families. All are welcome! \nSpecial Praise meets in the Student Auditorium in the Family Center at 10AM. \n 
URL:https://redeemerpv.com/event/special-nation-praise-service-2/2028-03-12/
LOCATION:Redeemer Campus\, 190 S Roscoe Blvd\, Ponte Vedra Beach\, FL\, 32082\, United States
CATEGORIES:Service
ATTACH;FMTTYPE=image/png:https://redeemerpv.com/wp-content/uploads/2024/07/Special-Praise-10am.png
END:VEVENT
BEGIN:VEVENT
DTSTART;TZID=America/New_York:20280409T100000
DTEND;TZID=America/New_York:20280409T110000
DTSTAMP:20260423T112457
CREATED:20260105T151557Z
LAST-MODIFIED:20260105T151916Z
UID:10005295-1838887200-1838890800@redeemerpv.com
SUMMARY:Special Nation Praise Service
DESCRIPTION:On the second Sunday of the month\, we have a no-hush service that is put on by our Special Nation ministry and intentionally designed for those affected by disabilities and their families. All are welcome! \nSpecial Praise meets in the Student Auditorium in the Family Center at 10AM. \n 
URL:https://redeemerpv.com/event/special-nation-praise-service-2/2028-04-09/
LOCATION:Redeemer Campus\, 190 S Roscoe Blvd\, Ponte Vedra Beach\, FL\, 32082\, United States
CATEGORIES:Service
ATTACH;FMTTYPE=image/png:https://redeemerpv.com/wp-content/uploads/2024/07/Special-Praise-10am.png
END:VEVENT
BEGIN:VEVENT
DTSTART;TZID=America/New_York:20280514T100000
DTEND;TZID=America/New_York:20280514T110000
DTSTAMP:20260423T112457
CREATED:20260105T151557Z
LAST-MODIFIED:20260105T151916Z
UID:10005296-1841911200-1841914800@redeemerpv.com
SUMMARY:Special Nation Praise Service
DESCRIPTION:On the second Sunday of the month\, we have a no-hush service that is put on by our Special Nation ministry and intentionally designed for those affected by disabilities and their families. All are welcome! \nSpecial Praise meets in the Student Auditorium in the Family Center at 10AM. \n 
URL:https://redeemerpv.com/event/special-nation-praise-service-2/2028-05-14/
LOCATION:Redeemer Campus\, 190 S Roscoe Blvd\, Ponte Vedra Beach\, FL\, 32082\, United States
CATEGORIES:Service
ATTACH;FMTTYPE=image/png:https://redeemerpv.com/wp-content/uploads/2024/07/Special-Praise-10am.png
END:VEVENT
BEGIN:VEVENT
DTSTART;TZID=America/New_York:20280611T100000
DTEND;TZID=America/New_York:20280611T110000
DTSTAMP:20260423T112457
CREATED:20260105T151557Z
LAST-MODIFIED:20260105T151916Z
UID:10005297-1844330400-1844334000@redeemerpv.com
SUMMARY:Special Nation Praise Service
DESCRIPTION:On the second Sunday of the month\, we have a no-hush service that is put on by our Special Nation ministry and intentionally designed for those affected by disabilities and their families. All are welcome! \nSpecial Praise meets in the Student Auditorium in the Family Center at 10AM. \n 
URL:https://redeemerpv.com/event/special-nation-praise-service-2/2028-06-11/
LOCATION:Redeemer Campus\, 190 S Roscoe Blvd\, Ponte Vedra Beach\, FL\, 32082\, United States
CATEGORIES:Service
ATTACH;FMTTYPE=image/png:https://redeemerpv.com/wp-content/uploads/2024/07/Special-Praise-10am.png
END:VEVENT
BEGIN:VEVENT
DTSTART;TZID=America/New_York:20280709T100000
DTEND;TZID=America/New_York:20280709T110000
DTSTAMP:20260423T112457
CREATED:20260105T151557Z
LAST-MODIFIED:20260105T151916Z
UID:10005298-1846749600-1846753200@redeemerpv.com
SUMMARY:Special Nation Praise Service
DESCRIPTION:On the second Sunday of the month\, we have a no-hush service that is put on by our Special Nation ministry and intentionally designed for those affected by disabilities and their families. All are welcome! \nSpecial Praise meets in the Student Auditorium in the Family Center at 10AM. \n 
URL:https://redeemerpv.com/event/special-nation-praise-service-2/2028-07-09/
LOCATION:Redeemer Campus\, 190 S Roscoe Blvd\, Ponte Vedra Beach\, FL\, 32082\, United States
CATEGORIES:Service
ATTACH;FMTTYPE=image/png:https://redeemerpv.com/wp-content/uploads/2024/07/Special-Praise-10am.png
END:VEVENT
BEGIN:VEVENT
DTSTART;TZID=America/New_York:20280813T100000
DTEND;TZID=America/New_York:20280813T110000
DTSTAMP:20260423T112457
CREATED:20260105T151557Z
LAST-MODIFIED:20260105T151916Z
UID:10005299-1849773600-1849777200@redeemerpv.com
SUMMARY:Special Nation Praise Service
DESCRIPTION:On the second Sunday of the month\, we have a no-hush service that is put on by our Special Nation ministry and intentionally designed for those affected by disabilities and their families. All are welcome! \nSpecial Praise meets in the Student Auditorium in the Family Center at 10AM. \n 
URL:https://redeemerpv.com/event/special-nation-praise-service-2/2028-08-13/
LOCATION:Redeemer Campus\, 190 S Roscoe Blvd\, Ponte Vedra Beach\, FL\, 32082\, United States
CATEGORIES:Service
ATTACH;FMTTYPE=image/png:https://redeemerpv.com/wp-content/uploads/2024/07/Special-Praise-10am.png
END:VEVENT
BEGIN:VEVENT
DTSTART;TZID=America/New_York:20280910T100000
DTEND;TZID=America/New_York:20280910T110000
DTSTAMP:20260423T112457
CREATED:20260105T151557Z
LAST-MODIFIED:20260105T151916Z
UID:10005300-1852192800-1852196400@redeemerpv.com
SUMMARY:Special Nation Praise Service
DESCRIPTION:On the second Sunday of the month\, we have a no-hush service that is put on by our Special Nation ministry and intentionally designed for those affected by disabilities and their families. All are welcome! \nSpecial Praise meets in the Student Auditorium in the Family Center at 10AM. \n 
URL:https://redeemerpv.com/event/special-nation-praise-service-2/2028-09-10/
LOCATION:Redeemer Campus\, 190 S Roscoe Blvd\, Ponte Vedra Beach\, FL\, 32082\, United States
CATEGORIES:Service
ATTACH;FMTTYPE=image/png:https://redeemerpv.com/wp-content/uploads/2024/07/Special-Praise-10am.png
END:VEVENT
BEGIN:VEVENT
DTSTART;TZID=America/New_York:20281008T100000
DTEND;TZID=America/New_York:20281008T110000
DTSTAMP:20260423T112457
CREATED:20260105T151557Z
LAST-MODIFIED:20260105T151916Z
UID:10005301-1854612000-1854615600@redeemerpv.com
SUMMARY:Special Nation Praise Service
DESCRIPTION:On the second Sunday of the month\, we have a no-hush service that is put on by our Special Nation ministry and intentionally designed for those affected by disabilities and their families. All are welcome! \nSpecial Praise meets in the Student Auditorium in the Family Center at 10AM. \n 
URL:https://redeemerpv.com/event/special-nation-praise-service-2/2028-10-08/
LOCATION:Redeemer Campus\, 190 S Roscoe Blvd\, Ponte Vedra Beach\, FL\, 32082\, United States
CATEGORIES:Service
ATTACH;FMTTYPE=image/png:https://redeemerpv.com/wp-content/uploads/2024/07/Special-Praise-10am.png
END:VEVENT
BEGIN:VEVENT
DTSTART;TZID=America/New_York:20281112T100000
DTEND;TZID=America/New_York:20281112T110000
DTSTAMP:20260423T112457
CREATED:20260105T151557Z
LAST-MODIFIED:20260105T151916Z
UID:10005302-1857636000-1857639600@redeemerpv.com
SUMMARY:Special Nation Praise Service
DESCRIPTION:On the second Sunday of the month\, we have a no-hush service that is put on by our Special Nation ministry and intentionally designed for those affected by disabilities and their families. All are welcome! \nSpecial Praise meets in the Student Auditorium in the Family Center at 10AM. \n 
URL:https://redeemerpv.com/event/special-nation-praise-service-2/2028-11-12/
LOCATION:Redeemer Campus\, 190 S Roscoe Blvd\, Ponte Vedra Beach\, FL\, 32082\, United States
CATEGORIES:Service
ATTACH;FMTTYPE=image/png:https://redeemerpv.com/wp-content/uploads/2024/07/Special-Praise-10am.png
END:VEVENT
BEGIN:VEVENT
DTSTART;TZID=America/New_York:20281210T100000
DTEND;TZID=America/New_York:20281210T110000
DTSTAMP:20260423T112457
CREATED:20260105T151557Z
LAST-MODIFIED:20260105T151916Z
UID:10005303-1860055200-1860058800@redeemerpv.com
SUMMARY:Special Nation Praise Service
DESCRIPTION:On the second Sunday of the month\, we have a no-hush service that is put on by our Special Nation ministry and intentionally designed for those affected by disabilities and their families. All are welcome! \nSpecial Praise meets in the Student Auditorium in the Family Center at 10AM. \n 
URL:https://redeemerpv.com/event/special-nation-praise-service-2/2028-12-10/
LOCATION:Redeemer Campus\, 190 S Roscoe Blvd\, Ponte Vedra Beach\, FL\, 32082\, United States
CATEGORIES:Service
ATTACH;FMTTYPE=image/png:https://redeemerpv.com/wp-content/uploads/2024/07/Special-Praise-10am.png
END:VEVENT
BEGIN:VEVENT
DTSTART;TZID=America/New_York:20290114T100000
DTEND;TZID=America/New_York:20290114T110000
DTSTAMP:20260423T112457
CREATED:20260105T151557Z
LAST-MODIFIED:20260105T151916Z
UID:10005304-1863079200-1863082800@redeemerpv.com
SUMMARY:Special Nation Praise Service
DESCRIPTION:On the second Sunday of the month\, we have a no-hush service that is put on by our Special Nation ministry and intentionally designed for those affected by disabilities and their families. All are welcome! \nSpecial Praise meets in the Student Auditorium in the Family Center at 10AM. \n 
URL:https://redeemerpv.com/event/special-nation-praise-service-2/2029-01-14/
LOCATION:Redeemer Campus\, 190 S Roscoe Blvd\, Ponte Vedra Beach\, FL\, 32082\, United States
CATEGORIES:Service
ATTACH;FMTTYPE=image/png:https://redeemerpv.com/wp-content/uploads/2024/07/Special-Praise-10am.png
END:VEVENT
BEGIN:VEVENT
DTSTART;TZID=America/New_York:20290211T100000
DTEND;TZID=America/New_York:20290211T110000
DTSTAMP:20260423T112457
CREATED:20260105T151557Z
LAST-MODIFIED:20260105T151916Z
UID:10005305-1865498400-1865502000@redeemerpv.com
SUMMARY:Special Nation Praise Service
DESCRIPTION:On the second Sunday of the month\, we have a no-hush service that is put on by our Special Nation ministry and intentionally designed for those affected by disabilities and their families. All are welcome! \nSpecial Praise meets in the Student Auditorium in the Family Center at 10AM. \n 
URL:https://redeemerpv.com/event/special-nation-praise-service-2/2029-02-11/
LOCATION:Redeemer Campus\, 190 S Roscoe Blvd\, Ponte Vedra Beach\, FL\, 32082\, United States
CATEGORIES:Service
ATTACH;FMTTYPE=image/png:https://redeemerpv.com/wp-content/uploads/2024/07/Special-Praise-10am.png
END:VEVENT
BEGIN:VEVENT
DTSTART;TZID=America/New_York:20290311T100000
DTEND;TZID=America/New_York:20290311T110000
DTSTAMP:20260423T112457
CREATED:20260105T151557Z
LAST-MODIFIED:20260105T151916Z
UID:10005306-1867917600-1867921200@redeemerpv.com
SUMMARY:Special Nation Praise Service
DESCRIPTION:On the second Sunday of the month\, we have a no-hush service that is put on by our Special Nation ministry and intentionally designed for those affected by disabilities and their families. All are welcome! \nSpecial Praise meets in the Student Auditorium in the Family Center at 10AM. \n 
URL:https://redeemerpv.com/event/special-nation-praise-service-2/2029-03-11/
LOCATION:Redeemer Campus\, 190 S Roscoe Blvd\, Ponte Vedra Beach\, FL\, 32082\, United States
CATEGORIES:Service
ATTACH;FMTTYPE=image/png:https://redeemerpv.com/wp-content/uploads/2024/07/Special-Praise-10am.png
END:VEVENT
BEGIN:VEVENT
DTSTART;TZID=America/New_York:20290408T100000
DTEND;TZID=America/New_York:20290408T110000
DTSTAMP:20260423T112457
CREATED:20260105T151557Z
LAST-MODIFIED:20260105T151916Z
UID:10005307-1870336800-1870340400@redeemerpv.com
SUMMARY:Special Nation Praise Service
DESCRIPTION:On the second Sunday of the month\, we have a no-hush service that is put on by our Special Nation ministry and intentionally designed for those affected by disabilities and their families. All are welcome! \nSpecial Praise meets in the Student Auditorium in the Family Center at 10AM. \n 
URL:https://redeemerpv.com/event/special-nation-praise-service-2/2029-04-08/
LOCATION:Redeemer Campus\, 190 S Roscoe Blvd\, Ponte Vedra Beach\, FL\, 32082\, United States
CATEGORIES:Service
ATTACH;FMTTYPE=image/png:https://redeemerpv.com/wp-content/uploads/2024/07/Special-Praise-10am.png
END:VEVENT
BEGIN:VEVENT
DTSTART;TZID=America/New_York:20290513T100000
DTEND;TZID=America/New_York:20290513T110000
DTSTAMP:20260423T112457
CREATED:20260105T151557Z
LAST-MODIFIED:20260105T151916Z
UID:10005308-1873360800-1873364400@redeemerpv.com
SUMMARY:Special Nation Praise Service
DESCRIPTION:On the second Sunday of the month\, we have a no-hush service that is put on by our Special Nation ministry and intentionally designed for those affected by disabilities and their families. All are welcome! \nSpecial Praise meets in the Student Auditorium in the Family Center at 10AM. \n 
URL:https://redeemerpv.com/event/special-nation-praise-service-2/2029-05-13/
LOCATION:Redeemer Campus\, 190 S Roscoe Blvd\, Ponte Vedra Beach\, FL\, 32082\, United States
CATEGORIES:Service
ATTACH;FMTTYPE=image/png:https://redeemerpv.com/wp-content/uploads/2024/07/Special-Praise-10am.png
END:VEVENT
BEGIN:VEVENT
DTSTART;TZID=America/New_York:20290610T100000
DTEND;TZID=America/New_York:20290610T110000
DTSTAMP:20260423T112457
CREATED:20260105T151557Z
LAST-MODIFIED:20260105T151916Z
UID:10005309-1875780000-1875783600@redeemerpv.com
SUMMARY:Special Nation Praise Service
DESCRIPTION:On the second Sunday of the month\, we have a no-hush service that is put on by our Special Nation ministry and intentionally designed for those affected by disabilities and their families. All are welcome! \nSpecial Praise meets in the Student Auditorium in the Family Center at 10AM. \n 
URL:https://redeemerpv.com/event/special-nation-praise-service-2/2029-06-10/
LOCATION:Redeemer Campus\, 190 S Roscoe Blvd\, Ponte Vedra Beach\, FL\, 32082\, United States
CATEGORIES:Service
ATTACH;FMTTYPE=image/png:https://redeemerpv.com/wp-content/uploads/2024/07/Special-Praise-10am.png
END:VEVENT
BEGIN:VEVENT
DTSTART;TZID=America/New_York:20290708T100000
DTEND;TZID=America/New_York:20290708T110000
DTSTAMP:20260423T112457
CREATED:20260105T151557Z
LAST-MODIFIED:20260105T151916Z
UID:10005310-1878199200-1878202800@redeemerpv.com
SUMMARY:Special Nation Praise Service
DESCRIPTION:On the second Sunday of the month\, we have a no-hush service that is put on by our Special Nation ministry and intentionally designed for those affected by disabilities and their families. All are welcome! \nSpecial Praise meets in the Student Auditorium in the Family Center at 10AM. \n 
URL:https://redeemerpv.com/event/special-nation-praise-service-2/2029-07-08/
LOCATION:Redeemer Campus\, 190 S Roscoe Blvd\, Ponte Vedra Beach\, FL\, 32082\, United States
CATEGORIES:Service
ATTACH;FMTTYPE=image/png:https://redeemerpv.com/wp-content/uploads/2024/07/Special-Praise-10am.png
END:VEVENT
BEGIN:VEVENT
DTSTART;TZID=America/New_York:20290812T100000
DTEND;TZID=America/New_York:20290812T110000
DTSTAMP:20260423T112457
CREATED:20260105T151557Z
LAST-MODIFIED:20260105T151916Z
UID:10005311-1881223200-1881226800@redeemerpv.com
SUMMARY:Special Nation Praise Service
DESCRIPTION:On the second Sunday of the month\, we have a no-hush service that is put on by our Special Nation ministry and intentionally designed for those affected by disabilities and their families. All are welcome! \nSpecial Praise meets in the Student Auditorium in the Family Center at 10AM. \n 
URL:https://redeemerpv.com/event/special-nation-praise-service-2/2029-08-12/
LOCATION:Redeemer Campus\, 190 S Roscoe Blvd\, Ponte Vedra Beach\, FL\, 32082\, United States
CATEGORIES:Service
ATTACH;FMTTYPE=image/png:https://redeemerpv.com/wp-content/uploads/2024/07/Special-Praise-10am.png
END:VEVENT
BEGIN:VEVENT
DTSTART;TZID=America/New_York:20290909T100000
DTEND;TZID=America/New_York:20290909T110000
DTSTAMP:20260423T112457
CREATED:20260105T151557Z
LAST-MODIFIED:20260105T151916Z
UID:10005312-1883642400-1883646000@redeemerpv.com
SUMMARY:Special Nation Praise Service
DESCRIPTION:On the second Sunday of the month\, we have a no-hush service that is put on by our Special Nation ministry and intentionally designed for those affected by disabilities and their families. All are welcome! \nSpecial Praise meets in the Student Auditorium in the Family Center at 10AM. \n 
URL:https://redeemerpv.com/event/special-nation-praise-service-2/2029-09-09/
LOCATION:Redeemer Campus\, 190 S Roscoe Blvd\, Ponte Vedra Beach\, FL\, 32082\, United States
CATEGORIES:Service
ATTACH;FMTTYPE=image/png:https://redeemerpv.com/wp-content/uploads/2024/07/Special-Praise-10am.png
END:VEVENT
BEGIN:VEVENT
DTSTART;TZID=America/New_York:20291014T100000
DTEND;TZID=America/New_York:20291014T110000
DTSTAMP:20260423T112457
CREATED:20260105T151557Z
LAST-MODIFIED:20260105T151916Z
UID:10005313-1886666400-1886670000@redeemerpv.com
SUMMARY:Special Nation Praise Service
DESCRIPTION:On the second Sunday of the month\, we have a no-hush service that is put on by our Special Nation ministry and intentionally designed for those affected by disabilities and their families. All are welcome! \nSpecial Praise meets in the Student Auditorium in the Family Center at 10AM. \n 
URL:https://redeemerpv.com/event/special-nation-praise-service-2/2029-10-14/
LOCATION:Redeemer Campus\, 190 S Roscoe Blvd\, Ponte Vedra Beach\, FL\, 32082\, United States
CATEGORIES:Service
ATTACH;FMTTYPE=image/png:https://redeemerpv.com/wp-content/uploads/2024/07/Special-Praise-10am.png
END:VEVENT
END:VCALENDAR