BEGIN:VCALENDAR
VERSION:2.0
PRODID:-//Redeemer Church - ECPv6.15.20//NONSGML v1.0//EN
CALSCALE:GREGORIAN
METHOD:PUBLISH
X-WR-CALNAME:Redeemer Church
X-ORIGINAL-URL:https://redeemerpv.com
X-WR-CALDESC:Events for Redeemer Church
REFRESH-INTERVAL;VALUE=DURATION:PT1H
X-Robots-Tag:noindex
X-PUBLISHED-TTL:PT1H
BEGIN:VTIMEZONE
TZID:America/New_York
BEGIN:DAYLIGHT
TZOFFSETFROM:-0500
TZOFFSETTO:-0400
TZNAME:EDT
DTSTART:20240310T070000
END:DAYLIGHT
BEGIN:STANDARD
TZOFFSETFROM:-0400
TZOFFSETTO:-0500
TZNAME:EST
DTSTART:20241103T060000
END:STANDARD
BEGIN:DAYLIGHT
TZOFFSETFROM:-0500
TZOFFSETTO:-0400
TZNAME:EDT
DTSTART:20250309T070000
END:DAYLIGHT
BEGIN:STANDARD
TZOFFSETFROM:-0400
TZOFFSETTO:-0500
TZNAME:EST
DTSTART:20251102T060000
END:STANDARD
BEGIN:DAYLIGHT
TZOFFSETFROM:-0500
TZOFFSETTO:-0400
TZNAME:EDT
DTSTART:20260308T070000
END:DAYLIGHT
BEGIN:STANDARD
TZOFFSETFROM:-0400
TZOFFSETTO:-0500
TZNAME:EST
DTSTART:20261101T060000
END:STANDARD
END:VTIMEZONE
BEGIN:VEVENT
DTSTART;TZID=America/New_York:20250903T180000
DTEND;TZID=America/New_York:20250903T200000
DTSTAMP:20260423T201531
CREATED:20250811T175417Z
LAST-MODIFIED:20260305T150239Z
UID:10003841-1756922400-1756929600@redeemerpv.com
SUMMARY:Midweek Gathering
DESCRIPTION:Every Wednesday we offer a variety of classes and activities for the whole family! \nCome at 6pm for a delicious dinner for $5 per person. Then at 6:45pm\, head to rKids (6 months – 5th grade)\, The Rally (students 6-12th grade)\, Special Nation or the Adult Bible teaching (also live-streamed). We can’t wait to see you! \nWatch the livestream at 6:45pm EST on our Youtube channel. \nClick here to join online
URL:https://redeemerpv.com/event/midweek-gathering-2-2/2025-09-03/
LOCATION:Redeemer Campus\, 190 S Roscoe Blvd\, Ponte Vedra Beach\, FL\, 32082\, United States
CATEGORIES:Service
ATTACH;FMTTYPE=image/png:https://redeemerpv.com/wp-content/uploads/2024/06/Midweek-Graphic.png
END:VEVENT
BEGIN:VEVENT
DTSTART;TZID=America/New_York:20250904T103000
DTEND;TZID=America/New_York:20250904T120000
DTSTAMP:20260423T201531
CREATED:20240724T211216Z
LAST-MODIFIED:20240730T225407Z
UID:10001681-1756981800-1756987200@redeemerpv.com
SUMMARY:Joyfully 60+
DESCRIPTION:If you’re 60 years or older\, we would love to have you join us on the 1st Thursday of every month for great fellowship and food. Bring a dish for the potluck lunch and let’s get together! \nWith questions\, email info@redeemerpv.com.
URL:https://redeemerpv.com/event/joyfully-60/2025-09-04/
LOCATION:FL
CATEGORIES:Group
ATTACH;FMTTYPE=image/png:https://redeemerpv.com/wp-content/uploads/2024/07/Joyfully-60-Slide.png
END:VEVENT
BEGIN:VEVENT
DTSTART;TZID=America/New_York:20250907T090000
DTEND;TZID=America/New_York:20250907T101500
DTSTAMP:20260423T201531
CREATED:20240730T230121Z
LAST-MODIFIED:20251222T153156Z
UID:10002322-1757235600-1757240100@redeemerpv.com
SUMMARY:Sunday Morning Service [9:00am]
DESCRIPTION:Join us for our weekly 9am service as we worship God\, learn from His Word\, celebrate communion\, and build relationships with one another! Every Sunday service includes a dynamic Redeemer Kids experience for children ages Birth – 5th grade. \nWith questions as you prepare to visit\, email info@redeemerpv.com. We look forward to meeting you! \n 
URL:https://redeemerpv.com/event/sunday-morning-service-900am/2025-09-07/
LOCATION:Redeemer Campus\, 190 S Roscoe Blvd\, Ponte Vedra Beach\, FL\, 32082\, United States
ATTACH;FMTTYPE=image/png:https://redeemerpv.com/wp-content/uploads/2024/07/Joyfully-60-Slide-1.png
END:VEVENT
BEGIN:VEVENT
DTSTART;TZID=America/New_York:20250907T094500
DTEND;TZID=America/New_York:20250907T104500
DTSTAMP:20260423T201531
CREATED:20250415T152536Z
LAST-MODIFIED:20260226T171644Z
UID:10005332-1757238300-1757241900@redeemerpv.com
SUMMARY:Discover Redeemer
DESCRIPTION:Come discover more about who we are as a church community and explore how you and your family can get better connected at Discover Redeemer! This one-hour class will be held on first Sunday of every month after each morning service. We can’t wait to help you get more connected! \nRSVP \nFirst Sunday of the Month\n9:45-10:45am\, 11:15am-12:15pm\, + 12:45-1:45pm\nLight refreshments will be served.
URL:https://redeemerpv.com/event/discover-redeemer-2/2025-09-07/
LOCATION:Redeemer Campus\, 190 S Roscoe Blvd\, Ponte Vedra Beach\, FL\, 32082\, United States
CATEGORIES:Meeting
ATTACH;FMTTYPE=image/png:https://redeemerpv.com/wp-content/uploads/2025/01/Discover-Redeemer-New-Look.png
END:VEVENT
BEGIN:VEVENT
DTSTART;TZID=America/New_York:20250907T103000
DTEND;TZID=America/New_York:20250907T114500
DTSTAMP:20260423T201531
CREATED:20240730T230411Z
LAST-MODIFIED:20251222T153043Z
UID:10002583-1757241000-1757245500@redeemerpv.com
SUMMARY:Sunday Morning Service [10:30am]
DESCRIPTION:Join us for our weekly 10:30am service as we worship God\, learn from His Word\, celebrate communion\, and build relationships with one another! Every Sunday service includes a dynamic Redeemer Kids experience for children ages Birth – 5th grade. \nWith questions as you prepare to visit\, email info@redeemerpv.com. \nThis service is offered on campus and live online. Click below to join the livestream at 10:30am EST! \nJOIN US ONLINE!
URL:https://redeemerpv.com/event/sunday-morning-service-1030am/2025-09-07/
LOCATION:Redeemer Campus\, 190 S Roscoe Blvd\, Ponte Vedra Beach\, FL\, 32082\, United States
ATTACH;FMTTYPE=image/png:https://redeemerpv.com/wp-content/uploads/2024/07/Joyfully-60-Slide-1.png
END:VEVENT
BEGIN:VEVENT
DTSTART;TZID=America/New_York:20250910T093000
DTEND;TZID=America/New_York:20250910T110000
DTSTAMP:20260423T201531
CREATED:20250617T151840Z
LAST-MODIFIED:20260111T170131Z
UID:10003780-1757496600-1757502000@redeemerpv.com
SUMMARY:MomCo Gathering
DESCRIPTION:Motherhood is complicated. Mom friends help! \nMomCo encourages and equips moms to realize their potential as mothers\, women and leaders\, in relationship with Jesus\, and in partnership with the local church. We believe in supporting moms through life-giving community. \nMomCo meets the second and fourth Wednesday of the month from 9:30-11AM at Redeemer Church. Click below for more information or to register! \nMORE INFO + REGISTER
URL:https://redeemerpv.com/event/momco-gathering-4/2025-09-10/
LOCATION:Redeemer Campus\, 190 S Roscoe Blvd\, Ponte Vedra Beach\, FL\, 32082\, United States
CATEGORIES:Group
ATTACH;FMTTYPE=image/png:https://redeemerpv.com/wp-content/uploads/2024/07/MomCo-General-Graphic-.png
END:VEVENT
BEGIN:VEVENT
DTSTART;TZID=America/New_York:20250910T180000
DTEND;TZID=America/New_York:20250910T200000
DTSTAMP:20260423T201531
CREATED:20250811T175417Z
LAST-MODIFIED:20260305T150239Z
UID:10003842-1757527200-1757534400@redeemerpv.com
SUMMARY:Midweek Gathering
DESCRIPTION:Every Wednesday we offer a variety of classes and activities for the whole family! \nCome at 6pm for a delicious dinner for $5 per person. Then at 6:45pm\, head to rKids (6 months – 5th grade)\, The Rally (students 6-12th grade)\, Special Nation or the Adult Bible teaching (also live-streamed). We can’t wait to see you! \nWatch the livestream at 6:45pm EST on our Youtube channel. \nClick here to join online
URL:https://redeemerpv.com/event/midweek-gathering-2-2/2025-09-10/
LOCATION:Redeemer Campus\, 190 S Roscoe Blvd\, Ponte Vedra Beach\, FL\, 32082\, United States
CATEGORIES:Service
ATTACH;FMTTYPE=image/png:https://redeemerpv.com/wp-content/uploads/2024/06/Midweek-Graphic.png
END:VEVENT
BEGIN:VEVENT
DTSTART;TZID=America/New_York:20250914T090000
DTEND;TZID=America/New_York:20250914T101500
DTSTAMP:20260423T201531
CREATED:20240730T230121Z
LAST-MODIFIED:20251222T153156Z
UID:10002323-1757840400-1757844900@redeemerpv.com
SUMMARY:Sunday Morning Service [9:00am]
DESCRIPTION:Join us for our weekly 9am service as we worship God\, learn from His Word\, celebrate communion\, and build relationships with one another! Every Sunday service includes a dynamic Redeemer Kids experience for children ages Birth – 5th grade. \nWith questions as you prepare to visit\, email info@redeemerpv.com. We look forward to meeting you! \n 
URL:https://redeemerpv.com/event/sunday-morning-service-900am/2025-09-14/
LOCATION:Redeemer Campus\, 190 S Roscoe Blvd\, Ponte Vedra Beach\, FL\, 32082\, United States
ATTACH;FMTTYPE=image/png:https://redeemerpv.com/wp-content/uploads/2024/07/Joyfully-60-Slide-1.png
END:VEVENT
BEGIN:VEVENT
DTSTART;TZID=America/New_York:20250914T103000
DTEND;TZID=America/New_York:20250914T113000
DTSTAMP:20260423T201531
CREATED:20240724T211950Z
LAST-MODIFIED:20250326T155429Z
UID:10001380-1757845800-1757849400@redeemerpv.com
SUMMARY:Special Nation Praise Service
DESCRIPTION:On the second Sunday of the month\, we have a no-hush service that is put on by our Special Nation ministry and intentionally designed for those affected by disabilities and their families. All are welcome! \nSpecial Praise meets in the Student Auditorium in the Family Center at 10:30AM. \n 
URL:https://redeemerpv.com/event/special-nation-praise-service/2025-09-14/
LOCATION:Redeemer Campus\, 190 S Roscoe Blvd\, Ponte Vedra Beach\, FL\, 32082\, United States
CATEGORIES:Service
ATTACH;FMTTYPE=image/png:https://redeemerpv.com/wp-content/uploads/2024/07/Special-Praise-Service-2024-750-×-422-px.png
END:VEVENT
BEGIN:VEVENT
DTSTART;TZID=America/New_York:20250914T103000
DTEND;TZID=America/New_York:20250914T114500
DTSTAMP:20260423T201531
CREATED:20240730T230411Z
LAST-MODIFIED:20251222T153043Z
UID:10002584-1757845800-1757850300@redeemerpv.com
SUMMARY:Sunday Morning Service [10:30am]
DESCRIPTION:Join us for our weekly 10:30am service as we worship God\, learn from His Word\, celebrate communion\, and build relationships with one another! Every Sunday service includes a dynamic Redeemer Kids experience for children ages Birth – 5th grade. \nWith questions as you prepare to visit\, email info@redeemerpv.com. \nThis service is offered on campus and live online. Click below to join the livestream at 10:30am EST! \nJOIN US ONLINE!
URL:https://redeemerpv.com/event/sunday-morning-service-1030am/2025-09-14/
LOCATION:Redeemer Campus\, 190 S Roscoe Blvd\, Ponte Vedra Beach\, FL\, 32082\, United States
ATTACH;FMTTYPE=image/png:https://redeemerpv.com/wp-content/uploads/2024/07/Joyfully-60-Slide-1.png
END:VEVENT
BEGIN:VEVENT
DTSTART;TZID=America/New_York:20250917T180000
DTEND;TZID=America/New_York:20250917T200000
DTSTAMP:20260423T201531
CREATED:20250811T175417Z
LAST-MODIFIED:20260305T150239Z
UID:10003843-1758132000-1758139200@redeemerpv.com
SUMMARY:Midweek Gathering
DESCRIPTION:Every Wednesday we offer a variety of classes and activities for the whole family! \nCome at 6pm for a delicious dinner for $5 per person. Then at 6:45pm\, head to rKids (6 months – 5th grade)\, The Rally (students 6-12th grade)\, Special Nation or the Adult Bible teaching (also live-streamed). We can’t wait to see you! \nWatch the livestream at 6:45pm EST on our Youtube channel. \nClick here to join online
URL:https://redeemerpv.com/event/midweek-gathering-2-2/2025-09-17/
LOCATION:Redeemer Campus\, 190 S Roscoe Blvd\, Ponte Vedra Beach\, FL\, 32082\, United States
CATEGORIES:Service
ATTACH;FMTTYPE=image/png:https://redeemerpv.com/wp-content/uploads/2024/06/Midweek-Graphic.png
END:VEVENT
BEGIN:VEVENT
DTSTART;TZID=America/New_York:20250920T100000
DTEND;TZID=America/New_York:20250920T130000
DTSTAMP:20260423T201531
CREATED:20240724T212412Z
LAST-MODIFIED:20240805T191756Z
UID:10001440-1758362400-1758373200@redeemerpv.com
SUMMARY:Nocatee Farmers Market Outreach
DESCRIPTION:Come represent Redeemer Church with our team on the third Saturday of every month at the Nocatee Farmer’s Market! We have a blast playing with kids\, praying for people\, and inviting families to visit us at Redeemer. Join us for the fun from 10AM-1PM! \nSIGN UP TO SERVE
URL:https://redeemerpv.com/event/nocatee-farmers-market-outreach/2025-09-20/
LOCATION:Redeemer Campus\, 190 S Roscoe Blvd\, Ponte Vedra Beach\, FL\, 32082\, United States
CATEGORIES:Outreach
ATTACH;FMTTYPE=image/png:https://redeemerpv.com/wp-content/uploads/2024/07/Farmers-Market-Graphic-750-x-422-px.png
END:VEVENT
BEGIN:VEVENT
DTSTART;TZID=America/New_York:20250921T090000
DTEND;TZID=America/New_York:20250921T101500
DTSTAMP:20260423T201531
CREATED:20240730T230121Z
LAST-MODIFIED:20251222T153156Z
UID:10002324-1758445200-1758449700@redeemerpv.com
SUMMARY:Sunday Morning Service [9:00am]
DESCRIPTION:Join us for our weekly 9am service as we worship God\, learn from His Word\, celebrate communion\, and build relationships with one another! Every Sunday service includes a dynamic Redeemer Kids experience for children ages Birth – 5th grade. \nWith questions as you prepare to visit\, email info@redeemerpv.com. We look forward to meeting you! \n 
URL:https://redeemerpv.com/event/sunday-morning-service-900am/2025-09-21/
LOCATION:Redeemer Campus\, 190 S Roscoe Blvd\, Ponte Vedra Beach\, FL\, 32082\, United States
ATTACH;FMTTYPE=image/png:https://redeemerpv.com/wp-content/uploads/2024/07/Joyfully-60-Slide-1.png
END:VEVENT
BEGIN:VEVENT
DTSTART;TZID=America/New_York:20250921T103000
DTEND;TZID=America/New_York:20250921T114500
DTSTAMP:20260423T201531
CREATED:20240730T230411Z
LAST-MODIFIED:20251222T153043Z
UID:10002585-1758450600-1758455100@redeemerpv.com
SUMMARY:Sunday Morning Service [10:30am]
DESCRIPTION:Join us for our weekly 10:30am service as we worship God\, learn from His Word\, celebrate communion\, and build relationships with one another! Every Sunday service includes a dynamic Redeemer Kids experience for children ages Birth – 5th grade. \nWith questions as you prepare to visit\, email info@redeemerpv.com. \nThis service is offered on campus and live online. Click below to join the livestream at 10:30am EST! \nJOIN US ONLINE!
URL:https://redeemerpv.com/event/sunday-morning-service-1030am/2025-09-21/
LOCATION:Redeemer Campus\, 190 S Roscoe Blvd\, Ponte Vedra Beach\, FL\, 32082\, United States
ATTACH;FMTTYPE=image/png:https://redeemerpv.com/wp-content/uploads/2024/07/Joyfully-60-Slide-1.png
END:VEVENT
BEGIN:VEVENT
DTSTART;TZID=America/New_York:20250924T093000
DTEND;TZID=America/New_York:20250924T110000
DTSTAMP:20260423T201531
CREATED:20250806T175137Z
LAST-MODIFIED:20260111T170203Z
UID:10003721-1758706200-1758711600@redeemerpv.com
SUMMARY:MomCo Gathering
DESCRIPTION:Motherhood is complicated. Mom friends help! \nMomCo encourages and equips moms to realize their potential as mothers\, women and leaders\, in relationship with Jesus\, and in partnership with the local church. We believe in supporting moms through life-giving community. \nMomCo meets the second and fourth Wednesday of the month from 9:30-11AM at Redeemer Church. Click below for more information or to register! \nMORE INFO + REGISTER
URL:https://redeemerpv.com/event/momco-gathering-3/2025-09-24/
LOCATION:Redeemer Campus\, 190 S Roscoe Blvd\, Ponte Vedra Beach\, FL\, 32082\, United States
CATEGORIES:Group
ATTACH;FMTTYPE=image/png:https://redeemerpv.com/wp-content/uploads/2024/07/MomCo-General-Graphic-.png
END:VEVENT
BEGIN:VEVENT
DTSTART;TZID=America/New_York:20250924T180000
DTEND;TZID=America/New_York:20250924T200000
DTSTAMP:20260423T201531
CREATED:20250811T175417Z
LAST-MODIFIED:20260305T150239Z
UID:10003844-1758736800-1758744000@redeemerpv.com
SUMMARY:Midweek Gathering
DESCRIPTION:Every Wednesday we offer a variety of classes and activities for the whole family! \nCome at 6pm for a delicious dinner for $5 per person. Then at 6:45pm\, head to rKids (6 months – 5th grade)\, The Rally (students 6-12th grade)\, Special Nation or the Adult Bible teaching (also live-streamed). We can’t wait to see you! \nWatch the livestream at 6:45pm EST on our Youtube channel. \nClick here to join online
URL:https://redeemerpv.com/event/midweek-gathering-2-2/2025-09-24/
LOCATION:Redeemer Campus\, 190 S Roscoe Blvd\, Ponte Vedra Beach\, FL\, 32082\, United States
CATEGORIES:Service
ATTACH;FMTTYPE=image/png:https://redeemerpv.com/wp-content/uploads/2024/06/Midweek-Graphic.png
END:VEVENT
BEGIN:VEVENT
DTSTART;TZID=America/New_York:20250926T180000
DTEND;TZID=America/New_York:20250926T203000
DTSTAMP:20260423T201531
CREATED:20250908T154058Z
LAST-MODIFIED:20250922T162810Z
UID:10004099-1758909600-1758918600@redeemerpv.com
SUMMARY:Missions Night
DESCRIPTION:Friday\, September 26th at 6PM \nSave the date for our 2025 Missions Night! Come and meet many of the missionaries we support\, enjoy an international dinner\, and catch the vision for missions. Make plans to bring the whole family to this free event! \nPre-Regsiter for rKids Care
URL:https://redeemerpv.com/event/missions-night/
LOCATION:Redeemer Campus\, 190 S Roscoe Blvd\, Ponte Vedra Beach\, FL\, 32082\, United States
CATEGORIES:Service
ATTACH;FMTTYPE=image/png:https://redeemerpv.com/wp-content/uploads/2025/09/TGI-Missions-Night-Graphic.png
END:VEVENT
BEGIN:VEVENT
DTSTART;TZID=America/New_York:20250928T090000
DTEND;TZID=America/New_York:20250928T101500
DTSTAMP:20260423T201531
CREATED:20240730T230121Z
LAST-MODIFIED:20251222T153156Z
UID:10002325-1759050000-1759054500@redeemerpv.com
SUMMARY:Sunday Morning Service [9:00am]
DESCRIPTION:Join us for our weekly 9am service as we worship God\, learn from His Word\, celebrate communion\, and build relationships with one another! Every Sunday service includes a dynamic Redeemer Kids experience for children ages Birth – 5th grade. \nWith questions as you prepare to visit\, email info@redeemerpv.com. We look forward to meeting you! \n 
URL:https://redeemerpv.com/event/sunday-morning-service-900am/2025-09-28/
LOCATION:Redeemer Campus\, 190 S Roscoe Blvd\, Ponte Vedra Beach\, FL\, 32082\, United States
ATTACH;FMTTYPE=image/png:https://redeemerpv.com/wp-content/uploads/2024/07/Joyfully-60-Slide-1.png
END:VEVENT
BEGIN:VEVENT
DTSTART;TZID=America/New_York:20250928T103000
DTEND;TZID=America/New_York:20250928T114500
DTSTAMP:20260423T201531
CREATED:20240730T230411Z
LAST-MODIFIED:20251222T153043Z
UID:10002586-1759055400-1759059900@redeemerpv.com
SUMMARY:Sunday Morning Service [10:30am]
DESCRIPTION:Join us for our weekly 10:30am service as we worship God\, learn from His Word\, celebrate communion\, and build relationships with one another! Every Sunday service includes a dynamic Redeemer Kids experience for children ages Birth – 5th grade. \nWith questions as you prepare to visit\, email info@redeemerpv.com. \nThis service is offered on campus and live online. Click below to join the livestream at 10:30am EST! \nJOIN US ONLINE!
URL:https://redeemerpv.com/event/sunday-morning-service-1030am/2025-09-28/
LOCATION:Redeemer Campus\, 190 S Roscoe Blvd\, Ponte Vedra Beach\, FL\, 32082\, United States
ATTACH;FMTTYPE=image/png:https://redeemerpv.com/wp-content/uploads/2024/07/Joyfully-60-Slide-1.png
END:VEVENT
END:VCALENDAR