BEGIN:VCALENDAR
VERSION:2.0
PRODID:-//Redeemer Church - ECPv6.15.20//NONSGML v1.0//EN
CALSCALE:GREGORIAN
METHOD:PUBLISH
X-ORIGINAL-URL:https://redeemerpv.com
X-WR-CALDESC:Events for Redeemer Church
REFRESH-INTERVAL;VALUE=DURATION:PT1H
X-Robots-Tag:noindex
X-PUBLISHED-TTL:PT1H
BEGIN:VTIMEZONE
TZID:America/New_York
BEGIN:DAYLIGHT
TZOFFSETFROM:-0500
TZOFFSETTO:-0400
TZNAME:EDT
DTSTART:20240310T070000
END:DAYLIGHT
BEGIN:STANDARD
TZOFFSETFROM:-0400
TZOFFSETTO:-0500
TZNAME:EST
DTSTART:20241103T060000
END:STANDARD
BEGIN:DAYLIGHT
TZOFFSETFROM:-0500
TZOFFSETTO:-0400
TZNAME:EDT
DTSTART:20250309T070000
END:DAYLIGHT
BEGIN:STANDARD
TZOFFSETFROM:-0400
TZOFFSETTO:-0500
TZNAME:EST
DTSTART:20251102T060000
END:STANDARD
BEGIN:DAYLIGHT
TZOFFSETFROM:-0500
TZOFFSETTO:-0400
TZNAME:EDT
DTSTART:20260308T070000
END:DAYLIGHT
BEGIN:STANDARD
TZOFFSETFROM:-0400
TZOFFSETTO:-0500
TZNAME:EST
DTSTART:20261101T060000
END:STANDARD
END:VTIMEZONE
BEGIN:VEVENT
DTSTART;TZID=America/New_York:20250416T183000
DTEND;TZID=America/New_York:20250416T203000
DTSTAMP:20260424T111954
CREATED:20240724T204140Z
LAST-MODIFIED:20240725T192436Z
UID:10000301-1744828200-1744835400@redeemerpv.com
SUMMARY:Midweek Gathering
DESCRIPTION:Every Wednesday we offer a variety of classes and activities for the whole family! \nCome at 6:30pm for a time of community and a delicious dinner for $5 per person. Then at 7:15pm\, head to rKids (6 weeks – 5th grade)\, The Rally (students 6-12th grade)\, Special Nation or the Adult Bible teaching (also live-streamed). We can’t wait to see you! \n  \nWatch the live-stream at 7:15pm \nLivestream
URL:https://redeemerpv.com/event/midweek-gathering/2025-04-16/
LOCATION:Redeemer Campus\, 190 S Roscoe Blvd\, Ponte Vedra Beach\, FL\, 32082\, United States
CATEGORIES:Service
ATTACH;FMTTYPE=image/png:https://redeemerpv.com/wp-content/uploads/2024/06/Midweek-Graphic.png
END:VEVENT
BEGIN:VEVENT
DTSTART;TZID=America/New_York:20250417T083000
DTEND;TZID=America/New_York:20250417T090000
DTSTAMP:20260424T111954
CREATED:20250217T151401Z
LAST-MODIFIED:20250226T153228Z
UID:10003422-1744878600-1744880400@redeemerpv.com
SUMMARY:Lent Morning Prayer
DESCRIPTION:March 5th – April 17th | 8:30-9am \nJoin us on campus or on our YouTube channel at 8:30AM for a time of guided prayer. We can’t wait to see how God uses this time to speak to us during this Lent season! \nClick to join us online or view the digital prayer guide. \nWATCH LIVE ONLINE \nDIGITAL PRAYER GUIDE \n 
URL:https://redeemerpv.com/event/ash-wednesday/2025-04-17/
LOCATION:Redeemer Campus\, 190 S Roscoe Blvd\, Ponte Vedra Beach\, FL\, 32082\, United States
CATEGORIES:Service
ATTACH;FMTTYPE=image/png:https://redeemerpv.com/wp-content/uploads/2025/02/Lent-Morning-Prayer-Graphic-2025.png
END:VEVENT
BEGIN:VEVENT
DTSTART;TZID=America/New_York:20250417T190000
DTEND;TZID=America/New_York:20250417T203000
DTSTAMP:20260424T111954
CREATED:20250326T162750Z
LAST-MODIFIED:20250401T173822Z
UID:10003514-1744916400-1744921800@redeemerpv.com
SUMMARY:Maundy Thursday Service
DESCRIPTION:Maundy is a word that means “command”. This is the day in John 13 when Jesus celebrates Passover with His disciples. In this moment He demonstrates humility and gives then a “new commandment”. Join us on campus for a special foot washing service on April 17th at 7pm. Reserve rKids Care for 6 weeks-Kindergarten by clicking below. \nIf you aren’t able to join us for this service in person\, click the video below to reflect with us on this important day. \nMaundy Thursday Reflection \nRESERVE rKIDS CARE
URL:https://redeemerpv.com/event/maundy-thursday/
LOCATION:Redeemer Campus\, 190 S Roscoe Blvd\, Ponte Vedra Beach\, FL\, 32082\, United States
CATEGORIES:Service
ATTACH;FMTTYPE=image/png:https://redeemerpv.com/wp-content/uploads/2025/03/Maundy-Thursday-2025.png
END:VEVENT
BEGIN:VEVENT
DTSTART;TZID=America/New_York:20250418T190000
DTEND;TZID=America/New_York:20250418T203000
DTSTAMP:20260424T111954
CREATED:20250326T163107Z
LAST-MODIFIED:20250401T174343Z
UID:10003515-1745002800-1745008200@redeemerpv.com
SUMMARY:Good Friday Service
DESCRIPTION:Join us on campus or on our YouTube channel at 7PM for a time of remembrance as we walk through the Seven Last Sayings of Christ before His final breath on the cross. Reserve rKids Care for 6 weeks-5th grade by clicking below. \nRESERVE rKIDS CARE\nJOIN LIVE AT 7PM
URL:https://redeemerpv.com/event/good-friday/
LOCATION:Redeemer Campus\, 190 S Roscoe Blvd\, Ponte Vedra Beach\, FL\, 32082\, United States
ATTACH;FMTTYPE=image/png:https://redeemerpv.com/wp-content/uploads/2025/03/Good-Friday-2025.png
END:VEVENT
BEGIN:VEVENT
DTSTART;TZID=America/New_York:20250419T100000
DTEND;TZID=America/New_York:20250419T130000
DTSTAMP:20260424T111954
CREATED:20240724T212412Z
LAST-MODIFIED:20240805T191756Z
UID:10001435-1745056800-1745067600@redeemerpv.com
SUMMARY:Nocatee Farmers Market Outreach
DESCRIPTION:Come represent Redeemer Church with our team on the third Saturday of every month at the Nocatee Farmer’s Market! We have a blast playing with kids\, praying for people\, and inviting families to visit us at Redeemer. Join us for the fun from 10AM-1PM! \nSIGN UP TO SERVE
URL:https://redeemerpv.com/event/nocatee-farmers-market-outreach/2025-04-19/
LOCATION:Redeemer Campus\, 190 S Roscoe Blvd\, Ponte Vedra Beach\, FL\, 32082\, United States
CATEGORIES:Outreach
ATTACH;FMTTYPE=image/png:https://redeemerpv.com/wp-content/uploads/2024/07/Farmers-Market-Graphic-750-x-422-px.png
END:VEVENT
BEGIN:VEVENT
DTSTART;TZID=America/New_York:20250420T064500
DTEND;TZID=America/New_York:20250420T074500
DTSTAMP:20260424T111954
CREATED:20250326T160808Z
LAST-MODIFIED:20250326T161854Z
UID:10003436-1745131500-1745135100@redeemerpv.com
SUMMARY:Easter Sunday
DESCRIPTION:Celebrate the triumph of Jesus over sin\, death\, and the grave this Easter Sunday at Redeemer! \nSUNDAY TIMES:\n6:45am – Outdoor Sunrise Service\n8:30\, *10:00\, 11:30am – Worship Services\n10am – Special Nation Service \n*The 10am service will be live-streamed on Redeemer’s YouTube channel. \nJOIN LIVE AT 10AM EST
URL:https://redeemerpv.com/event/easter-sunday/2025-04-20/1/
LOCATION:Redeemer Campus\, 190 S Roscoe Blvd\, Ponte Vedra Beach\, FL\, 32082\, United States
CATEGORIES:Service
ATTACH;FMTTYPE=image/png:https://redeemerpv.com/wp-content/uploads/2025/03/Easter-2025.png
END:VEVENT
BEGIN:VEVENT
DTSTART;TZID=America/New_York:20250420T083000
DTEND;TZID=America/New_York:20250420T094500
DTSTAMP:20260424T111954
CREATED:20250326T160808Z
LAST-MODIFIED:20250326T161854Z
UID:10003437-1745137800-1745142300@redeemerpv.com
SUMMARY:Easter Sunday
DESCRIPTION:Celebrate the triumph of Jesus over sin\, death\, and the grave this Easter Sunday at Redeemer! \nSUNDAY TIMES:\n6:45am – Outdoor Sunrise Service\n8:30\, *10:00\, 11:30am – Worship Services\n10am – Special Nation Service \n*The 10am service will be live-streamed on Redeemer’s YouTube channel. \nJOIN LIVE AT 10AM EST
URL:https://redeemerpv.com/event/easter-sunday/2025-04-20/2/
LOCATION:Redeemer Campus\, 190 S Roscoe Blvd\, Ponte Vedra Beach\, FL\, 32082\, United States
CATEGORIES:Service
ATTACH;FMTTYPE=image/png:https://redeemerpv.com/wp-content/uploads/2025/03/Easter-2025.png
END:VEVENT
BEGIN:VEVENT
DTSTART;TZID=America/New_York:20250420T100000
DTEND;TZID=America/New_York:20250420T111500
DTSTAMP:20260424T111954
CREATED:20250326T160808Z
LAST-MODIFIED:20250326T161854Z
UID:10003438-1745143200-1745147700@redeemerpv.com
SUMMARY:Easter Sunday
DESCRIPTION:Celebrate the triumph of Jesus over sin\, death\, and the grave this Easter Sunday at Redeemer! \nSUNDAY TIMES:\n6:45am – Outdoor Sunrise Service\n8:30\, *10:00\, 11:30am – Worship Services\n10am – Special Nation Service \n*The 10am service will be live-streamed on Redeemer’s YouTube channel. \nJOIN LIVE AT 10AM EST
URL:https://redeemerpv.com/event/easter-sunday/2025-04-20/3/
LOCATION:Redeemer Campus\, 190 S Roscoe Blvd\, Ponte Vedra Beach\, FL\, 32082\, United States
CATEGORIES:Service
ATTACH;FMTTYPE=image/png:https://redeemerpv.com/wp-content/uploads/2025/03/Easter-2025.png
END:VEVENT
BEGIN:VEVENT
DTSTART;TZID=America/New_York:20250420T113000
DTEND;TZID=America/New_York:20250420T124500
DTSTAMP:20260424T111954
CREATED:20250326T160808Z
LAST-MODIFIED:20250326T161854Z
UID:10003439-1745148600-1745153100@redeemerpv.com
SUMMARY:Easter Sunday
DESCRIPTION:Celebrate the triumph of Jesus over sin\, death\, and the grave this Easter Sunday at Redeemer! \nSUNDAY TIMES:\n6:45am – Outdoor Sunrise Service\n8:30\, *10:00\, 11:30am – Worship Services\n10am – Special Nation Service \n*The 10am service will be live-streamed on Redeemer’s YouTube channel. \nJOIN LIVE AT 10AM EST
URL:https://redeemerpv.com/event/easter-sunday/2025-04-20/4/
LOCATION:Redeemer Campus\, 190 S Roscoe Blvd\, Ponte Vedra Beach\, FL\, 32082\, United States
CATEGORIES:Service
ATTACH;FMTTYPE=image/png:https://redeemerpv.com/wp-content/uploads/2025/03/Easter-2025.png
END:VEVENT
BEGIN:VEVENT
DTSTART;TZID=America/New_York:20250423T183000
DTEND;TZID=America/New_York:20250423T203000
DTSTAMP:20260424T111954
CREATED:20240724T204140Z
LAST-MODIFIED:20240725T192436Z
UID:10000302-1745433000-1745440200@redeemerpv.com
SUMMARY:Midweek Gathering
DESCRIPTION:Every Wednesday we offer a variety of classes and activities for the whole family! \nCome at 6:30pm for a time of community and a delicious dinner for $5 per person. Then at 7:15pm\, head to rKids (6 weeks – 5th grade)\, The Rally (students 6-12th grade)\, Special Nation or the Adult Bible teaching (also live-streamed). We can’t wait to see you! \n  \nWatch the live-stream at 7:15pm \nLivestream
URL:https://redeemerpv.com/event/midweek-gathering/2025-04-23/
LOCATION:Redeemer Campus\, 190 S Roscoe Blvd\, Ponte Vedra Beach\, FL\, 32082\, United States
CATEGORIES:Service
ATTACH;FMTTYPE=image/png:https://redeemerpv.com/wp-content/uploads/2024/06/Midweek-Graphic.png
END:VEVENT
BEGIN:VEVENT
DTSTART;TZID=America/New_York:20250427T090000
DTEND;TZID=America/New_York:20250427T101500
DTSTAMP:20260424T111954
CREATED:20240730T230121Z
LAST-MODIFIED:20251222T153156Z
UID:10002303-1745744400-1745748900@redeemerpv.com
SUMMARY:Sunday Morning Service [9:00am]
DESCRIPTION:Join us for our weekly 9am service as we worship God\, learn from His Word\, celebrate communion\, and build relationships with one another! Every Sunday service includes a dynamic Redeemer Kids experience for children ages Birth – 5th grade. \nWith questions as you prepare to visit\, email info@redeemerpv.com. We look forward to meeting you! \n 
URL:https://redeemerpv.com/event/sunday-morning-service-900am/2025-04-27/
LOCATION:Redeemer Campus\, 190 S Roscoe Blvd\, Ponte Vedra Beach\, FL\, 32082\, United States
ATTACH;FMTTYPE=image/png:https://redeemerpv.com/wp-content/uploads/2024/07/Joyfully-60-Slide-1.png
END:VEVENT
BEGIN:VEVENT
DTSTART;TZID=America/New_York:20250427T090000
DTEND;TZID=America/New_York:20250427T101500
DTSTAMP:20260424T111954
CREATED:20250401T172639Z
LAST-MODIFIED:20250401T172639Z
UID:10003516-1745744400-1745748900@redeemerpv.com
SUMMARY:Baptism Sunday
DESCRIPTION:If you’re ready to publicly declare your faith in Jesus through water baptism\, we would love to help you take that next step! We will be having baptims during both our 9am + 10:30am Sunday services on April 27th. Sign up today using the button below! \nI WANT TO BE BAPTIZED
URL:https://redeemerpv.com/event/baptism-sunday/2025-04-27/1/
LOCATION:Redeemer Campus\, 190 S Roscoe Blvd\, Ponte Vedra Beach\, FL\, 32082\, United States
CATEGORIES:Service
ATTACH;FMTTYPE=image/png:https://redeemerpv.com/wp-content/uploads/2025/04/Baptism-Sunday-Graphic-04-27-25.png
END:VEVENT
BEGIN:VEVENT
DTSTART;TZID=America/New_York:20250427T103000
DTEND;TZID=America/New_York:20250427T114500
DTSTAMP:20260424T111954
CREATED:20240730T230411Z
LAST-MODIFIED:20251222T153043Z
UID:10002564-1745749800-1745754300@redeemerpv.com
SUMMARY:Sunday Morning Service [10:30am]
DESCRIPTION:Join us for our weekly 10:30am service as we worship God\, learn from His Word\, celebrate communion\, and build relationships with one another! Every Sunday service includes a dynamic Redeemer Kids experience for children ages Birth – 5th grade. \nWith questions as you prepare to visit\, email info@redeemerpv.com. \nThis service is offered on campus and live online. Click below to join the livestream at 10:30am EST! \nJOIN US ONLINE!
URL:https://redeemerpv.com/event/sunday-morning-service-1030am/2025-04-27/
LOCATION:Redeemer Campus\, 190 S Roscoe Blvd\, Ponte Vedra Beach\, FL\, 32082\, United States
ATTACH;FMTTYPE=image/png:https://redeemerpv.com/wp-content/uploads/2024/07/Joyfully-60-Slide-1.png
END:VEVENT
BEGIN:VEVENT
DTSTART;TZID=America/New_York:20250427T103000
DTEND;TZID=America/New_York:20250427T120000
DTSTAMP:20260424T111954
CREATED:20250401T172639Z
LAST-MODIFIED:20250401T172639Z
UID:10003517-1745749800-1745755200@redeemerpv.com
SUMMARY:Baptism Sunday
DESCRIPTION:If you’re ready to publicly declare your faith in Jesus through water baptism\, we would love to help you take that next step! We will be having baptims during both our 9am + 10:30am Sunday services on April 27th. Sign up today using the button below! \nI WANT TO BE BAPTIZED
URL:https://redeemerpv.com/event/baptism-sunday/2025-04-27/2/
LOCATION:Redeemer Campus\, 190 S Roscoe Blvd\, Ponte Vedra Beach\, FL\, 32082\, United States
CATEGORIES:Service
ATTACH;FMTTYPE=image/png:https://redeemerpv.com/wp-content/uploads/2025/04/Baptism-Sunday-Graphic-04-27-25.png
END:VEVENT
BEGIN:VEVENT
DTSTART;TZID=America/New_York:20250430T183000
DTEND;TZID=America/New_York:20250430T203000
DTSTAMP:20260424T111954
CREATED:20250430T234349Z
LAST-MODIFIED:20250430T234351Z
UID:10000303-1746037800-1746045000@redeemerpv.com
SUMMARY:Midweek Gathering
DESCRIPTION:Every Wednesday we offer a variety of classes and activities for the whole family! \nCome at 6:30pm for a delicious dinner for $5 per person. Then at 7:15pm\, head to rKids (6 weeks – 5th grade)\, The Rally (students 6-12th grade)\, Special Nation or the Adult Bible teaching (also live-streamed). We can’t wait to see you! \nWatch the livestream at 7:15pm EST on our Youtube channel. \nClick here to join online
URL:https://redeemerpv.com/event/midweek-gathering-2/2025-04-30/
LOCATION:Redeemer Campus\, 190 S Roscoe Blvd\, Ponte Vedra Beach\, FL\, 32082\, United States
CATEGORIES:Service
ATTACH;FMTTYPE=image/png:https://redeemerpv.com/wp-content/uploads/2024/06/Midweek-Graphic.png
END:VEVENT
BEGIN:VEVENT
DTSTART;TZID=America/New_York:20250501T103000
DTEND;TZID=America/New_York:20250501T120000
DTSTAMP:20260424T111954
CREATED:20240724T211216Z
LAST-MODIFIED:20240730T225407Z
UID:10001677-1746095400-1746100800@redeemerpv.com
SUMMARY:Joyfully 60+
DESCRIPTION:If you’re 60 years or older\, we would love to have you join us on the 1st Thursday of every month for great fellowship and food. Bring a dish for the potluck lunch and let’s get together! \nWith questions\, email info@redeemerpv.com.
URL:https://redeemerpv.com/event/joyfully-60/2025-05-01/
LOCATION:FL
CATEGORIES:Group
ATTACH;FMTTYPE=image/png:https://redeemerpv.com/wp-content/uploads/2024/07/Joyfully-60-Slide.png
END:VEVENT
BEGIN:VEVENT
DTSTART;TZID=America/New_York:20250504T090000
DTEND;TZID=America/New_York:20250504T101500
DTSTAMP:20260424T111954
CREATED:20240730T230121Z
LAST-MODIFIED:20251222T153156Z
UID:10002304-1746349200-1746353700@redeemerpv.com
SUMMARY:Sunday Morning Service [9:00am]
DESCRIPTION:Join us for our weekly 9am service as we worship God\, learn from His Word\, celebrate communion\, and build relationships with one another! Every Sunday service includes a dynamic Redeemer Kids experience for children ages Birth – 5th grade. \nWith questions as you prepare to visit\, email info@redeemerpv.com. We look forward to meeting you! \n 
URL:https://redeemerpv.com/event/sunday-morning-service-900am/2025-05-04/
LOCATION:Redeemer Campus\, 190 S Roscoe Blvd\, Ponte Vedra Beach\, FL\, 32082\, United States
ATTACH;FMTTYPE=image/png:https://redeemerpv.com/wp-content/uploads/2024/07/Joyfully-60-Slide-1.png
END:VEVENT
BEGIN:VEVENT
DTSTART;TZID=America/New_York:20250504T094500
DTEND;TZID=America/New_York:20250504T104500
DTSTAMP:20260424T111954
CREATED:20250415T152536Z
LAST-MODIFIED:20260226T171644Z
UID:10005328-1746351900-1746355500@redeemerpv.com
SUMMARY:Discover Redeemer
DESCRIPTION:Come discover more about who we are as a church community and explore how you and your family can get better connected at Discover Redeemer! This one-hour class will be held on first Sunday of every month after each morning service. We can’t wait to help you get more connected! \nRSVP \nFirst Sunday of the Month\n9:45-10:45am\, 11:15am-12:15pm\, + 12:45-1:45pm\nLight refreshments will be served.
URL:https://redeemerpv.com/event/discover-redeemer-2/2025-05-04/
LOCATION:Redeemer Campus\, 190 S Roscoe Blvd\, Ponte Vedra Beach\, FL\, 32082\, United States
CATEGORIES:Meeting
ATTACH;FMTTYPE=image/png:https://redeemerpv.com/wp-content/uploads/2025/01/Discover-Redeemer-New-Look.png
END:VEVENT
BEGIN:VEVENT
DTSTART;TZID=America/New_York:20250504T103000
DTEND;TZID=America/New_York:20250504T114500
DTSTAMP:20260424T111954
CREATED:20240730T230411Z
LAST-MODIFIED:20251222T153043Z
UID:10002565-1746354600-1746359100@redeemerpv.com
SUMMARY:Sunday Morning Service [10:30am]
DESCRIPTION:Join us for our weekly 10:30am service as we worship God\, learn from His Word\, celebrate communion\, and build relationships with one another! Every Sunday service includes a dynamic Redeemer Kids experience for children ages Birth – 5th grade. \nWith questions as you prepare to visit\, email info@redeemerpv.com. \nThis service is offered on campus and live online. Click below to join the livestream at 10:30am EST! \nJOIN US ONLINE!
URL:https://redeemerpv.com/event/sunday-morning-service-1030am/2025-05-04/
LOCATION:Redeemer Campus\, 190 S Roscoe Blvd\, Ponte Vedra Beach\, FL\, 32082\, United States
ATTACH;FMTTYPE=image/png:https://redeemerpv.com/wp-content/uploads/2024/07/Joyfully-60-Slide-1.png
END:VEVENT
BEGIN:VEVENT
DTSTART;TZID=America/New_York:20250507T183000
DTEND;TZID=America/New_York:20250507T203000
DTSTAMP:20260424T111954
CREATED:20250430T234349Z
LAST-MODIFIED:20250430T234351Z
UID:10000304-1746642600-1746649800@redeemerpv.com
SUMMARY:Midweek Gathering
DESCRIPTION:Every Wednesday we offer a variety of classes and activities for the whole family! \nCome at 6:30pm for a delicious dinner for $5 per person. Then at 7:15pm\, head to rKids (6 weeks – 5th grade)\, The Rally (students 6-12th grade)\, Special Nation or the Adult Bible teaching (also live-streamed). We can’t wait to see you! \nWatch the livestream at 7:15pm EST on our Youtube channel. \nClick here to join online
URL:https://redeemerpv.com/event/midweek-gathering-2/2025-05-07/
LOCATION:Redeemer Campus\, 190 S Roscoe Blvd\, Ponte Vedra Beach\, FL\, 32082\, United States
CATEGORIES:Service
ATTACH;FMTTYPE=image/png:https://redeemerpv.com/wp-content/uploads/2024/06/Midweek-Graphic.png
END:VEVENT
BEGIN:VEVENT
DTSTART;TZID=America/New_York:20250511T090000
DTEND;TZID=America/New_York:20250511T101500
DTSTAMP:20260424T111954
CREATED:20240730T230121Z
LAST-MODIFIED:20251222T153156Z
UID:10002305-1746954000-1746958500@redeemerpv.com
SUMMARY:Sunday Morning Service [9:00am]
DESCRIPTION:Join us for our weekly 9am service as we worship God\, learn from His Word\, celebrate communion\, and build relationships with one another! Every Sunday service includes a dynamic Redeemer Kids experience for children ages Birth – 5th grade. \nWith questions as you prepare to visit\, email info@redeemerpv.com. We look forward to meeting you! \n 
URL:https://redeemerpv.com/event/sunday-morning-service-900am/2025-05-11/
LOCATION:Redeemer Campus\, 190 S Roscoe Blvd\, Ponte Vedra Beach\, FL\, 32082\, United States
ATTACH;FMTTYPE=image/png:https://redeemerpv.com/wp-content/uploads/2024/07/Joyfully-60-Slide-1.png
END:VEVENT
BEGIN:VEVENT
DTSTART;TZID=America/New_York:20250511T103000
DTEND;TZID=America/New_York:20250511T113000
DTSTAMP:20260424T111954
CREATED:20240724T211950Z
LAST-MODIFIED:20250326T155429Z
UID:10001376-1746959400-1746963000@redeemerpv.com
SUMMARY:Special Nation Praise Service
DESCRIPTION:On the second Sunday of the month\, we have a no-hush service that is put on by our Special Nation ministry and intentionally designed for those affected by disabilities and their families. All are welcome! \nSpecial Praise meets in the Student Auditorium in the Family Center at 10:30AM. \n 
URL:https://redeemerpv.com/event/special-nation-praise-service/2025-05-11/
LOCATION:Redeemer Campus\, 190 S Roscoe Blvd\, Ponte Vedra Beach\, FL\, 32082\, United States
CATEGORIES:Service
ATTACH;FMTTYPE=image/png:https://redeemerpv.com/wp-content/uploads/2024/07/Special-Praise-Service-2024-750-×-422-px.png
END:VEVENT
BEGIN:VEVENT
DTSTART;TZID=America/New_York:20250511T103000
DTEND;TZID=America/New_York:20250511T114500
DTSTAMP:20260424T111954
CREATED:20240730T230411Z
LAST-MODIFIED:20251222T153043Z
UID:10002566-1746959400-1746963900@redeemerpv.com
SUMMARY:Sunday Morning Service [10:30am]
DESCRIPTION:Join us for our weekly 10:30am service as we worship God\, learn from His Word\, celebrate communion\, and build relationships with one another! Every Sunday service includes a dynamic Redeemer Kids experience for children ages Birth – 5th grade. \nWith questions as you prepare to visit\, email info@redeemerpv.com. \nThis service is offered on campus and live online. Click below to join the livestream at 10:30am EST! \nJOIN US ONLINE!
URL:https://redeemerpv.com/event/sunday-morning-service-1030am/2025-05-11/
LOCATION:Redeemer Campus\, 190 S Roscoe Blvd\, Ponte Vedra Beach\, FL\, 32082\, United States
ATTACH;FMTTYPE=image/png:https://redeemerpv.com/wp-content/uploads/2024/07/Joyfully-60-Slide-1.png
END:VEVENT
BEGIN:VEVENT
DTSTART;TZID=America/New_York:20250514T183000
DTEND;TZID=America/New_York:20250514T203000
DTSTAMP:20260424T111954
CREATED:20250430T234349Z
LAST-MODIFIED:20250430T234351Z
UID:10000305-1747247400-1747254600@redeemerpv.com
SUMMARY:Midweek Gathering
DESCRIPTION:Every Wednesday we offer a variety of classes and activities for the whole family! \nCome at 6:30pm for a delicious dinner for $5 per person. Then at 7:15pm\, head to rKids (6 weeks – 5th grade)\, The Rally (students 6-12th grade)\, Special Nation or the Adult Bible teaching (also live-streamed). We can’t wait to see you! \nWatch the livestream at 7:15pm EST on our Youtube channel. \nClick here to join online
URL:https://redeemerpv.com/event/midweek-gathering-2/2025-05-14/
LOCATION:Redeemer Campus\, 190 S Roscoe Blvd\, Ponte Vedra Beach\, FL\, 32082\, United States
CATEGORIES:Service
ATTACH;FMTTYPE=image/png:https://redeemerpv.com/wp-content/uploads/2024/06/Midweek-Graphic.png
END:VEVENT
BEGIN:VEVENT
DTSTART;TZID=America/New_York:20250517T100000
DTEND;TZID=America/New_York:20250517T130000
DTSTAMP:20260424T111954
CREATED:20240724T212412Z
LAST-MODIFIED:20240805T191756Z
UID:10001436-1747476000-1747486800@redeemerpv.com
SUMMARY:Nocatee Farmers Market Outreach
DESCRIPTION:Come represent Redeemer Church with our team on the third Saturday of every month at the Nocatee Farmer’s Market! We have a blast playing with kids\, praying for people\, and inviting families to visit us at Redeemer. Join us for the fun from 10AM-1PM! \nSIGN UP TO SERVE
URL:https://redeemerpv.com/event/nocatee-farmers-market-outreach/2025-05-17/
LOCATION:Redeemer Campus\, 190 S Roscoe Blvd\, Ponte Vedra Beach\, FL\, 32082\, United States
CATEGORIES:Outreach
ATTACH;FMTTYPE=image/png:https://redeemerpv.com/wp-content/uploads/2024/07/Farmers-Market-Graphic-750-x-422-px.png
END:VEVENT
BEGIN:VEVENT
DTSTART;TZID=America/New_York:20250518T090000
DTEND;TZID=America/New_York:20250518T101500
DTSTAMP:20260424T111954
CREATED:20240730T230121Z
LAST-MODIFIED:20251222T153156Z
UID:10002306-1747558800-1747563300@redeemerpv.com
SUMMARY:Sunday Morning Service [9:00am]
DESCRIPTION:Join us for our weekly 9am service as we worship God\, learn from His Word\, celebrate communion\, and build relationships with one another! Every Sunday service includes a dynamic Redeemer Kids experience for children ages Birth – 5th grade. \nWith questions as you prepare to visit\, email info@redeemerpv.com. We look forward to meeting you! \n 
URL:https://redeemerpv.com/event/sunday-morning-service-900am/2025-05-18/
LOCATION:Redeemer Campus\, 190 S Roscoe Blvd\, Ponte Vedra Beach\, FL\, 32082\, United States
ATTACH;FMTTYPE=image/png:https://redeemerpv.com/wp-content/uploads/2024/07/Joyfully-60-Slide-1.png
END:VEVENT
BEGIN:VEVENT
DTSTART;TZID=America/New_York:20250518T090000
DTEND;TZID=America/New_York:20250518T103000
DTSTAMP:20260424T111954
CREATED:20250512T152812Z
LAST-MODIFIED:20250512T152812Z
UID:10003691-1747558800-1747564200@redeemerpv.com
SUMMARY:rStudents Car Wash
DESCRIPTION:Sunday\, May 18th\, our youth students are going to be washing cars to help raise money to go to summer camp and on missions trips! Bring your dirtiest car and drop it off to them on your way into service!
URL:https://redeemerpv.com/event/rstudents-car-wash/2025-05-18/1/
LOCATION:Redeemer Campus\, 190 S Roscoe Blvd\, Ponte Vedra Beach\, FL\, 32082\, United States
ATTACH;FMTTYPE=image/png:https://redeemerpv.com/wp-content/uploads/2025/05/rStudents-car-wash-202-5750-x-422-px.png
END:VEVENT
BEGIN:VEVENT
DTSTART;TZID=America/New_York:20250518T103000
DTEND;TZID=America/New_York:20250518T114500
DTSTAMP:20260424T111954
CREATED:20240730T230411Z
LAST-MODIFIED:20251222T153043Z
UID:10002567-1747564200-1747568700@redeemerpv.com
SUMMARY:Sunday Morning Service [10:30am]
DESCRIPTION:Join us for our weekly 10:30am service as we worship God\, learn from His Word\, celebrate communion\, and build relationships with one another! Every Sunday service includes a dynamic Redeemer Kids experience for children ages Birth – 5th grade. \nWith questions as you prepare to visit\, email info@redeemerpv.com. \nThis service is offered on campus and live online. Click below to join the livestream at 10:30am EST! \nJOIN US ONLINE!
URL:https://redeemerpv.com/event/sunday-morning-service-1030am/2025-05-18/
LOCATION:Redeemer Campus\, 190 S Roscoe Blvd\, Ponte Vedra Beach\, FL\, 32082\, United States
ATTACH;FMTTYPE=image/png:https://redeemerpv.com/wp-content/uploads/2024/07/Joyfully-60-Slide-1.png
END:VEVENT
BEGIN:VEVENT
DTSTART;TZID=America/New_York:20250518T103000
DTEND;TZID=America/New_York:20250518T120000
DTSTAMP:20260424T111954
CREATED:20250512T152812Z
LAST-MODIFIED:20250512T152812Z
UID:10003692-1747564200-1747569600@redeemerpv.com
SUMMARY:rStudents Car Wash
DESCRIPTION:Sunday\, May 18th\, our youth students are going to be washing cars to help raise money to go to summer camp and on missions trips! Bring your dirtiest car and drop it off to them on your way into service!
URL:https://redeemerpv.com/event/rstudents-car-wash/2025-05-18/2/
LOCATION:Redeemer Campus\, 190 S Roscoe Blvd\, Ponte Vedra Beach\, FL\, 32082\, United States
ATTACH;FMTTYPE=image/png:https://redeemerpv.com/wp-content/uploads/2025/05/rStudents-car-wash-202-5750-x-422-px.png
END:VEVENT
BEGIN:VEVENT
DTSTART;TZID=America/New_York:20250521T183000
DTEND;TZID=America/New_York:20250521T203000
DTSTAMP:20260424T111954
CREATED:20250430T234349Z
LAST-MODIFIED:20250430T234351Z
UID:10000306-1747852200-1747859400@redeemerpv.com
SUMMARY:Midweek Gathering
DESCRIPTION:Every Wednesday we offer a variety of classes and activities for the whole family! \nCome at 6:30pm for a delicious dinner for $5 per person. Then at 7:15pm\, head to rKids (6 weeks – 5th grade)\, The Rally (students 6-12th grade)\, Special Nation or the Adult Bible teaching (also live-streamed). We can’t wait to see you! \nWatch the livestream at 7:15pm EST on our Youtube channel. \nClick here to join online
URL:https://redeemerpv.com/event/midweek-gathering-2/2025-05-21/
LOCATION:Redeemer Campus\, 190 S Roscoe Blvd\, Ponte Vedra Beach\, FL\, 32082\, United States
CATEGORIES:Service
ATTACH;FMTTYPE=image/png:https://redeemerpv.com/wp-content/uploads/2024/06/Midweek-Graphic.png
END:VEVENT
END:VCALENDAR