BEGIN:VCALENDAR
VERSION:2.0
PRODID:-//Redeemer Church - ECPv6.15.20//NONSGML v1.0//EN
CALSCALE:GREGORIAN
METHOD:PUBLISH
X-ORIGINAL-URL:https://redeemerpv.com
X-WR-CALDESC:Events for Redeemer Church
REFRESH-INTERVAL;VALUE=DURATION:PT1H
X-Robots-Tag:noindex
X-PUBLISHED-TTL:PT1H
BEGIN:VTIMEZONE
TZID:America/New_York
BEGIN:DAYLIGHT
TZOFFSETFROM:-0500
TZOFFSETTO:-0400
TZNAME:EDT
DTSTART:20240310T070000
END:DAYLIGHT
BEGIN:STANDARD
TZOFFSETFROM:-0400
TZOFFSETTO:-0500
TZNAME:EST
DTSTART:20241103T060000
END:STANDARD
BEGIN:DAYLIGHT
TZOFFSETFROM:-0500
TZOFFSETTO:-0400
TZNAME:EDT
DTSTART:20250309T070000
END:DAYLIGHT
BEGIN:STANDARD
TZOFFSETFROM:-0400
TZOFFSETTO:-0500
TZNAME:EST
DTSTART:20251102T060000
END:STANDARD
BEGIN:DAYLIGHT
TZOFFSETFROM:-0500
TZOFFSETTO:-0400
TZNAME:EDT
DTSTART:20260308T070000
END:DAYLIGHT
BEGIN:STANDARD
TZOFFSETFROM:-0400
TZOFFSETTO:-0500
TZNAME:EST
DTSTART:20261101T060000
END:STANDARD
BEGIN:DAYLIGHT
TZOFFSETFROM:-0500
TZOFFSETTO:-0400
TZNAME:EDT
DTSTART:20270314T070000
END:DAYLIGHT
BEGIN:STANDARD
TZOFFSETFROM:-0400
TZOFFSETTO:-0500
TZNAME:EST
DTSTART:20271107T060000
END:STANDARD
END:VTIMEZONE
BEGIN:VEVENT
DTSTART;TZID=America/New_York:20251213T100000
DTEND;TZID=America/New_York:20251213T120000
DTSTAMP:20260423T185709
CREATED:20251117T020301Z
LAST-MODIFIED:20251118T194806Z
UID:10004108-1765620000-1765627200@redeemerpv.com
SUMMARY:Desert Winds Holiday Outreach
DESCRIPTION:NOVEMBER 13 | 10am-12pm \nWe’re hosting an outreach for the Desert Winds refugee community on Saturday\, December 13th at 10am. Help us prepare by filling a bag of groceries to be distributed to families in need. We also hope you’ll come serve with us that day! \nWAYS TO FILL A BAG: \n• Visit the Missions Center in the main lobby to pick up a bag to fill. \n• Sponsor a bag by clicking the button. You will be directed to our giving platform where you can give $20 to go toward filling a bag. Please select “Missions” as the designation when giving. \nSPONSOR A BAG
URL:https://redeemerpv.com/event/desert-winds-outreach-food-drive/
LOCATION:Desert Winds Apartments\, 233 Sahara Court\, Jacksonville\, Florida\, 32216
CATEGORIES:Outreach
ATTACH;FMTTYPE=image/png:https://redeemerpv.com/wp-content/uploads/2025/11/Desert-WInds-Outreach-Food-Drive-2025.png
END:VEVENT
BEGIN:VEVENT
DTSTART;TZID=America/New_York:20251214T090000
DTEND;TZID=America/New_York:20251214T101500
DTSTAMP:20260423T185709
CREATED:20240730T230121Z
LAST-MODIFIED:20251222T153156Z
UID:10002336-1765702800-1765707300@redeemerpv.com
SUMMARY:Sunday Morning Service [9:00am]
DESCRIPTION:Join us for our weekly 9am service as we worship God\, learn from His Word\, celebrate communion\, and build relationships with one another! Every Sunday service includes a dynamic Redeemer Kids experience for children ages Birth – 5th grade. \nWith questions as you prepare to visit\, email info@redeemerpv.com. We look forward to meeting you! \n 
URL:https://redeemerpv.com/event/sunday-morning-service-900am/2025-12-14/
LOCATION:Redeemer Campus\, 190 S Roscoe Blvd\, Ponte Vedra Beach\, FL\, 32082\, United States
ATTACH;FMTTYPE=image/png:https://redeemerpv.com/wp-content/uploads/2024/07/Joyfully-60-Slide-1.png
END:VEVENT
BEGIN:VEVENT
DTSTART;TZID=America/New_York:20251214T103000
DTEND;TZID=America/New_York:20251214T113000
DTSTAMP:20260423T185709
CREATED:20240724T211950Z
LAST-MODIFIED:20250326T155429Z
UID:10001383-1765708200-1765711800@redeemerpv.com
SUMMARY:Special Nation Praise Service
DESCRIPTION:On the second Sunday of the month\, we have a no-hush service that is put on by our Special Nation ministry and intentionally designed for those affected by disabilities and their families. All are welcome! \nSpecial Praise meets in the Student Auditorium in the Family Center at 10:30AM. \n 
URL:https://redeemerpv.com/event/special-nation-praise-service/2025-12-14/
LOCATION:Redeemer Campus\, 190 S Roscoe Blvd\, Ponte Vedra Beach\, FL\, 32082\, United States
CATEGORIES:Service
ATTACH;FMTTYPE=image/png:https://redeemerpv.com/wp-content/uploads/2024/07/Special-Praise-Service-2024-750-×-422-px.png
END:VEVENT
BEGIN:VEVENT
DTSTART;TZID=America/New_York:20251214T103000
DTEND;TZID=America/New_York:20251214T114500
DTSTAMP:20260423T185709
CREATED:20240730T230411Z
LAST-MODIFIED:20251222T153043Z
UID:10002597-1765708200-1765712700@redeemerpv.com
SUMMARY:Sunday Morning Service [10:30am]
DESCRIPTION:Join us for our weekly 10:30am service as we worship God\, learn from His Word\, celebrate communion\, and build relationships with one another! Every Sunday service includes a dynamic Redeemer Kids experience for children ages Birth – 5th grade. \nWith questions as you prepare to visit\, email info@redeemerpv.com. \nThis service is offered on campus and live online. Click below to join the livestream at 10:30am EST! \nJOIN US ONLINE!
URL:https://redeemerpv.com/event/sunday-morning-service-1030am/2025-12-14/
LOCATION:Redeemer Campus\, 190 S Roscoe Blvd\, Ponte Vedra Beach\, FL\, 32082\, United States
ATTACH;FMTTYPE=image/png:https://redeemerpv.com/wp-content/uploads/2024/07/Joyfully-60-Slide-1.png
END:VEVENT
BEGIN:VEVENT
DTSTART;TZID=America/New_York:20251215T070000
DTEND;TZID=America/New_York:20251215T080000
DTSTAMP:20260423T185709
CREATED:20251123T145825Z
LAST-MODIFIED:20251208T122755Z
UID:10004114-1765782000-1765785600@redeemerpv.com
SUMMARY:Advent Morning Prayer
DESCRIPTION:Join us on campus or on our YouTube channel for a time of guided prayer every Monday morning during Advent. We can’t wait to see how God uses this time to speak to us during this special season! \nDecember 1-22\, 2025\nMondays at 7am \nClick here for the Advent Prayer Guide ADVENT PRAYER GUIDE \nClick below to join us online. \nLIVE ONLINE
URL:https://redeemerpv.com/event/advent-morning-prayer-2025/2025-12-15/
LOCATION:Redeemer Campus\, 190 S Roscoe Blvd\, Ponte Vedra Beach\, FL\, 32082\, United States
CATEGORIES:Meeting
ATTACH;FMTTYPE=image/png:https://redeemerpv.com/wp-content/uploads/2025/11/Advent-Morning-prayer-no-times-2025.png
END:VEVENT
BEGIN:VEVENT
DTSTART;TZID=America/New_York:20251217T180000
DTEND;TZID=America/New_York:20251217T200000
DTSTAMP:20260423T185710
CREATED:20250811T175417Z
LAST-MODIFIED:20260305T150239Z
UID:10003856-1765994400-1766001600@redeemerpv.com
SUMMARY:Midweek Gathering
DESCRIPTION:Every Wednesday we offer a variety of classes and activities for the whole family! \nCome at 6pm for a delicious dinner for $5 per person. Then at 6:45pm\, head to rKids (6 months – 5th grade)\, The Rally (students 6-12th grade)\, Special Nation or the Adult Bible teaching (also live-streamed). We can’t wait to see you! \nWatch the livestream at 6:45pm EST on our Youtube channel. \nClick here to join online
URL:https://redeemerpv.com/event/midweek-gathering-2-2/2025-12-17/
LOCATION:Redeemer Campus\, 190 S Roscoe Blvd\, Ponte Vedra Beach\, FL\, 32082\, United States
CATEGORIES:Service
ATTACH;FMTTYPE=image/png:https://redeemerpv.com/wp-content/uploads/2024/06/Midweek-Graphic.png
END:VEVENT
BEGIN:VEVENT
DTSTART;TZID=America/New_York:20251220T100000
DTEND;TZID=America/New_York:20251220T130000
DTSTAMP:20260423T185710
CREATED:20240724T212412Z
LAST-MODIFIED:20240805T191756Z
UID:10001443-1766224800-1766235600@redeemerpv.com
SUMMARY:Nocatee Farmers Market Outreach
DESCRIPTION:Come represent Redeemer Church with our team on the third Saturday of every month at the Nocatee Farmer’s Market! We have a blast playing with kids\, praying for people\, and inviting families to visit us at Redeemer. Join us for the fun from 10AM-1PM! \nSIGN UP TO SERVE
URL:https://redeemerpv.com/event/nocatee-farmers-market-outreach/2025-12-20/
LOCATION:Redeemer Campus\, 190 S Roscoe Blvd\, Ponte Vedra Beach\, FL\, 32082\, United States
CATEGORIES:Outreach
ATTACH;FMTTYPE=image/png:https://redeemerpv.com/wp-content/uploads/2024/07/Farmers-Market-Graphic-750-x-422-px.png
END:VEVENT
BEGIN:VEVENT
DTSTART;TZID=America/New_York:20251221T090000
DTEND;TZID=America/New_York:20251221T101500
DTSTAMP:20260423T185710
CREATED:20240730T230121Z
LAST-MODIFIED:20251222T153156Z
UID:10002337-1766307600-1766312100@redeemerpv.com
SUMMARY:Sunday Morning Service [9:00am]
DESCRIPTION:Join us for our weekly 9am service as we worship God\, learn from His Word\, celebrate communion\, and build relationships with one another! Every Sunday service includes a dynamic Redeemer Kids experience for children ages Birth – 5th grade. \nWith questions as you prepare to visit\, email info@redeemerpv.com. We look forward to meeting you! \n 
URL:https://redeemerpv.com/event/sunday-morning-service-900am/2025-12-21/
LOCATION:Redeemer Campus\, 190 S Roscoe Blvd\, Ponte Vedra Beach\, FL\, 32082\, United States
ATTACH;FMTTYPE=image/png:https://redeemerpv.com/wp-content/uploads/2024/07/Joyfully-60-Slide-1.png
END:VEVENT
BEGIN:VEVENT
DTSTART;TZID=America/New_York:20251221T103000
DTEND;TZID=America/New_York:20251221T114500
DTSTAMP:20260423T185710
CREATED:20240730T230411Z
LAST-MODIFIED:20251222T153043Z
UID:10002598-1766313000-1766317500@redeemerpv.com
SUMMARY:Sunday Morning Service [10:30am]
DESCRIPTION:Join us for our weekly 10:30am service as we worship God\, learn from His Word\, celebrate communion\, and build relationships with one another! Every Sunday service includes a dynamic Redeemer Kids experience for children ages Birth – 5th grade. \nWith questions as you prepare to visit\, email info@redeemerpv.com. \nThis service is offered on campus and live online. Click below to join the livestream at 10:30am EST! \nJOIN US ONLINE!
URL:https://redeemerpv.com/event/sunday-morning-service-1030am/2025-12-21/
LOCATION:Redeemer Campus\, 190 S Roscoe Blvd\, Ponte Vedra Beach\, FL\, 32082\, United States
ATTACH;FMTTYPE=image/png:https://redeemerpv.com/wp-content/uploads/2024/07/Joyfully-60-Slide-1.png
END:VEVENT
BEGIN:VEVENT
DTSTART;TZID=America/New_York:20251222T070000
DTEND;TZID=America/New_York:20251222T080000
DTSTAMP:20260423T185710
CREATED:20251123T145825Z
LAST-MODIFIED:20251208T122755Z
UID:10004115-1766386800-1766390400@redeemerpv.com
SUMMARY:Advent Morning Prayer
DESCRIPTION:Join us on campus or on our YouTube channel for a time of guided prayer every Monday morning during Advent. We can’t wait to see how God uses this time to speak to us during this special season! \nDecember 1-22\, 2025\nMondays at 7am \nClick here for the Advent Prayer Guide ADVENT PRAYER GUIDE \nClick below to join us online. \nLIVE ONLINE
URL:https://redeemerpv.com/event/advent-morning-prayer-2025/2025-12-22/
LOCATION:Redeemer Campus\, 190 S Roscoe Blvd\, Ponte Vedra Beach\, FL\, 32082\, United States
CATEGORIES:Meeting
ATTACH;FMTTYPE=image/png:https://redeemerpv.com/wp-content/uploads/2025/11/Advent-Morning-prayer-no-times-2025.png
END:VEVENT
BEGIN:VEVENT
DTSTART;TZID=America/New_York:20251224T140000
DTEND;TZID=America/New_York:20251224T150000
DTSTAMP:20260423T185710
CREATED:20251123T143801Z
LAST-MODIFIED:20251123T145249Z
UID:10004109-1766584800-1766588400@redeemerpv.com
SUMMARY:Christmas Eve Services
DESCRIPTION:Celebrate the wonder of Christmas with us! Bring the whole family and invite a neighbor or friend to join us for our Candlelight Christmas Eve Service on Wednesday\, December 24th. Enjoy a special night of worship\, carols\, candlelight\, and the message of hope found in Jesus. \nWednesday\, December 24th \n2pm\, 4pm\, and 6pm – On Campus \n4pm – Live Online (Click Here) \n4pm – Special Nation Service
URL:https://redeemerpv.com/event/christmas-eve-services-2025/2025-12-24/1/
LOCATION:Redeemer Campus\, 190 S Roscoe Blvd\, Ponte Vedra Beach\, FL\, 32082\, United States
CATEGORIES:Service
ATTACH;FMTTYPE=image/png:https://redeemerpv.com/wp-content/uploads/2025/11/Christmas-Eve-2025-image.png
END:VEVENT
BEGIN:VEVENT
DTSTART;TZID=America/New_York:20251224T160000
DTEND;TZID=America/New_York:20251224T170000
DTSTAMP:20260423T185710
CREATED:20251123T143801Z
LAST-MODIFIED:20251123T145249Z
UID:10004110-1766592000-1766595600@redeemerpv.com
SUMMARY:Christmas Eve Services
DESCRIPTION:Celebrate the wonder of Christmas with us! Bring the whole family and invite a neighbor or friend to join us for our Candlelight Christmas Eve Service on Wednesday\, December 24th. Enjoy a special night of worship\, carols\, candlelight\, and the message of hope found in Jesus. \nWednesday\, December 24th \n2pm\, 4pm\, and 6pm – On Campus \n4pm – Live Online (Click Here) \n4pm – Special Nation Service
URL:https://redeemerpv.com/event/christmas-eve-services-2025/2025-12-24/2/
LOCATION:Redeemer Campus\, 190 S Roscoe Blvd\, Ponte Vedra Beach\, FL\, 32082\, United States
CATEGORIES:Service
ATTACH;FMTTYPE=image/png:https://redeemerpv.com/wp-content/uploads/2025/11/Christmas-Eve-2025-image.png
END:VEVENT
BEGIN:VEVENT
DTSTART;TZID=America/New_York:20251224T180000
DTEND;TZID=America/New_York:20251224T190000
DTSTAMP:20260423T185710
CREATED:20251123T143801Z
LAST-MODIFIED:20251123T145249Z
UID:10004111-1766599200-1766602800@redeemerpv.com
SUMMARY:Christmas Eve Services
DESCRIPTION:Celebrate the wonder of Christmas with us! Bring the whole family and invite a neighbor or friend to join us for our Candlelight Christmas Eve Service on Wednesday\, December 24th. Enjoy a special night of worship\, carols\, candlelight\, and the message of hope found in Jesus. \nWednesday\, December 24th \n2pm\, 4pm\, and 6pm – On Campus \n4pm – Live Online (Click Here) \n4pm – Special Nation Service
URL:https://redeemerpv.com/event/christmas-eve-services-2025/2025-12-24/3/
LOCATION:Redeemer Campus\, 190 S Roscoe Blvd\, Ponte Vedra Beach\, FL\, 32082\, United States
CATEGORIES:Service
ATTACH;FMTTYPE=image/png:https://redeemerpv.com/wp-content/uploads/2025/11/Christmas-Eve-2025-image.png
END:VEVENT
BEGIN:VEVENT
DTSTART;TZID=America/New_York:20251228T090000
DTEND;TZID=America/New_York:20251228T101500
DTSTAMP:20260423T185710
CREATED:20240730T230121Z
LAST-MODIFIED:20251222T153156Z
UID:10002338-1766912400-1766916900@redeemerpv.com
SUMMARY:Sunday Morning Service [9:00am]
DESCRIPTION:Join us for our weekly 9am service as we worship God\, learn from His Word\, celebrate communion\, and build relationships with one another! Every Sunday service includes a dynamic Redeemer Kids experience for children ages Birth – 5th grade. \nWith questions as you prepare to visit\, email info@redeemerpv.com. We look forward to meeting you! \n 
URL:https://redeemerpv.com/event/sunday-morning-service-900am/2025-12-28/
LOCATION:Redeemer Campus\, 190 S Roscoe Blvd\, Ponte Vedra Beach\, FL\, 32082\, United States
ATTACH;FMTTYPE=image/png:https://redeemerpv.com/wp-content/uploads/2024/07/Joyfully-60-Slide-1.png
END:VEVENT
BEGIN:VEVENT
DTSTART;TZID=America/New_York:20251228T103000
DTEND;TZID=America/New_York:20251228T114500
DTSTAMP:20260423T185710
CREATED:20240730T230411Z
LAST-MODIFIED:20251222T153043Z
UID:10002599-1766917800-1766922300@redeemerpv.com
SUMMARY:Sunday Morning Service [10:30am]
DESCRIPTION:Join us for our weekly 10:30am service as we worship God\, learn from His Word\, celebrate communion\, and build relationships with one another! Every Sunday service includes a dynamic Redeemer Kids experience for children ages Birth – 5th grade. \nWith questions as you prepare to visit\, email info@redeemerpv.com. \nThis service is offered on campus and live online. Click below to join the livestream at 10:30am EST! \nJOIN US ONLINE!
URL:https://redeemerpv.com/event/sunday-morning-service-1030am/2025-12-28/
LOCATION:Redeemer Campus\, 190 S Roscoe Blvd\, Ponte Vedra Beach\, FL\, 32082\, United States
ATTACH;FMTTYPE=image/png:https://redeemerpv.com/wp-content/uploads/2024/07/Joyfully-60-Slide-1.png
END:VEVENT
BEGIN:VEVENT
DTSTART;TZID=America/New_York:20260101T103000
DTEND;TZID=America/New_York:20260101T120000
DTSTAMP:20260423T185710
CREATED:20240724T211216Z
LAST-MODIFIED:20240730T225407Z
UID:10001685-1767263400-1767268800@redeemerpv.com
SUMMARY:Joyfully 60+
DESCRIPTION:If you’re 60 years or older\, we would love to have you join us on the 1st Thursday of every month for great fellowship and food. Bring a dish for the potluck lunch and let’s get together! \nWith questions\, email info@redeemerpv.com.
URL:https://redeemerpv.com/event/joyfully-60/2026-01-01/
LOCATION:FL
CATEGORIES:Group
ATTACH;FMTTYPE=image/png:https://redeemerpv.com/wp-content/uploads/2024/07/Joyfully-60-Slide.png
END:VEVENT
BEGIN:VEVENT
DTSTART;TZID=America/New_York:20260104T090000
DTEND;TZID=America/New_York:20260104T101500
DTSTAMP:20260423T185710
CREATED:20240730T230121Z
LAST-MODIFIED:20251222T153156Z
UID:10002339-1767517200-1767521700@redeemerpv.com
SUMMARY:Sunday Morning Service [9:00am]
DESCRIPTION:Join us for our weekly 9am service as we worship God\, learn from His Word\, celebrate communion\, and build relationships with one another! Every Sunday service includes a dynamic Redeemer Kids experience for children ages Birth – 5th grade. \nWith questions as you prepare to visit\, email info@redeemerpv.com. We look forward to meeting you! \n 
URL:https://redeemerpv.com/event/sunday-morning-service-900am/2026-01-04/
LOCATION:Redeemer Campus\, 190 S Roscoe Blvd\, Ponte Vedra Beach\, FL\, 32082\, United States
ATTACH;FMTTYPE=image/png:https://redeemerpv.com/wp-content/uploads/2024/07/Joyfully-60-Slide-1.png
END:VEVENT
BEGIN:VEVENT
DTSTART;TZID=America/New_York:20260104T094500
DTEND;TZID=America/New_York:20260104T104500
DTSTAMP:20260423T185710
CREATED:20250415T152536Z
LAST-MODIFIED:20260226T171644Z
UID:10005336-1767519900-1767523500@redeemerpv.com
SUMMARY:Discover Redeemer
DESCRIPTION:Come discover more about who we are as a church community and explore how you and your family can get better connected at Discover Redeemer! This one-hour class will be held on first Sunday of every month after each morning service. We can’t wait to help you get more connected! \nRSVP \nFirst Sunday of the Month\n9:45-10:45am\, 11:15am-12:15pm\, + 12:45-1:45pm\nLight refreshments will be served.
URL:https://redeemerpv.com/event/discover-redeemer-2/2026-01-04/
LOCATION:Redeemer Campus\, 190 S Roscoe Blvd\, Ponte Vedra Beach\, FL\, 32082\, United States
CATEGORIES:Meeting
ATTACH;FMTTYPE=image/png:https://redeemerpv.com/wp-content/uploads/2025/01/Discover-Redeemer-New-Look.png
END:VEVENT
BEGIN:VEVENT
DTSTART;TZID=America/New_York:20260104T103000
DTEND;TZID=America/New_York:20260104T114500
DTSTAMP:20260423T185710
CREATED:20240730T230411Z
LAST-MODIFIED:20251222T153043Z
UID:10002600-1767522600-1767527100@redeemerpv.com
SUMMARY:Sunday Morning Service [10:30am]
DESCRIPTION:Join us for our weekly 10:30am service as we worship God\, learn from His Word\, celebrate communion\, and build relationships with one another! Every Sunday service includes a dynamic Redeemer Kids experience for children ages Birth – 5th grade. \nWith questions as you prepare to visit\, email info@redeemerpv.com. \nThis service is offered on campus and live online. Click below to join the livestream at 10:30am EST! \nJOIN US ONLINE!
URL:https://redeemerpv.com/event/sunday-morning-service-1030am/2026-01-04/
LOCATION:Redeemer Campus\, 190 S Roscoe Blvd\, Ponte Vedra Beach\, FL\, 32082\, United States
ATTACH;FMTTYPE=image/png:https://redeemerpv.com/wp-content/uploads/2024/07/Joyfully-60-Slide-1.png
END:VEVENT
BEGIN:VEVENT
DTSTART;TZID=America/New_York:20260107T180000
DTEND;TZID=America/New_York:20260107T200000
DTSTAMP:20260423T185710
CREATED:20250811T175417Z
LAST-MODIFIED:20260305T150239Z
UID:10003859-1767808800-1767816000@redeemerpv.com
SUMMARY:Midweek Gathering
DESCRIPTION:Every Wednesday we offer a variety of classes and activities for the whole family! \nCome at 6pm for a delicious dinner for $5 per person. Then at 6:45pm\, head to rKids (6 months – 5th grade)\, The Rally (students 6-12th grade)\, Special Nation or the Adult Bible teaching (also live-streamed). We can’t wait to see you! \nWatch the livestream at 6:45pm EST on our Youtube channel. \nClick here to join online
URL:https://redeemerpv.com/event/midweek-gathering-2-2/2026-01-07/
LOCATION:Redeemer Campus\, 190 S Roscoe Blvd\, Ponte Vedra Beach\, FL\, 32082\, United States
CATEGORIES:Service
ATTACH;FMTTYPE=image/png:https://redeemerpv.com/wp-content/uploads/2024/06/Midweek-Graphic.png
END:VEVENT
BEGIN:VEVENT
DTSTART;TZID=America/New_York:20260111T083000
DTEND;TZID=America/New_York:20260111T094500
DTSTAMP:20260423T185710
CREATED:20251222T150814Z
LAST-MODIFIED:20251222T150814Z
UID:10004149-1768120200-1768124700@redeemerpv.com
SUMMARY:Third Service Launch Sunday
DESCRIPTION:We’re so excited to make room for more people to encounter God by expanding to THREE Sunday service options on this Sunday\, January 11th! \nYou can join us in person at 8:30am\, 10am\, 11:30am or live online at 10am by clicking below. \nLIVE ONLINE AT 10AM EST
URL:https://redeemerpv.com/event/thirdservicelaunch/2026-01-11/1/
LOCATION:Redeemer Campus\, 190 S Roscoe Blvd\, Ponte Vedra Beach\, FL\, 32082\, United States
CATEGORIES:Service
ATTACH;FMTTYPE=image/png:https://redeemerpv.com/wp-content/uploads/2025/12/Make-Room-Graphic-750-x-422-px.png
END:VEVENT
BEGIN:VEVENT
DTSTART;TZID=America/New_York:20260111T100000
DTEND;TZID=America/New_York:20260111T110000
DTSTAMP:20260423T185710
CREATED:20260105T151557Z
LAST-MODIFIED:20260105T151916Z
UID:10001384-1768125600-1768129200@redeemerpv.com
SUMMARY:Special Nation Praise Service
DESCRIPTION:On the second Sunday of the month\, we have a no-hush service that is put on by our Special Nation ministry and intentionally designed for those affected by disabilities and their families. All are welcome! \nSpecial Praise meets in the Student Auditorium in the Family Center at 10AM. \n 
URL:https://redeemerpv.com/event/special-nation-praise-service-2/2026-01-11/
LOCATION:Redeemer Campus\, 190 S Roscoe Blvd\, Ponte Vedra Beach\, FL\, 32082\, United States
CATEGORIES:Service
ATTACH;FMTTYPE=image/png:https://redeemerpv.com/wp-content/uploads/2024/07/Special-Praise-10am.png
END:VEVENT
BEGIN:VEVENT
DTSTART;TZID=America/New_York:20260111T100000
DTEND;TZID=America/New_York:20260111T111500
DTSTAMP:20260423T185710
CREATED:20251222T150814Z
LAST-MODIFIED:20251222T150814Z
UID:10004150-1768125600-1768130100@redeemerpv.com
SUMMARY:Third Service Launch Sunday
DESCRIPTION:We’re so excited to make room for more people to encounter God by expanding to THREE Sunday service options on this Sunday\, January 11th! \nYou can join us in person at 8:30am\, 10am\, 11:30am or live online at 10am by clicking below. \nLIVE ONLINE AT 10AM EST
URL:https://redeemerpv.com/event/thirdservicelaunch/2026-01-11/2/
LOCATION:Redeemer Campus\, 190 S Roscoe Blvd\, Ponte Vedra Beach\, FL\, 32082\, United States
CATEGORIES:Service
ATTACH;FMTTYPE=image/png:https://redeemerpv.com/wp-content/uploads/2025/12/Make-Room-Graphic-750-x-422-px.png
END:VEVENT
BEGIN:VEVENT
DTSTART;TZID=America/New_York:20260111T113000
DTEND;TZID=America/New_York:20260111T124500
DTSTAMP:20260423T185710
CREATED:20251222T150814Z
LAST-MODIFIED:20251222T150814Z
UID:10004151-1768131000-1768135500@redeemerpv.com
SUMMARY:Third Service Launch Sunday
DESCRIPTION:We’re so excited to make room for more people to encounter God by expanding to THREE Sunday service options on this Sunday\, January 11th! \nYou can join us in person at 8:30am\, 10am\, 11:30am or live online at 10am by clicking below. \nLIVE ONLINE AT 10AM EST
URL:https://redeemerpv.com/event/thirdservicelaunch/2026-01-11/3/
LOCATION:Redeemer Campus\, 190 S Roscoe Blvd\, Ponte Vedra Beach\, FL\, 32082\, United States
CATEGORIES:Service
ATTACH;FMTTYPE=image/png:https://redeemerpv.com/wp-content/uploads/2025/12/Make-Room-Graphic-750-x-422-px.png
END:VEVENT
BEGIN:VEVENT
DTSTART;TZID=America/New_York:20260114T093000
DTEND;TZID=America/New_York:20260114T110000
DTSTAMP:20260423T185710
CREATED:20250617T151840Z
LAST-MODIFIED:20260111T170131Z
UID:10003784-1768383000-1768388400@redeemerpv.com
SUMMARY:MomCo Gathering
DESCRIPTION:Motherhood is complicated. Mom friends help! \nMomCo encourages and equips moms to realize their potential as mothers\, women and leaders\, in relationship with Jesus\, and in partnership with the local church. We believe in supporting moms through life-giving community. \nMomCo meets the second and fourth Wednesday of the month from 9:30-11AM at Redeemer Church. Click below for more information or to register! \nMORE INFO + REGISTER
URL:https://redeemerpv.com/event/momco-gathering-4/2026-01-14/
LOCATION:Redeemer Campus\, 190 S Roscoe Blvd\, Ponte Vedra Beach\, FL\, 32082\, United States
CATEGORIES:Group
ATTACH;FMTTYPE=image/png:https://redeemerpv.com/wp-content/uploads/2024/07/MomCo-General-Graphic-.png
END:VEVENT
BEGIN:VEVENT
DTSTART;TZID=America/New_York:20260114T180000
DTEND;TZID=America/New_York:20260114T200000
DTSTAMP:20260423T185710
CREATED:20250811T175417Z
LAST-MODIFIED:20260305T150239Z
UID:10003860-1768413600-1768420800@redeemerpv.com
SUMMARY:Midweek Gathering
DESCRIPTION:Every Wednesday we offer a variety of classes and activities for the whole family! \nCome at 6pm for a delicious dinner for $5 per person. Then at 6:45pm\, head to rKids (6 months – 5th grade)\, The Rally (students 6-12th grade)\, Special Nation or the Adult Bible teaching (also live-streamed). We can’t wait to see you! \nWatch the livestream at 6:45pm EST on our Youtube channel. \nClick here to join online
URL:https://redeemerpv.com/event/midweek-gathering-2-2/2026-01-14/
LOCATION:Redeemer Campus\, 190 S Roscoe Blvd\, Ponte Vedra Beach\, FL\, 32082\, United States
CATEGORIES:Service
ATTACH;FMTTYPE=image/png:https://redeemerpv.com/wp-content/uploads/2024/06/Midweek-Graphic.png
END:VEVENT
BEGIN:VEVENT
DTSTART;TZID=America/New_York:20260117T100000
DTEND;TZID=America/New_York:20260117T130000
DTSTAMP:20260423T185710
CREATED:20240724T212412Z
LAST-MODIFIED:20240805T191756Z
UID:10001444-1768644000-1768654800@redeemerpv.com
SUMMARY:Nocatee Farmers Market Outreach
DESCRIPTION:Come represent Redeemer Church with our team on the third Saturday of every month at the Nocatee Farmer’s Market! We have a blast playing with kids\, praying for people\, and inviting families to visit us at Redeemer. Join us for the fun from 10AM-1PM! \nSIGN UP TO SERVE
URL:https://redeemerpv.com/event/nocatee-farmers-market-outreach/2026-01-17/
LOCATION:Redeemer Campus\, 190 S Roscoe Blvd\, Ponte Vedra Beach\, FL\, 32082\, United States
CATEGORIES:Outreach
ATTACH;FMTTYPE=image/png:https://redeemerpv.com/wp-content/uploads/2024/07/Farmers-Market-Graphic-750-x-422-px.png
END:VEVENT
BEGIN:VEVENT
DTSTART;TZID=America/New_York:20260118T083000
DTEND;TZID=America/New_York:20260118T094500
DTSTAMP:20260423T185710
CREATED:20260105T150509Z
LAST-MODIFIED:20260331T172918Z
UID:10002343-1768725000-1768729500@redeemerpv.com
SUMMARY:Sunday Morning Service [8:30am]
DESCRIPTION:Join us for our weekly 8:30am service as we worship God\, learn from His Word\, celebrate communion\, and build relationships with one another! Every Sunday service includes a dynamic Redeemer Kids experience for children ages Birth – 5th grade. \nWith questions as you prepare to visit\, email info@redeemerpv.com. We look forward to meeting you! \n 
URL:https://redeemerpv.com/event/sunday-morning-service-830am/2026-01-18/
LOCATION:Redeemer Campus\, 190 S Roscoe Blvd\, Ponte Vedra Beach\, FL\, 32082\, United States
ATTACH;FMTTYPE=image/png:https://redeemerpv.com/wp-content/uploads/2024/07/Joyfully-60-Slide-1.png
END:VEVENT
BEGIN:VEVENT
DTSTART;TZID=America/New_York:20260118T100000
DTEND;TZID=America/New_York:20260118T111500
DTSTAMP:20260423T185710
CREATED:20260105T150639Z
LAST-MODIFIED:20260331T172833Z
UID:10002604-1768730400-1768734900@redeemerpv.com
SUMMARY:Sunday Morning Service [10am]
DESCRIPTION:Join us for our weekly 10am service as we worship God\, learn from His Word\, celebrate communion\, and build relationships with one another! Every Sunday service includes a dynamic Redeemer Kids experience for children ages Birth – 5th grade. \nWith questions as you prepare to visit\, email info@redeemerpv.com. \nThis service is offered on campus and live online. Click below to join the livestream at 10am EST! \nJOIN US ONLINE!
URL:https://redeemerpv.com/event/sunday-morning-service-10am/2026-01-18/
LOCATION:Redeemer Campus\, 190 S Roscoe Blvd\, Ponte Vedra Beach\, FL\, 32082\, United States
ATTACH;FMTTYPE=image/png:https://redeemerpv.com/wp-content/uploads/2024/07/Joyfully-60-Slide-1.png
END:VEVENT
BEGIN:VEVENT
DTSTART;TZID=America/New_York:20260118T113000
DTEND;TZID=America/New_York:20260118T124500
DTSTAMP:20260423T185710
CREATED:20260105T151011Z
LAST-MODIFIED:20260331T172749Z
UID:10005010-1768735800-1768740300@redeemerpv.com
SUMMARY:Sunday Morning Service [11:30am]
DESCRIPTION:Join us for our weekly 11:30am service as we worship God\, learn from His Word\, celebrate communion\, and build relationships with one another! Every Sunday service includes a dynamic Redeemer Kids experience for children ages Birth – 5th grade. \nWith questions as you prepare to visit\, email info@redeemerpv.com.
URL:https://redeemerpv.com/event/sunday-morning-service-1130am/2026-01-18/
LOCATION:Redeemer Campus\, 190 S Roscoe Blvd\, Ponte Vedra Beach\, FL\, 32082\, United States
CATEGORIES:Service
ATTACH;FMTTYPE=image/png:https://redeemerpv.com/wp-content/uploads/2024/07/Joyfully-60-Slide-1.png
END:VEVENT
END:VCALENDAR