BEGIN:VCALENDAR
VERSION:2.0
PRODID:-//Redeemer Church - ECPv6.15.20//NONSGML v1.0//EN
CALSCALE:GREGORIAN
METHOD:PUBLISH
X-ORIGINAL-URL:https://redeemerpv.com
X-WR-CALDESC:Events for Redeemer Church
REFRESH-INTERVAL;VALUE=DURATION:PT1H
X-Robots-Tag:noindex
X-PUBLISHED-TTL:PT1H
BEGIN:VTIMEZONE
TZID:America/New_York
BEGIN:DAYLIGHT
TZOFFSETFROM:-0500
TZOFFSETTO:-0400
TZNAME:EDT
DTSTART:20240310T070000
END:DAYLIGHT
BEGIN:STANDARD
TZOFFSETFROM:-0400
TZOFFSETTO:-0500
TZNAME:EST
DTSTART:20241103T060000
END:STANDARD
BEGIN:DAYLIGHT
TZOFFSETFROM:-0500
TZOFFSETTO:-0400
TZNAME:EDT
DTSTART:20250309T070000
END:DAYLIGHT
BEGIN:STANDARD
TZOFFSETFROM:-0400
TZOFFSETTO:-0500
TZNAME:EST
DTSTART:20251102T060000
END:STANDARD
BEGIN:DAYLIGHT
TZOFFSETFROM:-0500
TZOFFSETTO:-0400
TZNAME:EDT
DTSTART:20260308T070000
END:DAYLIGHT
BEGIN:STANDARD
TZOFFSETFROM:-0400
TZOFFSETTO:-0500
TZNAME:EST
DTSTART:20261101T060000
END:STANDARD
END:VTIMEZONE
BEGIN:VEVENT
DTSTART;TZID=America/New_York:20251022T093000
DTEND;TZID=America/New_York:20251022T110000
DTSTAMP:20260423T202428
CREATED:20250806T175137Z
LAST-MODIFIED:20260111T170203Z
UID:10003722-1761125400-1761130800@redeemerpv.com
SUMMARY:MomCo Gathering
DESCRIPTION:Motherhood is complicated. Mom friends help! \nMomCo encourages and equips moms to realize their potential as mothers\, women and leaders\, in relationship with Jesus\, and in partnership with the local church. We believe in supporting moms through life-giving community. \nMomCo meets the second and fourth Wednesday of the month from 9:30-11AM at Redeemer Church. Click below for more information or to register! \nMORE INFO + REGISTER
URL:https://redeemerpv.com/event/momco-gathering-3/2025-10-22/
LOCATION:Redeemer Campus\, 190 S Roscoe Blvd\, Ponte Vedra Beach\, FL\, 32082\, United States
CATEGORIES:Group
ATTACH;FMTTYPE=image/png:https://redeemerpv.com/wp-content/uploads/2024/07/MomCo-General-Graphic-.png
END:VEVENT
BEGIN:VEVENT
DTSTART;TZID=America/New_York:20251022T180000
DTEND;TZID=America/New_York:20251022T200000
DTSTAMP:20260423T202428
CREATED:20250811T175417Z
LAST-MODIFIED:20260305T150239Z
UID:10003848-1761156000-1761163200@redeemerpv.com
SUMMARY:Midweek Gathering
DESCRIPTION:Every Wednesday we offer a variety of classes and activities for the whole family! \nCome at 6pm for a delicious dinner for $5 per person. Then at 6:45pm\, head to rKids (6 months – 5th grade)\, The Rally (students 6-12th grade)\, Special Nation or the Adult Bible teaching (also live-streamed). We can’t wait to see you! \nWatch the livestream at 6:45pm EST on our Youtube channel. \nClick here to join online
URL:https://redeemerpv.com/event/midweek-gathering-2-2/2025-10-22/
LOCATION:Redeemer Campus\, 190 S Roscoe Blvd\, Ponte Vedra Beach\, FL\, 32082\, United States
CATEGORIES:Service
ATTACH;FMTTYPE=image/png:https://redeemerpv.com/wp-content/uploads/2024/06/Midweek-Graphic.png
END:VEVENT
BEGIN:VEVENT
DTSTART;TZID=America/New_York:20251025T110000
DTEND;TZID=America/New_York:20251025T130000
DTSTAMP:20260423T202428
CREATED:20250908T155102Z
LAST-MODIFIED:20251006T020242Z
UID:10004100-1761390000-1761397200@redeemerpv.com
SUMMARY:Fall Festival
DESCRIPTION:Special Nation Sensory Hour | 10-11AM \nWe can’t wait to come together for the Fall Festival at Redeemer on Saturday\, October 25th from 11am-1pm! You can pick up invitations at the church to use to invite your friends and neighbors and make plans to join us! This event is completely free. \nTons of Inflatables\, Obstacle Course\, Train rides\, Carnival Games\, Hamburgers + Hot Dogs\, and more! \nRegister for the chili cook off or dessert bake off by clicking the button below! \nREGISTER HERE
URL:https://redeemerpv.com/event/fall-festival-2/
LOCATION:Redeemer Campus\, 190 S Roscoe Blvd\, Ponte Vedra Beach\, FL\, 32082\, United States
ATTACH;FMTTYPE=image/png:https://redeemerpv.com/wp-content/uploads/2025/09/Fall-Festival-2025-750-x-422-px.png
END:VEVENT
BEGIN:VEVENT
DTSTART;TZID=America/New_York:20251026T090000
DTEND;TZID=America/New_York:20251026T101500
DTSTAMP:20260423T202428
CREATED:20240730T230121Z
LAST-MODIFIED:20251222T153156Z
UID:10002329-1761469200-1761473700@redeemerpv.com
SUMMARY:Sunday Morning Service [9:00am]
DESCRIPTION:Join us for our weekly 9am service as we worship God\, learn from His Word\, celebrate communion\, and build relationships with one another! Every Sunday service includes a dynamic Redeemer Kids experience for children ages Birth – 5th grade. \nWith questions as you prepare to visit\, email info@redeemerpv.com. We look forward to meeting you! \n 
URL:https://redeemerpv.com/event/sunday-morning-service-900am/2025-10-26/
LOCATION:Redeemer Campus\, 190 S Roscoe Blvd\, Ponte Vedra Beach\, FL\, 32082\, United States
ATTACH;FMTTYPE=image/png:https://redeemerpv.com/wp-content/uploads/2024/07/Joyfully-60-Slide-1.png
END:VEVENT
BEGIN:VEVENT
DTSTART;TZID=America/New_York:20251026T090000
DTEND;TZID=America/New_York:20251026T101500
DTSTAMP:20260423T202428
CREATED:20250919T145053Z
LAST-MODIFIED:20250919T145055Z
UID:10004103-1761469200-1761473700@redeemerpv.com
SUMMARY:Baptism Sunday
DESCRIPTION:If you’re ready to publicly declare your faith in Jesus through water baptism\, we would love to help you take that next step! We will be having baptims during both our 9am + 10:30am Sunday services on October 26th. Sign up today using the button below! \nREGISTER HERE
URL:https://redeemerpv.com/event/baptism-sunday-october/
LOCATION:Redeemer Campus\, 190 S Roscoe Blvd\, Ponte Vedra Beach\, FL\, 32082\, United States
ATTACH;FMTTYPE=image/png:https://redeemerpv.com/wp-content/uploads/2025/04/Baptism-Sunday-Graphic-04-27-25.png
END:VEVENT
BEGIN:VEVENT
DTSTART;TZID=America/New_York:20251026T103000
DTEND;TZID=America/New_York:20251026T114500
DTSTAMP:20260423T202428
CREATED:20240730T230411Z
LAST-MODIFIED:20251222T153043Z
UID:10002590-1761474600-1761479100@redeemerpv.com
SUMMARY:Sunday Morning Service [10:30am]
DESCRIPTION:Join us for our weekly 10:30am service as we worship God\, learn from His Word\, celebrate communion\, and build relationships with one another! Every Sunday service includes a dynamic Redeemer Kids experience for children ages Birth – 5th grade. \nWith questions as you prepare to visit\, email info@redeemerpv.com. \nThis service is offered on campus and live online. Click below to join the livestream at 10:30am EST! \nJOIN US ONLINE!
URL:https://redeemerpv.com/event/sunday-morning-service-1030am/2025-10-26/
LOCATION:Redeemer Campus\, 190 S Roscoe Blvd\, Ponte Vedra Beach\, FL\, 32082\, United States
ATTACH;FMTTYPE=image/png:https://redeemerpv.com/wp-content/uploads/2024/07/Joyfully-60-Slide-1.png
END:VEVENT
BEGIN:VEVENT
DTSTART;TZID=America/New_York:20251026T103000
DTEND;TZID=America/New_York:20251026T114500
DTSTAMP:20260423T202428
CREATED:20250919T144918Z
LAST-MODIFIED:20250919T144918Z
UID:10004104-1761474600-1761479100@redeemerpv.com
SUMMARY:Baptism Sunday
DESCRIPTION:If you’re ready to publicly declare your faith in Jesus through water baptism\, we would love to help you take that next step! We will be having baptims during both our 9am + 10:30am Sunday services on October 26th. Sign up today using the button below! \nREGISTER HERE
URL:https://redeemerpv.com/event/baptism-sunday-3/
LOCATION:Redeemer Campus\, 190 S Roscoe Blvd\, Ponte Vedra Beach\, FL\, 32082\, United States
ATTACH;FMTTYPE=image/png:https://redeemerpv.com/wp-content/uploads/2025/04/Baptism-Sunday-Graphic-04-27-25.png
END:VEVENT
BEGIN:VEVENT
DTSTART;TZID=America/New_York:20251029T180000
DTEND;TZID=America/New_York:20251029T200000
DTSTAMP:20260423T202428
CREATED:20250811T175417Z
LAST-MODIFIED:20260305T150239Z
UID:10003849-1761760800-1761768000@redeemerpv.com
SUMMARY:Midweek Gathering
DESCRIPTION:Every Wednesday we offer a variety of classes and activities for the whole family! \nCome at 6pm for a delicious dinner for $5 per person. Then at 6:45pm\, head to rKids (6 months – 5th grade)\, The Rally (students 6-12th grade)\, Special Nation or the Adult Bible teaching (also live-streamed). We can’t wait to see you! \nWatch the livestream at 6:45pm EST on our Youtube channel. \nClick here to join online
URL:https://redeemerpv.com/event/midweek-gathering-2-2/2025-10-29/
LOCATION:Redeemer Campus\, 190 S Roscoe Blvd\, Ponte Vedra Beach\, FL\, 32082\, United States
CATEGORIES:Service
ATTACH;FMTTYPE=image/png:https://redeemerpv.com/wp-content/uploads/2024/06/Midweek-Graphic.png
END:VEVENT
BEGIN:VEVENT
DTSTART;TZID=America/New_York:20251102T090000
DTEND;TZID=America/New_York:20251102T101500
DTSTAMP:20260423T202428
CREATED:20240730T230121Z
LAST-MODIFIED:20251222T153156Z
UID:10002330-1762074000-1762078500@redeemerpv.com
SUMMARY:Sunday Morning Service [9:00am]
DESCRIPTION:Join us for our weekly 9am service as we worship God\, learn from His Word\, celebrate communion\, and build relationships with one another! Every Sunday service includes a dynamic Redeemer Kids experience for children ages Birth – 5th grade. \nWith questions as you prepare to visit\, email info@redeemerpv.com. We look forward to meeting you! \n 
URL:https://redeemerpv.com/event/sunday-morning-service-900am/2025-11-02/
LOCATION:Redeemer Campus\, 190 S Roscoe Blvd\, Ponte Vedra Beach\, FL\, 32082\, United States
ATTACH;FMTTYPE=image/png:https://redeemerpv.com/wp-content/uploads/2024/07/Joyfully-60-Slide-1.png
END:VEVENT
BEGIN:VEVENT
DTSTART;TZID=America/New_York:20251102T094500
DTEND;TZID=America/New_York:20251102T104500
DTSTAMP:20260423T202428
CREATED:20250415T152536Z
LAST-MODIFIED:20260226T171644Z
UID:10005334-1762076700-1762080300@redeemerpv.com
SUMMARY:Discover Redeemer
DESCRIPTION:Come discover more about who we are as a church community and explore how you and your family can get better connected at Discover Redeemer! This one-hour class will be held on first Sunday of every month after each morning service. We can’t wait to help you get more connected! \nRSVP \nFirst Sunday of the Month\n9:45-10:45am\, 11:15am-12:15pm\, + 12:45-1:45pm\nLight refreshments will be served.
URL:https://redeemerpv.com/event/discover-redeemer-2/2025-11-02/
LOCATION:Redeemer Campus\, 190 S Roscoe Blvd\, Ponte Vedra Beach\, FL\, 32082\, United States
CATEGORIES:Meeting
ATTACH;FMTTYPE=image/png:https://redeemerpv.com/wp-content/uploads/2025/01/Discover-Redeemer-New-Look.png
END:VEVENT
BEGIN:VEVENT
DTSTART;TZID=America/New_York:20251102T103000
DTEND;TZID=America/New_York:20251102T114500
DTSTAMP:20260423T202428
CREATED:20240730T230411Z
LAST-MODIFIED:20251222T153043Z
UID:10002591-1762079400-1762083900@redeemerpv.com
SUMMARY:Sunday Morning Service [10:30am]
DESCRIPTION:Join us for our weekly 10:30am service as we worship God\, learn from His Word\, celebrate communion\, and build relationships with one another! Every Sunday service includes a dynamic Redeemer Kids experience for children ages Birth – 5th grade. \nWith questions as you prepare to visit\, email info@redeemerpv.com. \nThis service is offered on campus and live online. Click below to join the livestream at 10:30am EST! \nJOIN US ONLINE!
URL:https://redeemerpv.com/event/sunday-morning-service-1030am/2025-11-02/
LOCATION:Redeemer Campus\, 190 S Roscoe Blvd\, Ponte Vedra Beach\, FL\, 32082\, United States
ATTACH;FMTTYPE=image/png:https://redeemerpv.com/wp-content/uploads/2024/07/Joyfully-60-Slide-1.png
END:VEVENT
BEGIN:VEVENT
DTSTART;TZID=America/New_York:20251105T180000
DTEND;TZID=America/New_York:20251105T200000
DTSTAMP:20260423T202428
CREATED:20250811T175417Z
LAST-MODIFIED:20260305T150239Z
UID:10003850-1762365600-1762372800@redeemerpv.com
SUMMARY:Midweek Gathering
DESCRIPTION:Every Wednesday we offer a variety of classes and activities for the whole family! \nCome at 6pm for a delicious dinner for $5 per person. Then at 6:45pm\, head to rKids (6 months – 5th grade)\, The Rally (students 6-12th grade)\, Special Nation or the Adult Bible teaching (also live-streamed). We can’t wait to see you! \nWatch the livestream at 6:45pm EST on our Youtube channel. \nClick here to join online
URL:https://redeemerpv.com/event/midweek-gathering-2-2/2025-11-05/
LOCATION:Redeemer Campus\, 190 S Roscoe Blvd\, Ponte Vedra Beach\, FL\, 32082\, United States
CATEGORIES:Service
ATTACH;FMTTYPE=image/png:https://redeemerpv.com/wp-content/uploads/2024/06/Midweek-Graphic.png
END:VEVENT
BEGIN:VEVENT
DTSTART;TZID=America/New_York:20251106T103000
DTEND;TZID=America/New_York:20251106T120000
DTSTAMP:20260423T202428
CREATED:20240724T211216Z
LAST-MODIFIED:20240730T225407Z
UID:10001683-1762425000-1762430400@redeemerpv.com
SUMMARY:Joyfully 60+
DESCRIPTION:If you’re 60 years or older\, we would love to have you join us on the 1st Thursday of every month for great fellowship and food. Bring a dish for the potluck lunch and let’s get together! \nWith questions\, email info@redeemerpv.com.
URL:https://redeemerpv.com/event/joyfully-60/2025-11-06/
LOCATION:FL
CATEGORIES:Group
ATTACH;FMTTYPE=image/png:https://redeemerpv.com/wp-content/uploads/2024/07/Joyfully-60-Slide.png
END:VEVENT
BEGIN:VEVENT
DTSTART;TZID=America/New_York:20251109T090000
DTEND;TZID=America/New_York:20251109T101500
DTSTAMP:20260423T202428
CREATED:20240730T230121Z
LAST-MODIFIED:20251222T153156Z
UID:10002331-1762678800-1762683300@redeemerpv.com
SUMMARY:Sunday Morning Service [9:00am]
DESCRIPTION:Join us for our weekly 9am service as we worship God\, learn from His Word\, celebrate communion\, and build relationships with one another! Every Sunday service includes a dynamic Redeemer Kids experience for children ages Birth – 5th grade. \nWith questions as you prepare to visit\, email info@redeemerpv.com. We look forward to meeting you! \n 
URL:https://redeemerpv.com/event/sunday-morning-service-900am/2025-11-09/
LOCATION:Redeemer Campus\, 190 S Roscoe Blvd\, Ponte Vedra Beach\, FL\, 32082\, United States
ATTACH;FMTTYPE=image/png:https://redeemerpv.com/wp-content/uploads/2024/07/Joyfully-60-Slide-1.png
END:VEVENT
BEGIN:VEVENT
DTSTART;TZID=America/New_York:20251109T103000
DTEND;TZID=America/New_York:20251109T113000
DTSTAMP:20260423T202428
CREATED:20240724T211950Z
LAST-MODIFIED:20250326T155429Z
UID:10001382-1762684200-1762687800@redeemerpv.com
SUMMARY:Special Nation Praise Service
DESCRIPTION:On the second Sunday of the month\, we have a no-hush service that is put on by our Special Nation ministry and intentionally designed for those affected by disabilities and their families. All are welcome! \nSpecial Praise meets in the Student Auditorium in the Family Center at 10:30AM. \n 
URL:https://redeemerpv.com/event/special-nation-praise-service/2025-11-09/
LOCATION:Redeemer Campus\, 190 S Roscoe Blvd\, Ponte Vedra Beach\, FL\, 32082\, United States
CATEGORIES:Service
ATTACH;FMTTYPE=image/png:https://redeemerpv.com/wp-content/uploads/2024/07/Special-Praise-Service-2024-750-×-422-px.png
END:VEVENT
BEGIN:VEVENT
DTSTART;TZID=America/New_York:20251109T103000
DTEND;TZID=America/New_York:20251109T114500
DTSTAMP:20260423T202428
CREATED:20240730T230411Z
LAST-MODIFIED:20251222T153043Z
UID:10002592-1762684200-1762688700@redeemerpv.com
SUMMARY:Sunday Morning Service [10:30am]
DESCRIPTION:Join us for our weekly 10:30am service as we worship God\, learn from His Word\, celebrate communion\, and build relationships with one another! Every Sunday service includes a dynamic Redeemer Kids experience for children ages Birth – 5th grade. \nWith questions as you prepare to visit\, email info@redeemerpv.com. \nThis service is offered on campus and live online. Click below to join the livestream at 10:30am EST! \nJOIN US ONLINE!
URL:https://redeemerpv.com/event/sunday-morning-service-1030am/2025-11-09/
LOCATION:Redeemer Campus\, 190 S Roscoe Blvd\, Ponte Vedra Beach\, FL\, 32082\, United States
ATTACH;FMTTYPE=image/png:https://redeemerpv.com/wp-content/uploads/2024/07/Joyfully-60-Slide-1.png
END:VEVENT
BEGIN:VEVENT
DTSTART;TZID=America/New_York:20251109T120000
DTEND;TZID=America/New_York:20251109T130000
DTSTAMP:20260423T202428
CREATED:20251103T162525Z
LAST-MODIFIED:20251103T162525Z
UID:10004105-1762689600-1762693200@redeemerpv.com
SUMMARY:Volunteer Vision Day
DESCRIPTION:NOVEMBER 9th | 12-1pm \nIf you serve on any team at Redeemer you are invited to this special time of prayer and vision as we look forward to 2026! Light refreshments will be provided. RSVP by clicking below. \nRSVP HERE
URL:https://redeemerpv.com/event/volunteer-vision-day/
LOCATION:Redeemer Campus\, 190 S Roscoe Blvd\, Ponte Vedra Beach\, FL\, 32082\, United States
CATEGORIES:Meeting
ATTACH;FMTTYPE=image/png:https://redeemerpv.com/wp-content/uploads/2025/11/VOLUNTEER-VISION-DAY-750-x-422-px.png
END:VEVENT
BEGIN:VEVENT
DTSTART;TZID=America/New_York:20251110T183000
DTEND;TZID=America/New_York:20251110T203000
DTSTAMP:20260423T202428
CREATED:20251103T162749Z
LAST-MODIFIED:20251103T162749Z
UID:10004106-1762799400-1762806600@redeemerpv.com
SUMMARY:Surviving the Holidays
DESCRIPTION:NOVEMBER 10 | 6:30-8:30pm \nThis GriefShare seminar is for those who have lost a loved one. Don’t go through the holidays alone; we are here to equip you for this season. Click below to register for free. \nREGISTER HERE
URL:https://redeemerpv.com/event/surviving-the-holidays/
LOCATION:Redeemer Campus\, 190 S Roscoe Blvd\, Ponte Vedra Beach\, FL\, 32082\, United States
CATEGORIES:Meeting
ATTACH;FMTTYPE=image/png:https://redeemerpv.com/wp-content/uploads/2025/11/Surviving-the-Holidays-2025.png
END:VEVENT
BEGIN:VEVENT
DTSTART;TZID=America/New_York:20251112T093000
DTEND;TZID=America/New_York:20251112T110000
DTSTAMP:20260423T202428
CREATED:20250617T151840Z
LAST-MODIFIED:20260111T170131Z
UID:10003782-1762939800-1762945200@redeemerpv.com
SUMMARY:MomCo Gathering
DESCRIPTION:Motherhood is complicated. Mom friends help! \nMomCo encourages and equips moms to realize their potential as mothers\, women and leaders\, in relationship with Jesus\, and in partnership with the local church. We believe in supporting moms through life-giving community. \nMomCo meets the second and fourth Wednesday of the month from 9:30-11AM at Redeemer Church. Click below for more information or to register! \nMORE INFO + REGISTER
URL:https://redeemerpv.com/event/momco-gathering-4/2025-11-12/
LOCATION:Redeemer Campus\, 190 S Roscoe Blvd\, Ponte Vedra Beach\, FL\, 32082\, United States
CATEGORIES:Group
ATTACH;FMTTYPE=image/png:https://redeemerpv.com/wp-content/uploads/2024/07/MomCo-General-Graphic-.png
END:VEVENT
BEGIN:VEVENT
DTSTART;TZID=America/New_York:20251112T180000
DTEND;TZID=America/New_York:20251112T200000
DTSTAMP:20260423T202428
CREATED:20250811T175417Z
LAST-MODIFIED:20260305T150239Z
UID:10003851-1762970400-1762977600@redeemerpv.com
SUMMARY:Midweek Gathering
DESCRIPTION:Every Wednesday we offer a variety of classes and activities for the whole family! \nCome at 6pm for a delicious dinner for $5 per person. Then at 6:45pm\, head to rKids (6 months – 5th grade)\, The Rally (students 6-12th grade)\, Special Nation or the Adult Bible teaching (also live-streamed). We can’t wait to see you! \nWatch the livestream at 6:45pm EST on our Youtube channel. \nClick here to join online
URL:https://redeemerpv.com/event/midweek-gathering-2-2/2025-11-12/
LOCATION:Redeemer Campus\, 190 S Roscoe Blvd\, Ponte Vedra Beach\, FL\, 32082\, United States
CATEGORIES:Service
ATTACH;FMTTYPE=image/png:https://redeemerpv.com/wp-content/uploads/2024/06/Midweek-Graphic.png
END:VEVENT
BEGIN:VEVENT
DTSTART;TZID=America/New_York:20251115T100000
DTEND;TZID=America/New_York:20251115T130000
DTSTAMP:20260423T202428
CREATED:20240724T212412Z
LAST-MODIFIED:20240805T191756Z
UID:10001442-1763200800-1763211600@redeemerpv.com
SUMMARY:Nocatee Farmers Market Outreach
DESCRIPTION:Come represent Redeemer Church with our team on the third Saturday of every month at the Nocatee Farmer’s Market! We have a blast playing with kids\, praying for people\, and inviting families to visit us at Redeemer. Join us for the fun from 10AM-1PM! \nSIGN UP TO SERVE
URL:https://redeemerpv.com/event/nocatee-farmers-market-outreach/2025-11-15/
LOCATION:Redeemer Campus\, 190 S Roscoe Blvd\, Ponte Vedra Beach\, FL\, 32082\, United States
CATEGORIES:Outreach
ATTACH;FMTTYPE=image/png:https://redeemerpv.com/wp-content/uploads/2024/07/Farmers-Market-Graphic-750-x-422-px.png
END:VEVENT
BEGIN:VEVENT
DTSTART;TZID=America/New_York:20251116T090000
DTEND;TZID=America/New_York:20251116T101500
DTSTAMP:20260423T202428
CREATED:20240730T230121Z
LAST-MODIFIED:20251222T153156Z
UID:10002332-1763283600-1763288100@redeemerpv.com
SUMMARY:Sunday Morning Service [9:00am]
DESCRIPTION:Join us for our weekly 9am service as we worship God\, learn from His Word\, celebrate communion\, and build relationships with one another! Every Sunday service includes a dynamic Redeemer Kids experience for children ages Birth – 5th grade. \nWith questions as you prepare to visit\, email info@redeemerpv.com. We look forward to meeting you! \n 
URL:https://redeemerpv.com/event/sunday-morning-service-900am/2025-11-16/
LOCATION:Redeemer Campus\, 190 S Roscoe Blvd\, Ponte Vedra Beach\, FL\, 32082\, United States
ATTACH;FMTTYPE=image/png:https://redeemerpv.com/wp-content/uploads/2024/07/Joyfully-60-Slide-1.png
END:VEVENT
BEGIN:VEVENT
DTSTART;TZID=America/New_York:20251116T103000
DTEND;TZID=America/New_York:20251116T114500
DTSTAMP:20260423T202428
CREATED:20240730T230411Z
LAST-MODIFIED:20251222T153043Z
UID:10002593-1763289000-1763293500@redeemerpv.com
SUMMARY:Sunday Morning Service [10:30am]
DESCRIPTION:Join us for our weekly 10:30am service as we worship God\, learn from His Word\, celebrate communion\, and build relationships with one another! Every Sunday service includes a dynamic Redeemer Kids experience for children ages Birth – 5th grade. \nWith questions as you prepare to visit\, email info@redeemerpv.com. \nThis service is offered on campus and live online. Click below to join the livestream at 10:30am EST! \nJOIN US ONLINE!
URL:https://redeemerpv.com/event/sunday-morning-service-1030am/2025-11-16/
LOCATION:Redeemer Campus\, 190 S Roscoe Blvd\, Ponte Vedra Beach\, FL\, 32082\, United States
ATTACH;FMTTYPE=image/png:https://redeemerpv.com/wp-content/uploads/2024/07/Joyfully-60-Slide-1.png
END:VEVENT
BEGIN:VEVENT
DTSTART;TZID=America/New_York:20251118T190000
DTEND;TZID=America/New_York:20251118T203000
DTSTAMP:20260423T202428
CREATED:20251103T163129Z
LAST-MODIFIED:20251103T163129Z
UID:10004107-1763492400-1763497800@redeemerpv.com
SUMMARY:Diocese of Redemption Convocation Service
DESCRIPTION:NOVEMBER 18 | 7-8:30pm \nA convocation is simply a formal gathering of the people and clergy of a Diocese. A diocese is a group of churches that serve one another under the oversight of a Bishop. We are privileged to be a part of the Diocese of Redemption. On this evening\, a churchwide service is being offered that will focus on the theology of Communion. It will be a special evening of worship and God’s Word\, around His Table! \nFor more information about the Diocese of Redemption or to pre-register for childcare\, click below. \nABOUT THE DIOCESE OF REDEMPTION
URL:https://redeemerpv.com/event/diocese-of-redemption-convocation-service/
LOCATION:Redeemer Campus\, 190 S Roscoe Blvd\, Ponte Vedra Beach\, FL\, 32082\, United States
CATEGORIES:Service
ATTACH;FMTTYPE=image/png:https://redeemerpv.com/wp-content/uploads/2025/11/DOR-Convocation-Invite-2025-webapp.png
END:VEVENT
BEGIN:VEVENT
DTSTART;TZID=America/New_York:20251119T180000
DTEND;TZID=America/New_York:20251119T200000
DTSTAMP:20260423T202428
CREATED:20250811T175417Z
LAST-MODIFIED:20260305T150239Z
UID:10003852-1763575200-1763582400@redeemerpv.com
SUMMARY:Midweek Gathering
DESCRIPTION:Every Wednesday we offer a variety of classes and activities for the whole family! \nCome at 6pm for a delicious dinner for $5 per person. Then at 6:45pm\, head to rKids (6 months – 5th grade)\, The Rally (students 6-12th grade)\, Special Nation or the Adult Bible teaching (also live-streamed). We can’t wait to see you! \nWatch the livestream at 6:45pm EST on our Youtube channel. \nClick here to join online
URL:https://redeemerpv.com/event/midweek-gathering-2-2/2025-11-19/
LOCATION:Redeemer Campus\, 190 S Roscoe Blvd\, Ponte Vedra Beach\, FL\, 32082\, United States
CATEGORIES:Service
ATTACH;FMTTYPE=image/png:https://redeemerpv.com/wp-content/uploads/2024/06/Midweek-Graphic.png
END:VEVENT
BEGIN:VEVENT
DTSTART;TZID=America/New_York:20251123T090000
DTEND;TZID=America/New_York:20251123T101500
DTSTAMP:20260423T202428
CREATED:20240730T230121Z
LAST-MODIFIED:20251222T153156Z
UID:10002333-1763888400-1763892900@redeemerpv.com
SUMMARY:Sunday Morning Service [9:00am]
DESCRIPTION:Join us for our weekly 9am service as we worship God\, learn from His Word\, celebrate communion\, and build relationships with one another! Every Sunday service includes a dynamic Redeemer Kids experience for children ages Birth – 5th grade. \nWith questions as you prepare to visit\, email info@redeemerpv.com. We look forward to meeting you! \n 
URL:https://redeemerpv.com/event/sunday-morning-service-900am/2025-11-23/
LOCATION:Redeemer Campus\, 190 S Roscoe Blvd\, Ponte Vedra Beach\, FL\, 32082\, United States
ATTACH;FMTTYPE=image/png:https://redeemerpv.com/wp-content/uploads/2024/07/Joyfully-60-Slide-1.png
END:VEVENT
BEGIN:VEVENT
DTSTART;TZID=America/New_York:20251123T103000
DTEND;TZID=America/New_York:20251123T114500
DTSTAMP:20260423T202428
CREATED:20240730T230411Z
LAST-MODIFIED:20251222T153043Z
UID:10002594-1763893800-1763898300@redeemerpv.com
SUMMARY:Sunday Morning Service [10:30am]
DESCRIPTION:Join us for our weekly 10:30am service as we worship God\, learn from His Word\, celebrate communion\, and build relationships with one another! Every Sunday service includes a dynamic Redeemer Kids experience for children ages Birth – 5th grade. \nWith questions as you prepare to visit\, email info@redeemerpv.com. \nThis service is offered on campus and live online. Click below to join the livestream at 10:30am EST! \nJOIN US ONLINE!
URL:https://redeemerpv.com/event/sunday-morning-service-1030am/2025-11-23/
LOCATION:Redeemer Campus\, 190 S Roscoe Blvd\, Ponte Vedra Beach\, FL\, 32082\, United States
ATTACH;FMTTYPE=image/png:https://redeemerpv.com/wp-content/uploads/2024/07/Joyfully-60-Slide-1.png
END:VEVENT
BEGIN:VEVENT
DTSTART;TZID=America/New_York:20251126T093000
DTEND;TZID=America/New_York:20251126T110000
DTSTAMP:20260423T202428
CREATED:20250806T175137Z
LAST-MODIFIED:20260111T170203Z
UID:10003723-1764149400-1764154800@redeemerpv.com
SUMMARY:MomCo Gathering
DESCRIPTION:Motherhood is complicated. Mom friends help! \nMomCo encourages and equips moms to realize their potential as mothers\, women and leaders\, in relationship with Jesus\, and in partnership with the local church. We believe in supporting moms through life-giving community. \nMomCo meets the second and fourth Wednesday of the month from 9:30-11AM at Redeemer Church. Click below for more information or to register! \nMORE INFO + REGISTER
URL:https://redeemerpv.com/event/momco-gathering-3/2025-11-26/
LOCATION:Redeemer Campus\, 190 S Roscoe Blvd\, Ponte Vedra Beach\, FL\, 32082\, United States
CATEGORIES:Group
ATTACH;FMTTYPE=image/png:https://redeemerpv.com/wp-content/uploads/2024/07/MomCo-General-Graphic-.png
END:VEVENT
BEGIN:VEVENT
DTSTART;TZID=America/New_York:20251126T180000
DTEND;TZID=America/New_York:20251126T200000
DTSTAMP:20260423T202428
CREATED:20250811T175417Z
LAST-MODIFIED:20260305T150239Z
UID:10003853-1764180000-1764187200@redeemerpv.com
SUMMARY:Midweek Gathering
DESCRIPTION:Every Wednesday we offer a variety of classes and activities for the whole family! \nCome at 6pm for a delicious dinner for $5 per person. Then at 6:45pm\, head to rKids (6 months – 5th grade)\, The Rally (students 6-12th grade)\, Special Nation or the Adult Bible teaching (also live-streamed). We can’t wait to see you! \nWatch the livestream at 6:45pm EST on our Youtube channel. \nClick here to join online
URL:https://redeemerpv.com/event/midweek-gathering-2-2/2025-11-26/
LOCATION:Redeemer Campus\, 190 S Roscoe Blvd\, Ponte Vedra Beach\, FL\, 32082\, United States
CATEGORIES:Service
ATTACH;FMTTYPE=image/png:https://redeemerpv.com/wp-content/uploads/2024/06/Midweek-Graphic.png
END:VEVENT
BEGIN:VEVENT
DTSTART;TZID=America/New_York:20251130T090000
DTEND;TZID=America/New_York:20251130T101500
DTSTAMP:20260423T202428
CREATED:20240730T230121Z
LAST-MODIFIED:20251222T153156Z
UID:10002334-1764493200-1764497700@redeemerpv.com
SUMMARY:Sunday Morning Service [9:00am]
DESCRIPTION:Join us for our weekly 9am service as we worship God\, learn from His Word\, celebrate communion\, and build relationships with one another! Every Sunday service includes a dynamic Redeemer Kids experience for children ages Birth – 5th grade. \nWith questions as you prepare to visit\, email info@redeemerpv.com. We look forward to meeting you! \n 
URL:https://redeemerpv.com/event/sunday-morning-service-900am/2025-11-30/
LOCATION:Redeemer Campus\, 190 S Roscoe Blvd\, Ponte Vedra Beach\, FL\, 32082\, United States
ATTACH;FMTTYPE=image/png:https://redeemerpv.com/wp-content/uploads/2024/07/Joyfully-60-Slide-1.png
END:VEVENT
END:VCALENDAR