BEGIN:VCALENDAR
VERSION:2.0
PRODID:-//Redeemer Church - ECPv6.15.20//NONSGML v1.0//EN
CALSCALE:GREGORIAN
METHOD:PUBLISH
X-ORIGINAL-URL:https://redeemerpv.com
X-WR-CALDESC:Events for Redeemer Church
REFRESH-INTERVAL;VALUE=DURATION:PT1H
X-Robots-Tag:noindex
X-PUBLISHED-TTL:PT1H
BEGIN:VTIMEZONE
TZID:America/New_York
BEGIN:DAYLIGHT
TZOFFSETFROM:-0500
TZOFFSETTO:-0400
TZNAME:EDT
DTSTART:20240310T070000
END:DAYLIGHT
BEGIN:STANDARD
TZOFFSETFROM:-0400
TZOFFSETTO:-0500
TZNAME:EST
DTSTART:20241103T060000
END:STANDARD
BEGIN:DAYLIGHT
TZOFFSETFROM:-0500
TZOFFSETTO:-0400
TZNAME:EDT
DTSTART:20250309T070000
END:DAYLIGHT
BEGIN:STANDARD
TZOFFSETFROM:-0400
TZOFFSETTO:-0500
TZNAME:EST
DTSTART:20251102T060000
END:STANDARD
BEGIN:DAYLIGHT
TZOFFSETFROM:-0500
TZOFFSETTO:-0400
TZNAME:EDT
DTSTART:20260308T070000
END:DAYLIGHT
BEGIN:STANDARD
TZOFFSETFROM:-0400
TZOFFSETTO:-0500
TZNAME:EST
DTSTART:20261101T060000
END:STANDARD
END:VTIMEZONE
BEGIN:VEVENT
DTSTART;TZID=America/New_York:20250202T090000
DTEND;TZID=America/New_York:20250202T101500
DTSTAMP:20260424T114510
CREATED:20240730T230121Z
LAST-MODIFIED:20251222T153156Z
UID:10002291-1738486800-1738491300@redeemerpv.com
SUMMARY:Sunday Morning Service [9:00am]
DESCRIPTION:Join us for our weekly 9am service as we worship God\, learn from His Word\, celebrate communion\, and build relationships with one another! Every Sunday service includes a dynamic Redeemer Kids experience for children ages Birth – 5th grade. \nWith questions as you prepare to visit\, email info@redeemerpv.com. We look forward to meeting you! \n 
URL:https://redeemerpv.com/event/sunday-morning-service-900am/2025-02-02/
LOCATION:Redeemer Campus\, 190 S Roscoe Blvd\, Ponte Vedra Beach\, FL\, 32082\, United States
ATTACH;FMTTYPE=image/png:https://redeemerpv.com/wp-content/uploads/2024/07/Joyfully-60-Slide-1.png
END:VEVENT
BEGIN:VEVENT
DTSTART;TZID=America/New_York:20250202T103000
DTEND;TZID=America/New_York:20250202T114500
DTSTAMP:20260424T114510
CREATED:20240730T230411Z
LAST-MODIFIED:20251222T153043Z
UID:10002552-1738492200-1738496700@redeemerpv.com
SUMMARY:Sunday Morning Service [10:30am]
DESCRIPTION:Join us for our weekly 10:30am service as we worship God\, learn from His Word\, celebrate communion\, and build relationships with one another! Every Sunday service includes a dynamic Redeemer Kids experience for children ages Birth – 5th grade. \nWith questions as you prepare to visit\, email info@redeemerpv.com. \nThis service is offered on campus and live online. Click below to join the livestream at 10:30am EST! \nJOIN US ONLINE!
URL:https://redeemerpv.com/event/sunday-morning-service-1030am/2025-02-02/
LOCATION:Redeemer Campus\, 190 S Roscoe Blvd\, Ponte Vedra Beach\, FL\, 32082\, United States
ATTACH;FMTTYPE=image/png:https://redeemerpv.com/wp-content/uploads/2024/07/Joyfully-60-Slide-1.png
END:VEVENT
BEGIN:VEVENT
DTSTART;TZID=America/New_York:20250205T183000
DTEND;TZID=America/New_York:20250205T203000
DTSTAMP:20260424T114510
CREATED:20240724T204140Z
LAST-MODIFIED:20240725T192436Z
UID:10000291-1738780200-1738787400@redeemerpv.com
SUMMARY:Midweek Gathering
DESCRIPTION:Every Wednesday we offer a variety of classes and activities for the whole family! \nCome at 6:30pm for a time of community and a delicious dinner for $5 per person. Then at 7:15pm\, head to rKids (6 weeks – 5th grade)\, The Rally (students 6-12th grade)\, Special Nation or the Adult Bible teaching (also live-streamed). We can’t wait to see you! \n  \nWatch the live-stream at 7:15pm \nLivestream
URL:https://redeemerpv.com/event/midweek-gathering/2025-02-05/
LOCATION:Redeemer Campus\, 190 S Roscoe Blvd\, Ponte Vedra Beach\, FL\, 32082\, United States
CATEGORIES:Service
ATTACH;FMTTYPE=image/png:https://redeemerpv.com/wp-content/uploads/2024/06/Midweek-Graphic.png
END:VEVENT
BEGIN:VEVENT
DTSTART;TZID=America/New_York:20250206T103000
DTEND;TZID=America/New_York:20250206T120000
DTSTAMP:20260424T114510
CREATED:20240724T211216Z
LAST-MODIFIED:20240730T225407Z
UID:10001674-1738837800-1738843200@redeemerpv.com
SUMMARY:Joyfully 60+
DESCRIPTION:If you’re 60 years or older\, we would love to have you join us on the 1st Thursday of every month for great fellowship and food. Bring a dish for the potluck lunch and let’s get together! \nWith questions\, email info@redeemerpv.com.
URL:https://redeemerpv.com/event/joyfully-60/2025-02-06/
LOCATION:FL
CATEGORIES:Group
ATTACH;FMTTYPE=image/png:https://redeemerpv.com/wp-content/uploads/2024/07/Joyfully-60-Slide.png
END:VEVENT
BEGIN:VEVENT
DTSTART;TZID=America/New_York:20250207T180000
DTEND;TZID=America/New_York:20250207T200000
DTSTAMP:20260424T114510
CREATED:20250106T195517Z
LAST-MODIFIED:20250127T154450Z
UID:10003388-1738951200-1738958400@redeemerpv.com
SUMMARY:Sensory Night to Shine
DESCRIPTION:We are so excited to host Sensory Night to Shine\, sponsored by the Tim Tebow Foundation on Friday\, February 7\, 2025! Night to Shine is an unforgettable prom night experience\, centered on God’s love\, for people with special needs\, ages 14 and older. \nAs a reminder\, the Sensory Kind Night to Shine hosted by Redeemer Church is a smaller event specifically designed for individuals who need a more sensory-friendly environment and who otherwise would not be able to attend a Night to Shine event. Due to limited space\, if your loved one does not require a sensory-friendly environment\, then we recommend the Jacksonville\, Middleburg or Palatka Night to Shine venues. \nTo register\, volunteer\, or donate to their wishlist\, click the links below. \nGuest Registration Volunteer Registration   Donation Wishlist
URL:https://redeemerpv.com/event/sensory-night-to-shine/
LOCATION:Redeemer Campus\, 190 S Roscoe Blvd\, Ponte Vedra Beach\, FL\, 32082\, United States
CATEGORIES:Meeting
ATTACH;FMTTYPE=image/png:https://redeemerpv.com/wp-content/uploads/2025/01/2025-NTS-Save-the-Date-7-x-5-in3.png
END:VEVENT
BEGIN:VEVENT
DTSTART;TZID=America/New_York:20250209T090000
DTEND;TZID=America/New_York:20250209T101500
DTSTAMP:20260424T114510
CREATED:20240730T230121Z
LAST-MODIFIED:20251222T153156Z
UID:10002292-1739091600-1739096100@redeemerpv.com
SUMMARY:Sunday Morning Service [9:00am]
DESCRIPTION:Join us for our weekly 9am service as we worship God\, learn from His Word\, celebrate communion\, and build relationships with one another! Every Sunday service includes a dynamic Redeemer Kids experience for children ages Birth – 5th grade. \nWith questions as you prepare to visit\, email info@redeemerpv.com. We look forward to meeting you! \n 
URL:https://redeemerpv.com/event/sunday-morning-service-900am/2025-02-09/
LOCATION:Redeemer Campus\, 190 S Roscoe Blvd\, Ponte Vedra Beach\, FL\, 32082\, United States
ATTACH;FMTTYPE=image/png:https://redeemerpv.com/wp-content/uploads/2024/07/Joyfully-60-Slide-1.png
END:VEVENT
BEGIN:VEVENT
DTSTART;TZID=America/New_York:20250209T103000
DTEND;TZID=America/New_York:20250209T113000
DTSTAMP:20260424T114510
CREATED:20240724T211950Z
LAST-MODIFIED:20250326T155429Z
UID:10001373-1739097000-1739100600@redeemerpv.com
SUMMARY:Special Nation Praise Service
DESCRIPTION:On the second Sunday of the month\, we have a no-hush service that is put on by our Special Nation ministry and intentionally designed for those affected by disabilities and their families. All are welcome! \nSpecial Praise meets in the Student Auditorium in the Family Center at 10:30AM. \n 
URL:https://redeemerpv.com/event/special-nation-praise-service/2025-02-09/
LOCATION:Redeemer Campus\, 190 S Roscoe Blvd\, Ponte Vedra Beach\, FL\, 32082\, United States
CATEGORIES:Service
ATTACH;FMTTYPE=image/png:https://redeemerpv.com/wp-content/uploads/2024/07/Special-Praise-Service-2024-750-×-422-px.png
END:VEVENT
BEGIN:VEVENT
DTSTART;TZID=America/New_York:20250209T103000
DTEND;TZID=America/New_York:20250209T114500
DTSTAMP:20260424T114510
CREATED:20240730T230411Z
LAST-MODIFIED:20251222T153043Z
UID:10002553-1739097000-1739101500@redeemerpv.com
SUMMARY:Sunday Morning Service [10:30am]
DESCRIPTION:Join us for our weekly 10:30am service as we worship God\, learn from His Word\, celebrate communion\, and build relationships with one another! Every Sunday service includes a dynamic Redeemer Kids experience for children ages Birth – 5th grade. \nWith questions as you prepare to visit\, email info@redeemerpv.com. \nThis service is offered on campus and live online. Click below to join the livestream at 10:30am EST! \nJOIN US ONLINE!
URL:https://redeemerpv.com/event/sunday-morning-service-1030am/2025-02-09/
LOCATION:Redeemer Campus\, 190 S Roscoe Blvd\, Ponte Vedra Beach\, FL\, 32082\, United States
ATTACH;FMTTYPE=image/png:https://redeemerpv.com/wp-content/uploads/2024/07/Joyfully-60-Slide-1.png
END:VEVENT
BEGIN:VEVENT
DTSTART;TZID=America/New_York:20250212T183000
DTEND;TZID=America/New_York:20250212T203000
DTSTAMP:20260424T114510
CREATED:20240724T204140Z
LAST-MODIFIED:20240725T192436Z
UID:10000292-1739385000-1739392200@redeemerpv.com
SUMMARY:Midweek Gathering
DESCRIPTION:Every Wednesday we offer a variety of classes and activities for the whole family! \nCome at 6:30pm for a time of community and a delicious dinner for $5 per person. Then at 7:15pm\, head to rKids (6 weeks – 5th grade)\, The Rally (students 6-12th grade)\, Special Nation or the Adult Bible teaching (also live-streamed). We can’t wait to see you! \n  \nWatch the live-stream at 7:15pm \nLivestream
URL:https://redeemerpv.com/event/midweek-gathering/2025-02-12/
LOCATION:Redeemer Campus\, 190 S Roscoe Blvd\, Ponte Vedra Beach\, FL\, 32082\, United States
CATEGORIES:Service
ATTACH;FMTTYPE=image/png:https://redeemerpv.com/wp-content/uploads/2024/06/Midweek-Graphic.png
END:VEVENT
BEGIN:VEVENT
DTSTART;TZID=America/New_York:20250215T100000
DTEND;TZID=America/New_York:20250215T130000
DTSTAMP:20260424T114510
CREATED:20240724T212412Z
LAST-MODIFIED:20240805T191756Z
UID:10001433-1739613600-1739624400@redeemerpv.com
SUMMARY:Nocatee Farmers Market Outreach
DESCRIPTION:Come represent Redeemer Church with our team on the third Saturday of every month at the Nocatee Farmer’s Market! We have a blast playing with kids\, praying for people\, and inviting families to visit us at Redeemer. Join us for the fun from 10AM-1PM! \nSIGN UP TO SERVE
URL:https://redeemerpv.com/event/nocatee-farmers-market-outreach/2025-02-15/
LOCATION:Redeemer Campus\, 190 S Roscoe Blvd\, Ponte Vedra Beach\, FL\, 32082\, United States
CATEGORIES:Outreach
ATTACH;FMTTYPE=image/png:https://redeemerpv.com/wp-content/uploads/2024/07/Farmers-Market-Graphic-750-x-422-px.png
END:VEVENT
BEGIN:VEVENT
DTSTART;TZID=America/New_York:20250216T090000
DTEND;TZID=America/New_York:20250216T101500
DTSTAMP:20260424T114510
CREATED:20240730T230121Z
LAST-MODIFIED:20251222T153156Z
UID:10002293-1739696400-1739700900@redeemerpv.com
SUMMARY:Sunday Morning Service [9:00am]
DESCRIPTION:Join us for our weekly 9am service as we worship God\, learn from His Word\, celebrate communion\, and build relationships with one another! Every Sunday service includes a dynamic Redeemer Kids experience for children ages Birth – 5th grade. \nWith questions as you prepare to visit\, email info@redeemerpv.com. We look forward to meeting you! \n 
URL:https://redeemerpv.com/event/sunday-morning-service-900am/2025-02-16/
LOCATION:Redeemer Campus\, 190 S Roscoe Blvd\, Ponte Vedra Beach\, FL\, 32082\, United States
ATTACH;FMTTYPE=image/png:https://redeemerpv.com/wp-content/uploads/2024/07/Joyfully-60-Slide-1.png
END:VEVENT
BEGIN:VEVENT
DTSTART;TZID=America/New_York:20250216T103000
DTEND;TZID=America/New_York:20250216T114500
DTSTAMP:20260424T114510
CREATED:20240730T230411Z
LAST-MODIFIED:20251222T153043Z
UID:10002554-1739701800-1739706300@redeemerpv.com
SUMMARY:Sunday Morning Service [10:30am]
DESCRIPTION:Join us for our weekly 10:30am service as we worship God\, learn from His Word\, celebrate communion\, and build relationships with one another! Every Sunday service includes a dynamic Redeemer Kids experience for children ages Birth – 5th grade. \nWith questions as you prepare to visit\, email info@redeemerpv.com. \nThis service is offered on campus and live online. Click below to join the livestream at 10:30am EST! \nJOIN US ONLINE!
URL:https://redeemerpv.com/event/sunday-morning-service-1030am/2025-02-16/
LOCATION:Redeemer Campus\, 190 S Roscoe Blvd\, Ponte Vedra Beach\, FL\, 32082\, United States
ATTACH;FMTTYPE=image/png:https://redeemerpv.com/wp-content/uploads/2024/07/Joyfully-60-Slide-1.png
END:VEVENT
BEGIN:VEVENT
DTSTART;TZID=America/New_York:20250219T183000
DTEND;TZID=America/New_York:20250219T203000
DTSTAMP:20260424T114510
CREATED:20240724T204140Z
LAST-MODIFIED:20240725T192436Z
UID:10000293-1739989800-1739997000@redeemerpv.com
SUMMARY:Midweek Gathering
DESCRIPTION:Every Wednesday we offer a variety of classes and activities for the whole family! \nCome at 6:30pm for a time of community and a delicious dinner for $5 per person. Then at 7:15pm\, head to rKids (6 weeks – 5th grade)\, The Rally (students 6-12th grade)\, Special Nation or the Adult Bible teaching (also live-streamed). We can’t wait to see you! \n  \nWatch the live-stream at 7:15pm \nLivestream
URL:https://redeemerpv.com/event/midweek-gathering/2025-02-19/
LOCATION:Redeemer Campus\, 190 S Roscoe Blvd\, Ponte Vedra Beach\, FL\, 32082\, United States
CATEGORIES:Service
ATTACH;FMTTYPE=image/png:https://redeemerpv.com/wp-content/uploads/2024/06/Midweek-Graphic.png
END:VEVENT
BEGIN:VEVENT
DTSTART;TZID=America/New_York:20250222T090000
DTEND;TZID=America/New_York:20250222T140000
DTSTAMP:20260424T114510
CREATED:20250204T201042Z
LAST-MODIFIED:20250204T201042Z
UID:10003389-1740214800-1740232800@redeemerpv.com
SUMMARY:Gospel Conversations Training
DESCRIPTION:This is an in-depth seminar on how to share your faith! If you’ve been to one of our 15-minute gospel trainings\, this is a great next step. Every person will learn how to turn everyday conversations into gospel conversations! With questions\, email Pastor Mark at Mark@RedeemerPV.com \n 
URL:https://redeemerpv.com/event/gospel-conversations-training/
LOCATION:Redeemer Campus\, 190 S Roscoe Blvd\, Ponte Vedra Beach\, FL\, 32082\, United States
CATEGORIES:Meeting
ATTACH;FMTTYPE=image/png:https://redeemerpv.com/wp-content/uploads/2025/02/Gospel-Conversations-2025.png
END:VEVENT
BEGIN:VEVENT
DTSTART;TZID=America/New_York:20250223T090000
DTEND;TZID=America/New_York:20250223T101500
DTSTAMP:20260424T114510
CREATED:20240730T230121Z
LAST-MODIFIED:20251222T153156Z
UID:10002294-1740301200-1740305700@redeemerpv.com
SUMMARY:Sunday Morning Service [9:00am]
DESCRIPTION:Join us for our weekly 9am service as we worship God\, learn from His Word\, celebrate communion\, and build relationships with one another! Every Sunday service includes a dynamic Redeemer Kids experience for children ages Birth – 5th grade. \nWith questions as you prepare to visit\, email info@redeemerpv.com. We look forward to meeting you! \n 
URL:https://redeemerpv.com/event/sunday-morning-service-900am/2025-02-23/
LOCATION:Redeemer Campus\, 190 S Roscoe Blvd\, Ponte Vedra Beach\, FL\, 32082\, United States
ATTACH;FMTTYPE=image/png:https://redeemerpv.com/wp-content/uploads/2024/07/Joyfully-60-Slide-1.png
END:VEVENT
BEGIN:VEVENT
DTSTART;TZID=America/New_York:20250223T103000
DTEND;TZID=America/New_York:20250223T114500
DTSTAMP:20260424T114510
CREATED:20240730T230411Z
LAST-MODIFIED:20251222T153043Z
UID:10002555-1740306600-1740311100@redeemerpv.com
SUMMARY:Sunday Morning Service [10:30am]
DESCRIPTION:Join us for our weekly 10:30am service as we worship God\, learn from His Word\, celebrate communion\, and build relationships with one another! Every Sunday service includes a dynamic Redeemer Kids experience for children ages Birth – 5th grade. \nWith questions as you prepare to visit\, email info@redeemerpv.com. \nThis service is offered on campus and live online. Click below to join the livestream at 10:30am EST! \nJOIN US ONLINE!
URL:https://redeemerpv.com/event/sunday-morning-service-1030am/2025-02-23/
LOCATION:Redeemer Campus\, 190 S Roscoe Blvd\, Ponte Vedra Beach\, FL\, 32082\, United States
ATTACH;FMTTYPE=image/png:https://redeemerpv.com/wp-content/uploads/2024/07/Joyfully-60-Slide-1.png
END:VEVENT
BEGIN:VEVENT
DTSTART;TZID=America/New_York:20250226T183000
DTEND;TZID=America/New_York:20250226T203000
DTSTAMP:20260424T114510
CREATED:20240724T204140Z
LAST-MODIFIED:20240725T192436Z
UID:10000294-1740594600-1740601800@redeemerpv.com
SUMMARY:Midweek Gathering
DESCRIPTION:Every Wednesday we offer a variety of classes and activities for the whole family! \nCome at 6:30pm for a time of community and a delicious dinner for $5 per person. Then at 7:15pm\, head to rKids (6 weeks – 5th grade)\, The Rally (students 6-12th grade)\, Special Nation or the Adult Bible teaching (also live-streamed). We can’t wait to see you! \n  \nWatch the live-stream at 7:15pm \nLivestream
URL:https://redeemerpv.com/event/midweek-gathering/2025-02-26/
LOCATION:Redeemer Campus\, 190 S Roscoe Blvd\, Ponte Vedra Beach\, FL\, 32082\, United States
CATEGORIES:Service
ATTACH;FMTTYPE=image/png:https://redeemerpv.com/wp-content/uploads/2024/06/Midweek-Graphic.png
END:VEVENT
BEGIN:VEVENT
DTSTART;TZID=America/New_York:20250302T090000
DTEND;TZID=America/New_York:20250302T101500
DTSTAMP:20260424T114510
CREATED:20240730T230121Z
LAST-MODIFIED:20251222T153156Z
UID:10002295-1740906000-1740910500@redeemerpv.com
SUMMARY:Sunday Morning Service [9:00am]
DESCRIPTION:Join us for our weekly 9am service as we worship God\, learn from His Word\, celebrate communion\, and build relationships with one another! Every Sunday service includes a dynamic Redeemer Kids experience for children ages Birth – 5th grade. \nWith questions as you prepare to visit\, email info@redeemerpv.com. We look forward to meeting you! \n 
URL:https://redeemerpv.com/event/sunday-morning-service-900am/2025-03-02/
LOCATION:Redeemer Campus\, 190 S Roscoe Blvd\, Ponte Vedra Beach\, FL\, 32082\, United States
ATTACH;FMTTYPE=image/png:https://redeemerpv.com/wp-content/uploads/2024/07/Joyfully-60-Slide-1.png
END:VEVENT
BEGIN:VEVENT
DTSTART;TZID=America/New_York:20250302T103000
DTEND;TZID=America/New_York:20250302T114500
DTSTAMP:20260424T114510
CREATED:20240730T230411Z
LAST-MODIFIED:20251222T153043Z
UID:10002556-1740911400-1740915900@redeemerpv.com
SUMMARY:Sunday Morning Service [10:30am]
DESCRIPTION:Join us for our weekly 10:30am service as we worship God\, learn from His Word\, celebrate communion\, and build relationships with one another! Every Sunday service includes a dynamic Redeemer Kids experience for children ages Birth – 5th grade. \nWith questions as you prepare to visit\, email info@redeemerpv.com. \nThis service is offered on campus and live online. Click below to join the livestream at 10:30am EST! \nJOIN US ONLINE!
URL:https://redeemerpv.com/event/sunday-morning-service-1030am/2025-03-02/
LOCATION:Redeemer Campus\, 190 S Roscoe Blvd\, Ponte Vedra Beach\, FL\, 32082\, United States
ATTACH;FMTTYPE=image/png:https://redeemerpv.com/wp-content/uploads/2024/07/Joyfully-60-Slide-1.png
END:VEVENT
BEGIN:VEVENT
DTSTART;TZID=America/New_York:20250305T083000
DTEND;TZID=America/New_York:20250305T090000
DTSTAMP:20260424T114510
CREATED:20250217T151401Z
LAST-MODIFIED:20250226T153228Z
UID:10003391-1741163400-1741165200@redeemerpv.com
SUMMARY:Lent Morning Prayer
DESCRIPTION:March 5th – April 17th | 8:30-9am \nJoin us on campus or on our YouTube channel at 8:30AM for a time of guided prayer. We can’t wait to see how God uses this time to speak to us during this Lent season! \nClick to join us online or view the digital prayer guide. \nWATCH LIVE ONLINE \nDIGITAL PRAYER GUIDE \n 
URL:https://redeemerpv.com/event/ash-wednesday/2025-03-05/
LOCATION:Redeemer Campus\, 190 S Roscoe Blvd\, Ponte Vedra Beach\, FL\, 32082\, United States
CATEGORIES:Service
ATTACH;FMTTYPE=image/png:https://redeemerpv.com/wp-content/uploads/2025/02/Lent-Morning-Prayer-Graphic-2025.png
END:VEVENT
BEGIN:VEVENT
DTSTART;TZID=America/New_York:20250305T183000
DTEND;TZID=America/New_York:20250305T203000
DTSTAMP:20260424T114510
CREATED:20240724T204140Z
LAST-MODIFIED:20240725T192436Z
UID:10000295-1741199400-1741206600@redeemerpv.com
SUMMARY:Midweek Gathering
DESCRIPTION:Every Wednesday we offer a variety of classes and activities for the whole family! \nCome at 6:30pm for a time of community and a delicious dinner for $5 per person. Then at 7:15pm\, head to rKids (6 weeks – 5th grade)\, The Rally (students 6-12th grade)\, Special Nation or the Adult Bible teaching (also live-streamed). We can’t wait to see you! \n  \nWatch the live-stream at 7:15pm \nLivestream
URL:https://redeemerpv.com/event/midweek-gathering/2025-03-05/
LOCATION:Redeemer Campus\, 190 S Roscoe Blvd\, Ponte Vedra Beach\, FL\, 32082\, United States
CATEGORIES:Service
ATTACH;FMTTYPE=image/png:https://redeemerpv.com/wp-content/uploads/2024/06/Midweek-Graphic.png
END:VEVENT
BEGIN:VEVENT
DTSTART;TZID=America/New_York:20250306T083000
DTEND;TZID=America/New_York:20250306T090000
DTSTAMP:20260424T114510
CREATED:20250217T151401Z
LAST-MODIFIED:20250226T153228Z
UID:10003392-1741249800-1741251600@redeemerpv.com
SUMMARY:Lent Morning Prayer
DESCRIPTION:March 5th – April 17th | 8:30-9am \nJoin us on campus or on our YouTube channel at 8:30AM for a time of guided prayer. We can’t wait to see how God uses this time to speak to us during this Lent season! \nClick to join us online or view the digital prayer guide. \nWATCH LIVE ONLINE \nDIGITAL PRAYER GUIDE \n 
URL:https://redeemerpv.com/event/ash-wednesday/2025-03-06/
LOCATION:Redeemer Campus\, 190 S Roscoe Blvd\, Ponte Vedra Beach\, FL\, 32082\, United States
CATEGORIES:Service
ATTACH;FMTTYPE=image/png:https://redeemerpv.com/wp-content/uploads/2025/02/Lent-Morning-Prayer-Graphic-2025.png
END:VEVENT
BEGIN:VEVENT
DTSTART;TZID=America/New_York:20250306T103000
DTEND;TZID=America/New_York:20250306T120000
DTSTAMP:20260424T114510
CREATED:20240724T211216Z
LAST-MODIFIED:20240730T225407Z
UID:10001675-1741257000-1741262400@redeemerpv.com
SUMMARY:Joyfully 60+
DESCRIPTION:If you’re 60 years or older\, we would love to have you join us on the 1st Thursday of every month for great fellowship and food. Bring a dish for the potluck lunch and let’s get together! \nWith questions\, email info@redeemerpv.com.
URL:https://redeemerpv.com/event/joyfully-60/2025-03-06/
LOCATION:FL
CATEGORIES:Group
ATTACH;FMTTYPE=image/png:https://redeemerpv.com/wp-content/uploads/2024/07/Joyfully-60-Slide.png
END:VEVENT
BEGIN:VEVENT
DTSTART;TZID=America/New_York:20250307T083000
DTEND;TZID=America/New_York:20250307T090000
DTSTAMP:20260424T114510
CREATED:20250217T151401Z
LAST-MODIFIED:20250226T153228Z
UID:10003393-1741336200-1741338000@redeemerpv.com
SUMMARY:Lent Morning Prayer
DESCRIPTION:March 5th – April 17th | 8:30-9am \nJoin us on campus or on our YouTube channel at 8:30AM for a time of guided prayer. We can’t wait to see how God uses this time to speak to us during this Lent season! \nClick to join us online or view the digital prayer guide. \nWATCH LIVE ONLINE \nDIGITAL PRAYER GUIDE \n 
URL:https://redeemerpv.com/event/ash-wednesday/2025-03-07/
LOCATION:Redeemer Campus\, 190 S Roscoe Blvd\, Ponte Vedra Beach\, FL\, 32082\, United States
CATEGORIES:Service
ATTACH;FMTTYPE=image/png:https://redeemerpv.com/wp-content/uploads/2025/02/Lent-Morning-Prayer-Graphic-2025.png
END:VEVENT
BEGIN:VEVENT
DTSTART;TZID=America/New_York:20250309T090000
DTEND;TZID=America/New_York:20250309T101500
DTSTAMP:20260424T114510
CREATED:20240730T230121Z
LAST-MODIFIED:20251222T153156Z
UID:10002296-1741510800-1741515300@redeemerpv.com
SUMMARY:Sunday Morning Service [9:00am]
DESCRIPTION:Join us for our weekly 9am service as we worship God\, learn from His Word\, celebrate communion\, and build relationships with one another! Every Sunday service includes a dynamic Redeemer Kids experience for children ages Birth – 5th grade. \nWith questions as you prepare to visit\, email info@redeemerpv.com. We look forward to meeting you! \n 
URL:https://redeemerpv.com/event/sunday-morning-service-900am/2025-03-09/
LOCATION:Redeemer Campus\, 190 S Roscoe Blvd\, Ponte Vedra Beach\, FL\, 32082\, United States
ATTACH;FMTTYPE=image/png:https://redeemerpv.com/wp-content/uploads/2024/07/Joyfully-60-Slide-1.png
END:VEVENT
BEGIN:VEVENT
DTSTART;TZID=America/New_York:20250309T103000
DTEND;TZID=America/New_York:20250309T113000
DTSTAMP:20260424T114510
CREATED:20240724T211950Z
LAST-MODIFIED:20250326T155429Z
UID:10001374-1741516200-1741519800@redeemerpv.com
SUMMARY:Special Nation Praise Service
DESCRIPTION:On the second Sunday of the month\, we have a no-hush service that is put on by our Special Nation ministry and intentionally designed for those affected by disabilities and their families. All are welcome! \nSpecial Praise meets in the Student Auditorium in the Family Center at 10:30AM. \n 
URL:https://redeemerpv.com/event/special-nation-praise-service/2025-03-09/
LOCATION:Redeemer Campus\, 190 S Roscoe Blvd\, Ponte Vedra Beach\, FL\, 32082\, United States
CATEGORIES:Service
ATTACH;FMTTYPE=image/png:https://redeemerpv.com/wp-content/uploads/2024/07/Special-Praise-Service-2024-750-×-422-px.png
END:VEVENT
BEGIN:VEVENT
DTSTART;TZID=America/New_York:20250309T103000
DTEND;TZID=America/New_York:20250309T114500
DTSTAMP:20260424T114510
CREATED:20240730T230411Z
LAST-MODIFIED:20251222T153043Z
UID:10002557-1741516200-1741520700@redeemerpv.com
SUMMARY:Sunday Morning Service [10:30am]
DESCRIPTION:Join us for our weekly 10:30am service as we worship God\, learn from His Word\, celebrate communion\, and build relationships with one another! Every Sunday service includes a dynamic Redeemer Kids experience for children ages Birth – 5th grade. \nWith questions as you prepare to visit\, email info@redeemerpv.com. \nThis service is offered on campus and live online. Click below to join the livestream at 10:30am EST! \nJOIN US ONLINE!
URL:https://redeemerpv.com/event/sunday-morning-service-1030am/2025-03-09/
LOCATION:Redeemer Campus\, 190 S Roscoe Blvd\, Ponte Vedra Beach\, FL\, 32082\, United States
ATTACH;FMTTYPE=image/png:https://redeemerpv.com/wp-content/uploads/2024/07/Joyfully-60-Slide-1.png
END:VEVENT
BEGIN:VEVENT
DTSTART;TZID=America/New_York:20250310T083000
DTEND;TZID=America/New_York:20250310T090000
DTSTAMP:20260424T114510
CREATED:20250217T151401Z
LAST-MODIFIED:20250226T153228Z
UID:10003394-1741595400-1741597200@redeemerpv.com
SUMMARY:Lent Morning Prayer
DESCRIPTION:March 5th – April 17th | 8:30-9am \nJoin us on campus or on our YouTube channel at 8:30AM for a time of guided prayer. We can’t wait to see how God uses this time to speak to us during this Lent season! \nClick to join us online or view the digital prayer guide. \nWATCH LIVE ONLINE \nDIGITAL PRAYER GUIDE \n 
URL:https://redeemerpv.com/event/ash-wednesday/2025-03-10/
LOCATION:Redeemer Campus\, 190 S Roscoe Blvd\, Ponte Vedra Beach\, FL\, 32082\, United States
CATEGORIES:Service
ATTACH;FMTTYPE=image/png:https://redeemerpv.com/wp-content/uploads/2025/02/Lent-Morning-Prayer-Graphic-2025.png
END:VEVENT
BEGIN:VEVENT
DTSTART;TZID=America/New_York:20250311T083000
DTEND;TZID=America/New_York:20250311T090000
DTSTAMP:20260424T114510
CREATED:20250217T151401Z
LAST-MODIFIED:20250226T153228Z
UID:10003395-1741681800-1741683600@redeemerpv.com
SUMMARY:Lent Morning Prayer
DESCRIPTION:March 5th – April 17th | 8:30-9am \nJoin us on campus or on our YouTube channel at 8:30AM for a time of guided prayer. We can’t wait to see how God uses this time to speak to us during this Lent season! \nClick to join us online or view the digital prayer guide. \nWATCH LIVE ONLINE \nDIGITAL PRAYER GUIDE \n 
URL:https://redeemerpv.com/event/ash-wednesday/2025-03-11/
LOCATION:Redeemer Campus\, 190 S Roscoe Blvd\, Ponte Vedra Beach\, FL\, 32082\, United States
CATEGORIES:Service
ATTACH;FMTTYPE=image/png:https://redeemerpv.com/wp-content/uploads/2025/02/Lent-Morning-Prayer-Graphic-2025.png
END:VEVENT
BEGIN:VEVENT
DTSTART;TZID=America/New_York:20250312T083000
DTEND;TZID=America/New_York:20250312T090000
DTSTAMP:20260424T114510
CREATED:20250217T151401Z
LAST-MODIFIED:20250226T153228Z
UID:10003396-1741768200-1741770000@redeemerpv.com
SUMMARY:Lent Morning Prayer
DESCRIPTION:March 5th – April 17th | 8:30-9am \nJoin us on campus or on our YouTube channel at 8:30AM for a time of guided prayer. We can’t wait to see how God uses this time to speak to us during this Lent season! \nClick to join us online or view the digital prayer guide. \nWATCH LIVE ONLINE \nDIGITAL PRAYER GUIDE \n 
URL:https://redeemerpv.com/event/ash-wednesday/2025-03-12/
LOCATION:Redeemer Campus\, 190 S Roscoe Blvd\, Ponte Vedra Beach\, FL\, 32082\, United States
CATEGORIES:Service
ATTACH;FMTTYPE=image/png:https://redeemerpv.com/wp-content/uploads/2025/02/Lent-Morning-Prayer-Graphic-2025.png
END:VEVENT
END:VCALENDAR