BEGIN:VCALENDAR
VERSION:2.0
PRODID:-//Redeemer Church - ECPv6.15.20//NONSGML v1.0//EN
CALSCALE:GREGORIAN
METHOD:PUBLISH
X-WR-CALNAME:Redeemer Church
X-ORIGINAL-URL:https://redeemerpv.com
X-WR-CALDESC:Events for Redeemer Church
REFRESH-INTERVAL;VALUE=DURATION:PT1H
X-Robots-Tag:noindex
X-PUBLISHED-TTL:PT1H
BEGIN:VTIMEZONE
TZID:America/New_York
BEGIN:DAYLIGHT
TZOFFSETFROM:-0500
TZOFFSETTO:-0400
TZNAME:EDT
DTSTART:20240310T070000
END:DAYLIGHT
BEGIN:STANDARD
TZOFFSETFROM:-0400
TZOFFSETTO:-0500
TZNAME:EST
DTSTART:20241103T060000
END:STANDARD
BEGIN:DAYLIGHT
TZOFFSETFROM:-0500
TZOFFSETTO:-0400
TZNAME:EDT
DTSTART:20250309T070000
END:DAYLIGHT
BEGIN:STANDARD
TZOFFSETFROM:-0400
TZOFFSETTO:-0500
TZNAME:EST
DTSTART:20251102T060000
END:STANDARD
BEGIN:DAYLIGHT
TZOFFSETFROM:-0500
TZOFFSETTO:-0400
TZNAME:EDT
DTSTART:20260308T070000
END:DAYLIGHT
BEGIN:STANDARD
TZOFFSETFROM:-0400
TZOFFSETTO:-0500
TZNAME:EST
DTSTART:20261101T060000
END:STANDARD
END:VTIMEZONE
BEGIN:VEVENT
DTSTART;TZID=America/New_York:20250314T083000
DTEND;TZID=America/New_York:20250314T090000
DTSTAMP:20260424T114052
CREATED:20250217T151401Z
LAST-MODIFIED:20250226T153228Z
UID:10003398-1741941000-1741942800@redeemerpv.com
SUMMARY:Lent Morning Prayer
DESCRIPTION:March 5th – April 17th | 8:30-9am \nJoin us on campus or on our YouTube channel at 8:30AM for a time of guided prayer. We can’t wait to see how God uses this time to speak to us during this Lent season! \nClick to join us online or view the digital prayer guide. \nWATCH LIVE ONLINE \nDIGITAL PRAYER GUIDE \n 
URL:https://redeemerpv.com/event/ash-wednesday/2025-03-14/
LOCATION:Redeemer Campus\, 190 S Roscoe Blvd\, Ponte Vedra Beach\, FL\, 32082\, United States
CATEGORIES:Service
ATTACH;FMTTYPE=image/png:https://redeemerpv.com/wp-content/uploads/2025/02/Lent-Morning-Prayer-Graphic-2025.png
END:VEVENT
BEGIN:VEVENT
DTSTART;TZID=America/New_York:20250315T100000
DTEND;TZID=America/New_York:20250315T130000
DTSTAMP:20260424T114052
CREATED:20240724T212412Z
LAST-MODIFIED:20240805T191756Z
UID:10001434-1742032800-1742043600@redeemerpv.com
SUMMARY:Nocatee Farmers Market Outreach
DESCRIPTION:Come represent Redeemer Church with our team on the third Saturday of every month at the Nocatee Farmer’s Market! We have a blast playing with kids\, praying for people\, and inviting families to visit us at Redeemer. Join us for the fun from 10AM-1PM! \nSIGN UP TO SERVE
URL:https://redeemerpv.com/event/nocatee-farmers-market-outreach/2025-03-15/
LOCATION:Redeemer Campus\, 190 S Roscoe Blvd\, Ponte Vedra Beach\, FL\, 32082\, United States
CATEGORIES:Outreach
ATTACH;FMTTYPE=image/png:https://redeemerpv.com/wp-content/uploads/2024/07/Farmers-Market-Graphic-750-x-422-px.png
END:VEVENT
BEGIN:VEVENT
DTSTART;TZID=America/New_York:20250316T090000
DTEND;TZID=America/New_York:20250316T101500
DTSTAMP:20260424T114052
CREATED:20240730T230121Z
LAST-MODIFIED:20251222T153156Z
UID:10002297-1742115600-1742120100@redeemerpv.com
SUMMARY:Sunday Morning Service [9:00am]
DESCRIPTION:Join us for our weekly 9am service as we worship God\, learn from His Word\, celebrate communion\, and build relationships with one another! Every Sunday service includes a dynamic Redeemer Kids experience for children ages Birth – 5th grade. \nWith questions as you prepare to visit\, email info@redeemerpv.com. We look forward to meeting you! \n 
URL:https://redeemerpv.com/event/sunday-morning-service-900am/2025-03-16/
LOCATION:Redeemer Campus\, 190 S Roscoe Blvd\, Ponte Vedra Beach\, FL\, 32082\, United States
ATTACH;FMTTYPE=image/png:https://redeemerpv.com/wp-content/uploads/2024/07/Joyfully-60-Slide-1.png
END:VEVENT
BEGIN:VEVENT
DTSTART;TZID=America/New_York:20250316T103000
DTEND;TZID=America/New_York:20250316T114500
DTSTAMP:20260424T114052
CREATED:20240730T230411Z
LAST-MODIFIED:20251222T153043Z
UID:10002558-1742121000-1742125500@redeemerpv.com
SUMMARY:Sunday Morning Service [10:30am]
DESCRIPTION:Join us for our weekly 10:30am service as we worship God\, learn from His Word\, celebrate communion\, and build relationships with one another! Every Sunday service includes a dynamic Redeemer Kids experience for children ages Birth – 5th grade. \nWith questions as you prepare to visit\, email info@redeemerpv.com. \nThis service is offered on campus and live online. Click below to join the livestream at 10:30am EST! \nJOIN US ONLINE!
URL:https://redeemerpv.com/event/sunday-morning-service-1030am/2025-03-16/
LOCATION:Redeemer Campus\, 190 S Roscoe Blvd\, Ponte Vedra Beach\, FL\, 32082\, United States
ATTACH;FMTTYPE=image/png:https://redeemerpv.com/wp-content/uploads/2024/07/Joyfully-60-Slide-1.png
END:VEVENT
BEGIN:VEVENT
DTSTART;TZID=America/New_York:20250317T083000
DTEND;TZID=America/New_York:20250317T090000
DTSTAMP:20260424T114052
CREATED:20250217T151401Z
LAST-MODIFIED:20250226T153228Z
UID:10003399-1742200200-1742202000@redeemerpv.com
SUMMARY:Lent Morning Prayer
DESCRIPTION:March 5th – April 17th | 8:30-9am \nJoin us on campus or on our YouTube channel at 8:30AM for a time of guided prayer. We can’t wait to see how God uses this time to speak to us during this Lent season! \nClick to join us online or view the digital prayer guide. \nWATCH LIVE ONLINE \nDIGITAL PRAYER GUIDE \n 
URL:https://redeemerpv.com/event/ash-wednesday/2025-03-17/
LOCATION:Redeemer Campus\, 190 S Roscoe Blvd\, Ponte Vedra Beach\, FL\, 32082\, United States
CATEGORIES:Service
ATTACH;FMTTYPE=image/png:https://redeemerpv.com/wp-content/uploads/2025/02/Lent-Morning-Prayer-Graphic-2025.png
END:VEVENT
BEGIN:VEVENT
DTSTART;TZID=America/New_York:20250318T083000
DTEND;TZID=America/New_York:20250318T090000
DTSTAMP:20260424T114052
CREATED:20250217T151401Z
LAST-MODIFIED:20250226T153228Z
UID:10003400-1742286600-1742288400@redeemerpv.com
SUMMARY:Lent Morning Prayer
DESCRIPTION:March 5th – April 17th | 8:30-9am \nJoin us on campus or on our YouTube channel at 8:30AM for a time of guided prayer. We can’t wait to see how God uses this time to speak to us during this Lent season! \nClick to join us online or view the digital prayer guide. \nWATCH LIVE ONLINE \nDIGITAL PRAYER GUIDE \n 
URL:https://redeemerpv.com/event/ash-wednesday/2025-03-18/
LOCATION:Redeemer Campus\, 190 S Roscoe Blvd\, Ponte Vedra Beach\, FL\, 32082\, United States
CATEGORIES:Service
ATTACH;FMTTYPE=image/png:https://redeemerpv.com/wp-content/uploads/2025/02/Lent-Morning-Prayer-Graphic-2025.png
END:VEVENT
BEGIN:VEVENT
DTSTART;TZID=America/New_York:20250319T083000
DTEND;TZID=America/New_York:20250319T090000
DTSTAMP:20260424T114052
CREATED:20250217T151401Z
LAST-MODIFIED:20250226T153228Z
UID:10003401-1742373000-1742374800@redeemerpv.com
SUMMARY:Lent Morning Prayer
DESCRIPTION:March 5th – April 17th | 8:30-9am \nJoin us on campus or on our YouTube channel at 8:30AM for a time of guided prayer. We can’t wait to see how God uses this time to speak to us during this Lent season! \nClick to join us online or view the digital prayer guide. \nWATCH LIVE ONLINE \nDIGITAL PRAYER GUIDE \n 
URL:https://redeemerpv.com/event/ash-wednesday/2025-03-19/
LOCATION:Redeemer Campus\, 190 S Roscoe Blvd\, Ponte Vedra Beach\, FL\, 32082\, United States
CATEGORIES:Service
ATTACH;FMTTYPE=image/png:https://redeemerpv.com/wp-content/uploads/2025/02/Lent-Morning-Prayer-Graphic-2025.png
END:VEVENT
BEGIN:VEVENT
DTSTART;TZID=America/New_York:20250319T183000
DTEND;TZID=America/New_York:20250319T203000
DTSTAMP:20260424T114052
CREATED:20240724T204140Z
LAST-MODIFIED:20240725T192436Z
UID:10000297-1742409000-1742416200@redeemerpv.com
SUMMARY:Midweek Gathering
DESCRIPTION:Every Wednesday we offer a variety of classes and activities for the whole family! \nCome at 6:30pm for a time of community and a delicious dinner for $5 per person. Then at 7:15pm\, head to rKids (6 weeks – 5th grade)\, The Rally (students 6-12th grade)\, Special Nation or the Adult Bible teaching (also live-streamed). We can’t wait to see you! \n  \nWatch the live-stream at 7:15pm \nLivestream
URL:https://redeemerpv.com/event/midweek-gathering/2025-03-19/
LOCATION:Redeemer Campus\, 190 S Roscoe Blvd\, Ponte Vedra Beach\, FL\, 32082\, United States
CATEGORIES:Service
ATTACH;FMTTYPE=image/png:https://redeemerpv.com/wp-content/uploads/2024/06/Midweek-Graphic.png
END:VEVENT
BEGIN:VEVENT
DTSTART;TZID=America/New_York:20250320T083000
DTEND;TZID=America/New_York:20250320T090000
DTSTAMP:20260424T114052
CREATED:20250217T151401Z
LAST-MODIFIED:20250226T153228Z
UID:10003402-1742459400-1742461200@redeemerpv.com
SUMMARY:Lent Morning Prayer
DESCRIPTION:March 5th – April 17th | 8:30-9am \nJoin us on campus or on our YouTube channel at 8:30AM for a time of guided prayer. We can’t wait to see how God uses this time to speak to us during this Lent season! \nClick to join us online or view the digital prayer guide. \nWATCH LIVE ONLINE \nDIGITAL PRAYER GUIDE \n 
URL:https://redeemerpv.com/event/ash-wednesday/2025-03-20/
LOCATION:Redeemer Campus\, 190 S Roscoe Blvd\, Ponte Vedra Beach\, FL\, 32082\, United States
CATEGORIES:Service
ATTACH;FMTTYPE=image/png:https://redeemerpv.com/wp-content/uploads/2025/02/Lent-Morning-Prayer-Graphic-2025.png
END:VEVENT
BEGIN:VEVENT
DTSTART;TZID=America/New_York:20250321T083000
DTEND;TZID=America/New_York:20250321T090000
DTSTAMP:20260424T114052
CREATED:20250217T151401Z
LAST-MODIFIED:20250226T153228Z
UID:10003403-1742545800-1742547600@redeemerpv.com
SUMMARY:Lent Morning Prayer
DESCRIPTION:March 5th – April 17th | 8:30-9am \nJoin us on campus or on our YouTube channel at 8:30AM for a time of guided prayer. We can’t wait to see how God uses this time to speak to us during this Lent season! \nClick to join us online or view the digital prayer guide. \nWATCH LIVE ONLINE \nDIGITAL PRAYER GUIDE \n 
URL:https://redeemerpv.com/event/ash-wednesday/2025-03-21/
LOCATION:Redeemer Campus\, 190 S Roscoe Blvd\, Ponte Vedra Beach\, FL\, 32082\, United States
CATEGORIES:Service
ATTACH;FMTTYPE=image/png:https://redeemerpv.com/wp-content/uploads/2025/02/Lent-Morning-Prayer-Graphic-2025.png
END:VEVENT
BEGIN:VEVENT
DTSTART;TZID=America/New_York:20250323T090000
DTEND;TZID=America/New_York:20250323T101500
DTSTAMP:20260424T114052
CREATED:20240730T230121Z
LAST-MODIFIED:20251222T153156Z
UID:10002298-1742720400-1742724900@redeemerpv.com
SUMMARY:Sunday Morning Service [9:00am]
DESCRIPTION:Join us for our weekly 9am service as we worship God\, learn from His Word\, celebrate communion\, and build relationships with one another! Every Sunday service includes a dynamic Redeemer Kids experience for children ages Birth – 5th grade. \nWith questions as you prepare to visit\, email info@redeemerpv.com. We look forward to meeting you! \n 
URL:https://redeemerpv.com/event/sunday-morning-service-900am/2025-03-23/
LOCATION:Redeemer Campus\, 190 S Roscoe Blvd\, Ponte Vedra Beach\, FL\, 32082\, United States
ATTACH;FMTTYPE=image/png:https://redeemerpv.com/wp-content/uploads/2024/07/Joyfully-60-Slide-1.png
END:VEVENT
BEGIN:VEVENT
DTSTART;TZID=America/New_York:20250323T103000
DTEND;TZID=America/New_York:20250323T114500
DTSTAMP:20260424T114052
CREATED:20240730T230411Z
LAST-MODIFIED:20251222T153043Z
UID:10002559-1742725800-1742730300@redeemerpv.com
SUMMARY:Sunday Morning Service [10:30am]
DESCRIPTION:Join us for our weekly 10:30am service as we worship God\, learn from His Word\, celebrate communion\, and build relationships with one another! Every Sunday service includes a dynamic Redeemer Kids experience for children ages Birth – 5th grade. \nWith questions as you prepare to visit\, email info@redeemerpv.com. \nThis service is offered on campus and live online. Click below to join the livestream at 10:30am EST! \nJOIN US ONLINE!
URL:https://redeemerpv.com/event/sunday-morning-service-1030am/2025-03-23/
LOCATION:Redeemer Campus\, 190 S Roscoe Blvd\, Ponte Vedra Beach\, FL\, 32082\, United States
ATTACH;FMTTYPE=image/png:https://redeemerpv.com/wp-content/uploads/2024/07/Joyfully-60-Slide-1.png
END:VEVENT
BEGIN:VEVENT
DTSTART;TZID=America/New_York:20250324T083000
DTEND;TZID=America/New_York:20250324T090000
DTSTAMP:20260424T114052
CREATED:20250217T151401Z
LAST-MODIFIED:20250226T153228Z
UID:10003404-1742805000-1742806800@redeemerpv.com
SUMMARY:Lent Morning Prayer
DESCRIPTION:March 5th – April 17th | 8:30-9am \nJoin us on campus or on our YouTube channel at 8:30AM for a time of guided prayer. We can’t wait to see how God uses this time to speak to us during this Lent season! \nClick to join us online or view the digital prayer guide. \nWATCH LIVE ONLINE \nDIGITAL PRAYER GUIDE \n 
URL:https://redeemerpv.com/event/ash-wednesday/2025-03-24/
LOCATION:Redeemer Campus\, 190 S Roscoe Blvd\, Ponte Vedra Beach\, FL\, 32082\, United States
CATEGORIES:Service
ATTACH;FMTTYPE=image/png:https://redeemerpv.com/wp-content/uploads/2025/02/Lent-Morning-Prayer-Graphic-2025.png
END:VEVENT
BEGIN:VEVENT
DTSTART;TZID=America/New_York:20250325T083000
DTEND;TZID=America/New_York:20250325T090000
DTSTAMP:20260424T114052
CREATED:20250217T151401Z
LAST-MODIFIED:20250226T153228Z
UID:10003405-1742891400-1742893200@redeemerpv.com
SUMMARY:Lent Morning Prayer
DESCRIPTION:March 5th – April 17th | 8:30-9am \nJoin us on campus or on our YouTube channel at 8:30AM for a time of guided prayer. We can’t wait to see how God uses this time to speak to us during this Lent season! \nClick to join us online or view the digital prayer guide. \nWATCH LIVE ONLINE \nDIGITAL PRAYER GUIDE \n 
URL:https://redeemerpv.com/event/ash-wednesday/2025-03-25/
LOCATION:Redeemer Campus\, 190 S Roscoe Blvd\, Ponte Vedra Beach\, FL\, 32082\, United States
CATEGORIES:Service
ATTACH;FMTTYPE=image/png:https://redeemerpv.com/wp-content/uploads/2025/02/Lent-Morning-Prayer-Graphic-2025.png
END:VEVENT
BEGIN:VEVENT
DTSTART;TZID=America/New_York:20250326T083000
DTEND;TZID=America/New_York:20250326T090000
DTSTAMP:20260424T114052
CREATED:20250217T151401Z
LAST-MODIFIED:20250226T153228Z
UID:10003406-1742977800-1742979600@redeemerpv.com
SUMMARY:Lent Morning Prayer
DESCRIPTION:March 5th – April 17th | 8:30-9am \nJoin us on campus or on our YouTube channel at 8:30AM for a time of guided prayer. We can’t wait to see how God uses this time to speak to us during this Lent season! \nClick to join us online or view the digital prayer guide. \nWATCH LIVE ONLINE \nDIGITAL PRAYER GUIDE \n 
URL:https://redeemerpv.com/event/ash-wednesday/2025-03-26/
LOCATION:Redeemer Campus\, 190 S Roscoe Blvd\, Ponte Vedra Beach\, FL\, 32082\, United States
CATEGORIES:Service
ATTACH;FMTTYPE=image/png:https://redeemerpv.com/wp-content/uploads/2025/02/Lent-Morning-Prayer-Graphic-2025.png
END:VEVENT
BEGIN:VEVENT
DTSTART;TZID=America/New_York:20250326T183000
DTEND;TZID=America/New_York:20250326T203000
DTSTAMP:20260424T114052
CREATED:20240724T204140Z
LAST-MODIFIED:20240725T192436Z
UID:10000298-1743013800-1743021000@redeemerpv.com
SUMMARY:Midweek Gathering
DESCRIPTION:Every Wednesday we offer a variety of classes and activities for the whole family! \nCome at 6:30pm for a time of community and a delicious dinner for $5 per person. Then at 7:15pm\, head to rKids (6 weeks – 5th grade)\, The Rally (students 6-12th grade)\, Special Nation or the Adult Bible teaching (also live-streamed). We can’t wait to see you! \n  \nWatch the live-stream at 7:15pm \nLivestream
URL:https://redeemerpv.com/event/midweek-gathering/2025-03-26/
LOCATION:Redeemer Campus\, 190 S Roscoe Blvd\, Ponte Vedra Beach\, FL\, 32082\, United States
CATEGORIES:Service
ATTACH;FMTTYPE=image/png:https://redeemerpv.com/wp-content/uploads/2024/06/Midweek-Graphic.png
END:VEVENT
BEGIN:VEVENT
DTSTART;TZID=America/New_York:20250327T083000
DTEND;TZID=America/New_York:20250327T090000
DTSTAMP:20260424T114052
CREATED:20250217T151401Z
LAST-MODIFIED:20250226T153228Z
UID:10003407-1743064200-1743066000@redeemerpv.com
SUMMARY:Lent Morning Prayer
DESCRIPTION:March 5th – April 17th | 8:30-9am \nJoin us on campus or on our YouTube channel at 8:30AM for a time of guided prayer. We can’t wait to see how God uses this time to speak to us during this Lent season! \nClick to join us online or view the digital prayer guide. \nWATCH LIVE ONLINE \nDIGITAL PRAYER GUIDE \n 
URL:https://redeemerpv.com/event/ash-wednesday/2025-03-27/
LOCATION:Redeemer Campus\, 190 S Roscoe Blvd\, Ponte Vedra Beach\, FL\, 32082\, United States
CATEGORIES:Service
ATTACH;FMTTYPE=image/png:https://redeemerpv.com/wp-content/uploads/2025/02/Lent-Morning-Prayer-Graphic-2025.png
END:VEVENT
BEGIN:VEVENT
DTSTART;TZID=America/New_York:20250328T083000
DTEND;TZID=America/New_York:20250328T090000
DTSTAMP:20260424T114052
CREATED:20250217T151401Z
LAST-MODIFIED:20250226T153228Z
UID:10003408-1743150600-1743152400@redeemerpv.com
SUMMARY:Lent Morning Prayer
DESCRIPTION:March 5th – April 17th | 8:30-9am \nJoin us on campus or on our YouTube channel at 8:30AM for a time of guided prayer. We can’t wait to see how God uses this time to speak to us during this Lent season! \nClick to join us online or view the digital prayer guide. \nWATCH LIVE ONLINE \nDIGITAL PRAYER GUIDE \n 
URL:https://redeemerpv.com/event/ash-wednesday/2025-03-28/
LOCATION:Redeemer Campus\, 190 S Roscoe Blvd\, Ponte Vedra Beach\, FL\, 32082\, United States
CATEGORIES:Service
ATTACH;FMTTYPE=image/png:https://redeemerpv.com/wp-content/uploads/2025/02/Lent-Morning-Prayer-Graphic-2025.png
END:VEVENT
BEGIN:VEVENT
DTSTART;TZID=America/New_York:20250330T090000
DTEND;TZID=America/New_York:20250330T101500
DTSTAMP:20260424T114052
CREATED:20240730T230121Z
LAST-MODIFIED:20251222T153156Z
UID:10002299-1743325200-1743329700@redeemerpv.com
SUMMARY:Sunday Morning Service [9:00am]
DESCRIPTION:Join us for our weekly 9am service as we worship God\, learn from His Word\, celebrate communion\, and build relationships with one another! Every Sunday service includes a dynamic Redeemer Kids experience for children ages Birth – 5th grade. \nWith questions as you prepare to visit\, email info@redeemerpv.com. We look forward to meeting you! \n 
URL:https://redeemerpv.com/event/sunday-morning-service-900am/2025-03-30/
LOCATION:Redeemer Campus\, 190 S Roscoe Blvd\, Ponte Vedra Beach\, FL\, 32082\, United States
ATTACH;FMTTYPE=image/png:https://redeemerpv.com/wp-content/uploads/2024/07/Joyfully-60-Slide-1.png
END:VEVENT
BEGIN:VEVENT
DTSTART;TZID=America/New_York:20250330T090000
DTEND;TZID=America/New_York:20250330T101500
DTSTAMP:20260424T114052
CREATED:20250226T195807Z
LAST-MODIFIED:20250304T181813Z
UID:10003424-1743325200-1743329700@redeemerpv.com
SUMMARY:Child Dedications
DESCRIPTION:As a church that strives to be intentionally generational\, we are excited to include child Dedications as a part of our worship services on Sunday\, March 30th! Click the link below to register your child to be dedicated to the Lord at the 9am or 10:30am service. \nThis is open to children of all ages. With specific questions\, email Cathy@redeemerpv.com. \nREGISTER HERE
URL:https://redeemerpv.com/event/child-dedications-2025/2025-03-30/1/
LOCATION:Redeemer Campus\, 190 S Roscoe Blvd\, Ponte Vedra Beach\, FL\, 32082\, United States
CATEGORIES:Service
ATTACH;FMTTYPE=image/png:https://redeemerpv.com/wp-content/uploads/2025/02/Child-Dedication-Spring-2025.png
END:VEVENT
BEGIN:VEVENT
DTSTART;TZID=America/New_York:20250330T103000
DTEND;TZID=America/New_York:20250330T114500
DTSTAMP:20260424T114052
CREATED:20240730T230411Z
LAST-MODIFIED:20251222T153043Z
UID:10002560-1743330600-1743335100@redeemerpv.com
SUMMARY:Sunday Morning Service [10:30am]
DESCRIPTION:Join us for our weekly 10:30am service as we worship God\, learn from His Word\, celebrate communion\, and build relationships with one another! Every Sunday service includes a dynamic Redeemer Kids experience for children ages Birth – 5th grade. \nWith questions as you prepare to visit\, email info@redeemerpv.com. \nThis service is offered on campus and live online. Click below to join the livestream at 10:30am EST! \nJOIN US ONLINE!
URL:https://redeemerpv.com/event/sunday-morning-service-1030am/2025-03-30/
LOCATION:Redeemer Campus\, 190 S Roscoe Blvd\, Ponte Vedra Beach\, FL\, 32082\, United States
ATTACH;FMTTYPE=image/png:https://redeemerpv.com/wp-content/uploads/2024/07/Joyfully-60-Slide-1.png
END:VEVENT
BEGIN:VEVENT
DTSTART;TZID=America/New_York:20250330T103000
DTEND;TZID=America/New_York:20250330T114500
DTSTAMP:20260424T114052
CREATED:20250226T195807Z
LAST-MODIFIED:20250304T181813Z
UID:10003425-1743330600-1743335100@redeemerpv.com
SUMMARY:Child Dedications
DESCRIPTION:As a church that strives to be intentionally generational\, we are excited to include child Dedications as a part of our worship services on Sunday\, March 30th! Click the link below to register your child to be dedicated to the Lord at the 9am or 10:30am service. \nThis is open to children of all ages. With specific questions\, email Cathy@redeemerpv.com. \nREGISTER HERE
URL:https://redeemerpv.com/event/child-dedications-2025/2025-03-30/2/
LOCATION:Redeemer Campus\, 190 S Roscoe Blvd\, Ponte Vedra Beach\, FL\, 32082\, United States
CATEGORIES:Service
ATTACH;FMTTYPE=image/png:https://redeemerpv.com/wp-content/uploads/2025/02/Child-Dedication-Spring-2025.png
END:VEVENT
BEGIN:VEVENT
DTSTART;TZID=America/New_York:20250331T083000
DTEND;TZID=America/New_York:20250331T090000
DTSTAMP:20260424T114052
CREATED:20250217T151401Z
LAST-MODIFIED:20250226T153228Z
UID:10003409-1743409800-1743411600@redeemerpv.com
SUMMARY:Lent Morning Prayer
DESCRIPTION:March 5th – April 17th | 8:30-9am \nJoin us on campus or on our YouTube channel at 8:30AM for a time of guided prayer. We can’t wait to see how God uses this time to speak to us during this Lent season! \nClick to join us online or view the digital prayer guide. \nWATCH LIVE ONLINE \nDIGITAL PRAYER GUIDE \n 
URL:https://redeemerpv.com/event/ash-wednesday/2025-03-31/
LOCATION:Redeemer Campus\, 190 S Roscoe Blvd\, Ponte Vedra Beach\, FL\, 32082\, United States
CATEGORIES:Service
ATTACH;FMTTYPE=image/png:https://redeemerpv.com/wp-content/uploads/2025/02/Lent-Morning-Prayer-Graphic-2025.png
END:VEVENT
BEGIN:VEVENT
DTSTART;TZID=America/New_York:20250401T083000
DTEND;TZID=America/New_York:20250401T090000
DTSTAMP:20260424T114052
CREATED:20250217T151401Z
LAST-MODIFIED:20250226T153228Z
UID:10003410-1743496200-1743498000@redeemerpv.com
SUMMARY:Lent Morning Prayer
DESCRIPTION:March 5th – April 17th | 8:30-9am \nJoin us on campus or on our YouTube channel at 8:30AM for a time of guided prayer. We can’t wait to see how God uses this time to speak to us during this Lent season! \nClick to join us online or view the digital prayer guide. \nWATCH LIVE ONLINE \nDIGITAL PRAYER GUIDE \n 
URL:https://redeemerpv.com/event/ash-wednesday/2025-04-01/
LOCATION:Redeemer Campus\, 190 S Roscoe Blvd\, Ponte Vedra Beach\, FL\, 32082\, United States
CATEGORIES:Service
ATTACH;FMTTYPE=image/png:https://redeemerpv.com/wp-content/uploads/2025/02/Lent-Morning-Prayer-Graphic-2025.png
END:VEVENT
BEGIN:VEVENT
DTSTART;TZID=America/New_York:20250402T083000
DTEND;TZID=America/New_York:20250402T090000
DTSTAMP:20260424T114052
CREATED:20250217T151401Z
LAST-MODIFIED:20250226T153228Z
UID:10003411-1743582600-1743584400@redeemerpv.com
SUMMARY:Lent Morning Prayer
DESCRIPTION:March 5th – April 17th | 8:30-9am \nJoin us on campus or on our YouTube channel at 8:30AM for a time of guided prayer. We can’t wait to see how God uses this time to speak to us during this Lent season! \nClick to join us online or view the digital prayer guide. \nWATCH LIVE ONLINE \nDIGITAL PRAYER GUIDE \n 
URL:https://redeemerpv.com/event/ash-wednesday/2025-04-02/
LOCATION:Redeemer Campus\, 190 S Roscoe Blvd\, Ponte Vedra Beach\, FL\, 32082\, United States
CATEGORIES:Service
ATTACH;FMTTYPE=image/png:https://redeemerpv.com/wp-content/uploads/2025/02/Lent-Morning-Prayer-Graphic-2025.png
END:VEVENT
BEGIN:VEVENT
DTSTART;TZID=America/New_York:20250402T183000
DTEND;TZID=America/New_York:20250402T203000
DTSTAMP:20260424T114052
CREATED:20240724T204140Z
LAST-MODIFIED:20240725T192436Z
UID:10000299-1743618600-1743625800@redeemerpv.com
SUMMARY:Midweek Gathering
DESCRIPTION:Every Wednesday we offer a variety of classes and activities for the whole family! \nCome at 6:30pm for a time of community and a delicious dinner for $5 per person. Then at 7:15pm\, head to rKids (6 weeks – 5th grade)\, The Rally (students 6-12th grade)\, Special Nation or the Adult Bible teaching (also live-streamed). We can’t wait to see you! \n  \nWatch the live-stream at 7:15pm \nLivestream
URL:https://redeemerpv.com/event/midweek-gathering/2025-04-02/
LOCATION:Redeemer Campus\, 190 S Roscoe Blvd\, Ponte Vedra Beach\, FL\, 32082\, United States
CATEGORIES:Service
ATTACH;FMTTYPE=image/png:https://redeemerpv.com/wp-content/uploads/2024/06/Midweek-Graphic.png
END:VEVENT
BEGIN:VEVENT
DTSTART;TZID=America/New_York:20250403T083000
DTEND;TZID=America/New_York:20250403T090000
DTSTAMP:20260424T114052
CREATED:20250217T151401Z
LAST-MODIFIED:20250226T153228Z
UID:10003412-1743669000-1743670800@redeemerpv.com
SUMMARY:Lent Morning Prayer
DESCRIPTION:March 5th – April 17th | 8:30-9am \nJoin us on campus or on our YouTube channel at 8:30AM for a time of guided prayer. We can’t wait to see how God uses this time to speak to us during this Lent season! \nClick to join us online or view the digital prayer guide. \nWATCH LIVE ONLINE \nDIGITAL PRAYER GUIDE \n 
URL:https://redeemerpv.com/event/ash-wednesday/2025-04-03/
LOCATION:Redeemer Campus\, 190 S Roscoe Blvd\, Ponte Vedra Beach\, FL\, 32082\, United States
CATEGORIES:Service
ATTACH;FMTTYPE=image/png:https://redeemerpv.com/wp-content/uploads/2025/02/Lent-Morning-Prayer-Graphic-2025.png
END:VEVENT
BEGIN:VEVENT
DTSTART;TZID=America/New_York:20250403T103000
DTEND;TZID=America/New_York:20250403T120000
DTSTAMP:20260424T114052
CREATED:20240724T211216Z
LAST-MODIFIED:20240730T225407Z
UID:10001676-1743676200-1743681600@redeemerpv.com
SUMMARY:Joyfully 60+
DESCRIPTION:If you’re 60 years or older\, we would love to have you join us on the 1st Thursday of every month for great fellowship and food. Bring a dish for the potluck lunch and let’s get together! \nWith questions\, email info@redeemerpv.com.
URL:https://redeemerpv.com/event/joyfully-60/2025-04-03/
LOCATION:FL
CATEGORIES:Group
ATTACH;FMTTYPE=image/png:https://redeemerpv.com/wp-content/uploads/2024/07/Joyfully-60-Slide.png
END:VEVENT
BEGIN:VEVENT
DTSTART;TZID=America/New_York:20250404T083000
DTEND;TZID=America/New_York:20250404T090000
DTSTAMP:20260424T114052
CREATED:20250217T151401Z
LAST-MODIFIED:20250226T153228Z
UID:10003413-1743755400-1743757200@redeemerpv.com
SUMMARY:Lent Morning Prayer
DESCRIPTION:March 5th – April 17th | 8:30-9am \nJoin us on campus or on our YouTube channel at 8:30AM for a time of guided prayer. We can’t wait to see how God uses this time to speak to us during this Lent season! \nClick to join us online or view the digital prayer guide. \nWATCH LIVE ONLINE \nDIGITAL PRAYER GUIDE \n 
URL:https://redeemerpv.com/event/ash-wednesday/2025-04-04/
LOCATION:Redeemer Campus\, 190 S Roscoe Blvd\, Ponte Vedra Beach\, FL\, 32082\, United States
CATEGORIES:Service
ATTACH;FMTTYPE=image/png:https://redeemerpv.com/wp-content/uploads/2025/02/Lent-Morning-Prayer-Graphic-2025.png
END:VEVENT
BEGIN:VEVENT
DTSTART;TZID=America/New_York:20250406T090000
DTEND;TZID=America/New_York:20250406T101500
DTSTAMP:20260424T114052
CREATED:20240730T230121Z
LAST-MODIFIED:20251222T153156Z
UID:10002300-1743930000-1743934500@redeemerpv.com
SUMMARY:Sunday Morning Service [9:00am]
DESCRIPTION:Join us for our weekly 9am service as we worship God\, learn from His Word\, celebrate communion\, and build relationships with one another! Every Sunday service includes a dynamic Redeemer Kids experience for children ages Birth – 5th grade. \nWith questions as you prepare to visit\, email info@redeemerpv.com. We look forward to meeting you! \n 
URL:https://redeemerpv.com/event/sunday-morning-service-900am/2025-04-06/
LOCATION:Redeemer Campus\, 190 S Roscoe Blvd\, Ponte Vedra Beach\, FL\, 32082\, United States
ATTACH;FMTTYPE=image/png:https://redeemerpv.com/wp-content/uploads/2024/07/Joyfully-60-Slide-1.png
END:VEVENT
END:VCALENDAR