BEGIN:VCALENDAR
VERSION:2.0
PRODID:-//Redeemer Church - ECPv6.15.20//NONSGML v1.0//EN
CALSCALE:GREGORIAN
METHOD:PUBLISH
X-WR-CALNAME:Redeemer Church
X-ORIGINAL-URL:https://redeemerpv.com
X-WR-CALDESC:Events for Redeemer Church
REFRESH-INTERVAL;VALUE=DURATION:PT1H
X-Robots-Tag:noindex
X-PUBLISHED-TTL:PT1H
BEGIN:VTIMEZONE
TZID:America/New_York
BEGIN:DAYLIGHT
TZOFFSETFROM:-0500
TZOFFSETTO:-0400
TZNAME:EDT
DTSTART:20270314T070000
END:DAYLIGHT
BEGIN:STANDARD
TZOFFSETFROM:-0400
TZOFFSETTO:-0500
TZNAME:EST
DTSTART:20271107T060000
END:STANDARD
BEGIN:DAYLIGHT
TZOFFSETFROM:-0500
TZOFFSETTO:-0400
TZNAME:EDT
DTSTART:20280312T070000
END:DAYLIGHT
BEGIN:STANDARD
TZOFFSETFROM:-0400
TZOFFSETTO:-0500
TZNAME:EST
DTSTART:20281105T060000
END:STANDARD
BEGIN:DAYLIGHT
TZOFFSETFROM:-0500
TZOFFSETTO:-0400
TZNAME:EDT
DTSTART:20290311T070000
END:DAYLIGHT
BEGIN:STANDARD
TZOFFSETFROM:-0400
TZOFFSETTO:-0500
TZNAME:EST
DTSTART:20291104T060000
END:STANDARD
END:VTIMEZONE
BEGIN:VEVENT
DTSTART;TZID=America/New_York:20280130T113000
DTEND;TZID=America/New_York:20280130T124500
DTSTAMP:20260424T195857
CREATED:20260105T151011Z
LAST-MODIFIED:20260331T172749Z
UID:10005115-1832844600-1832849100@redeemerpv.com
SUMMARY:Sunday Morning Service [11:30am]
DESCRIPTION:Join us for our weekly 11:30am service as we worship God\, learn from His Word\, celebrate communion\, and build relationships with one another! Every Sunday service includes a dynamic Redeemer Kids experience for children ages Birth – 5th grade. \nWith questions as you prepare to visit\, email info@redeemerpv.com.
URL:https://redeemerpv.com/event/sunday-morning-service-1130am/2028-01-30/
LOCATION:Redeemer Campus\, 190 S Roscoe Blvd\, Ponte Vedra Beach\, FL\, 32082\, United States
CATEGORIES:Service
ATTACH;FMTTYPE=image/png:https://redeemerpv.com/wp-content/uploads/2024/07/Joyfully-60-Slide-1.png
END:VEVENT
BEGIN:VEVENT
DTSTART;TZID=America/New_York:20280202T180000
DTEND;TZID=America/New_York:20280202T200000
DTSTAMP:20260424T195857
CREATED:20250811T175417Z
LAST-MODIFIED:20260305T150239Z
UID:10003967-1833127200-1833134400@redeemerpv.com
SUMMARY:Midweek Gathering
DESCRIPTION:Every Wednesday we offer a variety of classes and activities for the whole family! \nCome at 6pm for a delicious dinner for $5 per person. Then at 6:45pm\, head to rKids (6 months – 5th grade)\, The Rally (students 6-12th grade)\, Special Nation or the Adult Bible teaching (also live-streamed). We can’t wait to see you! \nWatch the livestream at 6:45pm EST on our Youtube channel. \nClick here to join online
URL:https://redeemerpv.com/event/midweek-gathering-2-2/2028-02-02/
LOCATION:Redeemer Campus\, 190 S Roscoe Blvd\, Ponte Vedra Beach\, FL\, 32082\, United States
CATEGORIES:Service
ATTACH;FMTTYPE=image/png:https://redeemerpv.com/wp-content/uploads/2024/06/Midweek-Graphic.png
END:VEVENT
BEGIN:VEVENT
DTSTART;TZID=America/New_York:20280206T113000
DTEND;TZID=America/New_York:20280206T124500
DTSTAMP:20260424T195857
CREATED:20260105T151011Z
LAST-MODIFIED:20260331T172749Z
UID:10005116-1833449400-1833453900@redeemerpv.com
SUMMARY:Sunday Morning Service [11:30am]
DESCRIPTION:Join us for our weekly 11:30am service as we worship God\, learn from His Word\, celebrate communion\, and build relationships with one another! Every Sunday service includes a dynamic Redeemer Kids experience for children ages Birth – 5th grade. \nWith questions as you prepare to visit\, email info@redeemerpv.com.
URL:https://redeemerpv.com/event/sunday-morning-service-1130am/2028-02-06/
LOCATION:Redeemer Campus\, 190 S Roscoe Blvd\, Ponte Vedra Beach\, FL\, 32082\, United States
CATEGORIES:Service
ATTACH;FMTTYPE=image/png:https://redeemerpv.com/wp-content/uploads/2024/07/Joyfully-60-Slide-1.png
END:VEVENT
BEGIN:VEVENT
DTSTART;TZID=America/New_York:20280209T180000
DTEND;TZID=America/New_York:20280209T200000
DTSTAMP:20260424T195857
CREATED:20250811T175417Z
LAST-MODIFIED:20260305T150239Z
UID:10003968-1833732000-1833739200@redeemerpv.com
SUMMARY:Midweek Gathering
DESCRIPTION:Every Wednesday we offer a variety of classes and activities for the whole family! \nCome at 6pm for a delicious dinner for $5 per person. Then at 6:45pm\, head to rKids (6 months – 5th grade)\, The Rally (students 6-12th grade)\, Special Nation or the Adult Bible teaching (also live-streamed). We can’t wait to see you! \nWatch the livestream at 6:45pm EST on our Youtube channel. \nClick here to join online
URL:https://redeemerpv.com/event/midweek-gathering-2-2/2028-02-09/
LOCATION:Redeemer Campus\, 190 S Roscoe Blvd\, Ponte Vedra Beach\, FL\, 32082\, United States
CATEGORIES:Service
ATTACH;FMTTYPE=image/png:https://redeemerpv.com/wp-content/uploads/2024/06/Midweek-Graphic.png
END:VEVENT
BEGIN:VEVENT
DTSTART;TZID=America/New_York:20280213T100000
DTEND;TZID=America/New_York:20280213T110000
DTSTAMP:20260424T195857
CREATED:20260105T151557Z
LAST-MODIFIED:20260105T151916Z
UID:10005293-1834048800-1834052400@redeemerpv.com
SUMMARY:Special Nation Praise Service
DESCRIPTION:On the second Sunday of the month\, we have a no-hush service that is put on by our Special Nation ministry and intentionally designed for those affected by disabilities and their families. All are welcome! \nSpecial Praise meets in the Student Auditorium in the Family Center at 10AM. \n 
URL:https://redeemerpv.com/event/special-nation-praise-service-2/2028-02-13/
LOCATION:Redeemer Campus\, 190 S Roscoe Blvd\, Ponte Vedra Beach\, FL\, 32082\, United States
CATEGORIES:Service
ATTACH;FMTTYPE=image/png:https://redeemerpv.com/wp-content/uploads/2024/07/Special-Praise-10am.png
END:VEVENT
BEGIN:VEVENT
DTSTART;TZID=America/New_York:20280213T113000
DTEND;TZID=America/New_York:20280213T124500
DTSTAMP:20260424T195857
CREATED:20260105T151011Z
LAST-MODIFIED:20260331T172749Z
UID:10005117-1834054200-1834058700@redeemerpv.com
SUMMARY:Sunday Morning Service [11:30am]
DESCRIPTION:Join us for our weekly 11:30am service as we worship God\, learn from His Word\, celebrate communion\, and build relationships with one another! Every Sunday service includes a dynamic Redeemer Kids experience for children ages Birth – 5th grade. \nWith questions as you prepare to visit\, email info@redeemerpv.com.
URL:https://redeemerpv.com/event/sunday-morning-service-1130am/2028-02-13/
LOCATION:Redeemer Campus\, 190 S Roscoe Blvd\, Ponte Vedra Beach\, FL\, 32082\, United States
CATEGORIES:Service
ATTACH;FMTTYPE=image/png:https://redeemerpv.com/wp-content/uploads/2024/07/Joyfully-60-Slide-1.png
END:VEVENT
BEGIN:VEVENT
DTSTART;TZID=America/New_York:20280216T180000
DTEND;TZID=America/New_York:20280216T200000
DTSTAMP:20260424T195857
CREATED:20250811T175417Z
LAST-MODIFIED:20260305T150239Z
UID:10003969-1834336800-1834344000@redeemerpv.com
SUMMARY:Midweek Gathering
DESCRIPTION:Every Wednesday we offer a variety of classes and activities for the whole family! \nCome at 6pm for a delicious dinner for $5 per person. Then at 6:45pm\, head to rKids (6 months – 5th grade)\, The Rally (students 6-12th grade)\, Special Nation or the Adult Bible teaching (also live-streamed). We can’t wait to see you! \nWatch the livestream at 6:45pm EST on our Youtube channel. \nClick here to join online
URL:https://redeemerpv.com/event/midweek-gathering-2-2/2028-02-16/
LOCATION:Redeemer Campus\, 190 S Roscoe Blvd\, Ponte Vedra Beach\, FL\, 32082\, United States
CATEGORIES:Service
ATTACH;FMTTYPE=image/png:https://redeemerpv.com/wp-content/uploads/2024/06/Midweek-Graphic.png
END:VEVENT
BEGIN:VEVENT
DTSTART;TZID=America/New_York:20280220T113000
DTEND;TZID=America/New_York:20280220T124500
DTSTAMP:20260424T195857
CREATED:20260105T151011Z
LAST-MODIFIED:20260331T172749Z
UID:10005118-1834659000-1834663500@redeemerpv.com
SUMMARY:Sunday Morning Service [11:30am]
DESCRIPTION:Join us for our weekly 11:30am service as we worship God\, learn from His Word\, celebrate communion\, and build relationships with one another! Every Sunday service includes a dynamic Redeemer Kids experience for children ages Birth – 5th grade. \nWith questions as you prepare to visit\, email info@redeemerpv.com.
URL:https://redeemerpv.com/event/sunday-morning-service-1130am/2028-02-20/
LOCATION:Redeemer Campus\, 190 S Roscoe Blvd\, Ponte Vedra Beach\, FL\, 32082\, United States
CATEGORIES:Service
ATTACH;FMTTYPE=image/png:https://redeemerpv.com/wp-content/uploads/2024/07/Joyfully-60-Slide-1.png
END:VEVENT
BEGIN:VEVENT
DTSTART;TZID=America/New_York:20280223T180000
DTEND;TZID=America/New_York:20280223T200000
DTSTAMP:20260424T195857
CREATED:20250811T175417Z
LAST-MODIFIED:20260305T150239Z
UID:10003970-1834941600-1834948800@redeemerpv.com
SUMMARY:Midweek Gathering
DESCRIPTION:Every Wednesday we offer a variety of classes and activities for the whole family! \nCome at 6pm for a delicious dinner for $5 per person. Then at 6:45pm\, head to rKids (6 months – 5th grade)\, The Rally (students 6-12th grade)\, Special Nation or the Adult Bible teaching (also live-streamed). We can’t wait to see you! \nWatch the livestream at 6:45pm EST on our Youtube channel. \nClick here to join online
URL:https://redeemerpv.com/event/midweek-gathering-2-2/2028-02-23/
LOCATION:Redeemer Campus\, 190 S Roscoe Blvd\, Ponte Vedra Beach\, FL\, 32082\, United States
CATEGORIES:Service
ATTACH;FMTTYPE=image/png:https://redeemerpv.com/wp-content/uploads/2024/06/Midweek-Graphic.png
END:VEVENT
BEGIN:VEVENT
DTSTART;TZID=America/New_York:20280227T113000
DTEND;TZID=America/New_York:20280227T124500
DTSTAMP:20260424T195857
CREATED:20260105T151011Z
LAST-MODIFIED:20260331T172749Z
UID:10005119-1835263800-1835268300@redeemerpv.com
SUMMARY:Sunday Morning Service [11:30am]
DESCRIPTION:Join us for our weekly 11:30am service as we worship God\, learn from His Word\, celebrate communion\, and build relationships with one another! Every Sunday service includes a dynamic Redeemer Kids experience for children ages Birth – 5th grade. \nWith questions as you prepare to visit\, email info@redeemerpv.com.
URL:https://redeemerpv.com/event/sunday-morning-service-1130am/2028-02-27/
LOCATION:Redeemer Campus\, 190 S Roscoe Blvd\, Ponte Vedra Beach\, FL\, 32082\, United States
CATEGORIES:Service
ATTACH;FMTTYPE=image/png:https://redeemerpv.com/wp-content/uploads/2024/07/Joyfully-60-Slide-1.png
END:VEVENT
BEGIN:VEVENT
DTSTART;TZID=America/New_York:20280301T180000
DTEND;TZID=America/New_York:20280301T200000
DTSTAMP:20260424T195857
CREATED:20250811T175417Z
LAST-MODIFIED:20260305T150239Z
UID:10003971-1835546400-1835553600@redeemerpv.com
SUMMARY:Midweek Gathering
DESCRIPTION:Every Wednesday we offer a variety of classes and activities for the whole family! \nCome at 6pm for a delicious dinner for $5 per person. Then at 6:45pm\, head to rKids (6 months – 5th grade)\, The Rally (students 6-12th grade)\, Special Nation or the Adult Bible teaching (also live-streamed). We can’t wait to see you! \nWatch the livestream at 6:45pm EST on our Youtube channel. \nClick here to join online
URL:https://redeemerpv.com/event/midweek-gathering-2-2/2028-03-01/
LOCATION:Redeemer Campus\, 190 S Roscoe Blvd\, Ponte Vedra Beach\, FL\, 32082\, United States
CATEGORIES:Service
ATTACH;FMTTYPE=image/png:https://redeemerpv.com/wp-content/uploads/2024/06/Midweek-Graphic.png
END:VEVENT
BEGIN:VEVENT
DTSTART;TZID=America/New_York:20280305T113000
DTEND;TZID=America/New_York:20280305T124500
DTSTAMP:20260424T195857
CREATED:20260105T151011Z
LAST-MODIFIED:20260331T172749Z
UID:10005120-1835868600-1835873100@redeemerpv.com
SUMMARY:Sunday Morning Service [11:30am]
DESCRIPTION:Join us for our weekly 11:30am service as we worship God\, learn from His Word\, celebrate communion\, and build relationships with one another! Every Sunday service includes a dynamic Redeemer Kids experience for children ages Birth – 5th grade. \nWith questions as you prepare to visit\, email info@redeemerpv.com.
URL:https://redeemerpv.com/event/sunday-morning-service-1130am/2028-03-05/
LOCATION:Redeemer Campus\, 190 S Roscoe Blvd\, Ponte Vedra Beach\, FL\, 32082\, United States
CATEGORIES:Service
ATTACH;FMTTYPE=image/png:https://redeemerpv.com/wp-content/uploads/2024/07/Joyfully-60-Slide-1.png
END:VEVENT
BEGIN:VEVENT
DTSTART;TZID=America/New_York:20280308T180000
DTEND;TZID=America/New_York:20280308T200000
DTSTAMP:20260424T195857
CREATED:20250811T175417Z
LAST-MODIFIED:20260305T150239Z
UID:10003972-1836151200-1836158400@redeemerpv.com
SUMMARY:Midweek Gathering
DESCRIPTION:Every Wednesday we offer a variety of classes and activities for the whole family! \nCome at 6pm for a delicious dinner for $5 per person. Then at 6:45pm\, head to rKids (6 months – 5th grade)\, The Rally (students 6-12th grade)\, Special Nation or the Adult Bible teaching (also live-streamed). We can’t wait to see you! \nWatch the livestream at 6:45pm EST on our Youtube channel. \nClick here to join online
URL:https://redeemerpv.com/event/midweek-gathering-2-2/2028-03-08/
LOCATION:Redeemer Campus\, 190 S Roscoe Blvd\, Ponte Vedra Beach\, FL\, 32082\, United States
CATEGORIES:Service
ATTACH;FMTTYPE=image/png:https://redeemerpv.com/wp-content/uploads/2024/06/Midweek-Graphic.png
END:VEVENT
BEGIN:VEVENT
DTSTART;TZID=America/New_York:20280312T100000
DTEND;TZID=America/New_York:20280312T110000
DTSTAMP:20260424T195857
CREATED:20260105T151557Z
LAST-MODIFIED:20260105T151916Z
UID:10005294-1836468000-1836471600@redeemerpv.com
SUMMARY:Special Nation Praise Service
DESCRIPTION:On the second Sunday of the month\, we have a no-hush service that is put on by our Special Nation ministry and intentionally designed for those affected by disabilities and their families. All are welcome! \nSpecial Praise meets in the Student Auditorium in the Family Center at 10AM. \n 
URL:https://redeemerpv.com/event/special-nation-praise-service-2/2028-03-12/
LOCATION:Redeemer Campus\, 190 S Roscoe Blvd\, Ponte Vedra Beach\, FL\, 32082\, United States
CATEGORIES:Service
ATTACH;FMTTYPE=image/png:https://redeemerpv.com/wp-content/uploads/2024/07/Special-Praise-10am.png
END:VEVENT
BEGIN:VEVENT
DTSTART;TZID=America/New_York:20280312T113000
DTEND;TZID=America/New_York:20280312T124500
DTSTAMP:20260424T195857
CREATED:20260105T151011Z
LAST-MODIFIED:20260331T172749Z
UID:10005121-1836473400-1836477900@redeemerpv.com
SUMMARY:Sunday Morning Service [11:30am]
DESCRIPTION:Join us for our weekly 11:30am service as we worship God\, learn from His Word\, celebrate communion\, and build relationships with one another! Every Sunday service includes a dynamic Redeemer Kids experience for children ages Birth – 5th grade. \nWith questions as you prepare to visit\, email info@redeemerpv.com.
URL:https://redeemerpv.com/event/sunday-morning-service-1130am/2028-03-12/
LOCATION:Redeemer Campus\, 190 S Roscoe Blvd\, Ponte Vedra Beach\, FL\, 32082\, United States
CATEGORIES:Service
ATTACH;FMTTYPE=image/png:https://redeemerpv.com/wp-content/uploads/2024/07/Joyfully-60-Slide-1.png
END:VEVENT
BEGIN:VEVENT
DTSTART;TZID=America/New_York:20280315T180000
DTEND;TZID=America/New_York:20280315T200000
DTSTAMP:20260424T195857
CREATED:20250811T175417Z
LAST-MODIFIED:20260305T150239Z
UID:10003973-1836756000-1836763200@redeemerpv.com
SUMMARY:Midweek Gathering
DESCRIPTION:Every Wednesday we offer a variety of classes and activities for the whole family! \nCome at 6pm for a delicious dinner for $5 per person. Then at 6:45pm\, head to rKids (6 months – 5th grade)\, The Rally (students 6-12th grade)\, Special Nation or the Adult Bible teaching (also live-streamed). We can’t wait to see you! \nWatch the livestream at 6:45pm EST on our Youtube channel. \nClick here to join online
URL:https://redeemerpv.com/event/midweek-gathering-2-2/2028-03-15/
LOCATION:Redeemer Campus\, 190 S Roscoe Blvd\, Ponte Vedra Beach\, FL\, 32082\, United States
CATEGORIES:Service
ATTACH;FMTTYPE=image/png:https://redeemerpv.com/wp-content/uploads/2024/06/Midweek-Graphic.png
END:VEVENT
BEGIN:VEVENT
DTSTART;TZID=America/New_York:20280319T113000
DTEND;TZID=America/New_York:20280319T124500
DTSTAMP:20260424T195857
CREATED:20260105T151011Z
LAST-MODIFIED:20260331T172749Z
UID:10005122-1837078200-1837082700@redeemerpv.com
SUMMARY:Sunday Morning Service [11:30am]
DESCRIPTION:Join us for our weekly 11:30am service as we worship God\, learn from His Word\, celebrate communion\, and build relationships with one another! Every Sunday service includes a dynamic Redeemer Kids experience for children ages Birth – 5th grade. \nWith questions as you prepare to visit\, email info@redeemerpv.com.
URL:https://redeemerpv.com/event/sunday-morning-service-1130am/2028-03-19/
LOCATION:Redeemer Campus\, 190 S Roscoe Blvd\, Ponte Vedra Beach\, FL\, 32082\, United States
CATEGORIES:Service
ATTACH;FMTTYPE=image/png:https://redeemerpv.com/wp-content/uploads/2024/07/Joyfully-60-Slide-1.png
END:VEVENT
BEGIN:VEVENT
DTSTART;TZID=America/New_York:20280322T180000
DTEND;TZID=America/New_York:20280322T200000
DTSTAMP:20260424T195857
CREATED:20250811T175417Z
LAST-MODIFIED:20260305T150239Z
UID:10003974-1837360800-1837368000@redeemerpv.com
SUMMARY:Midweek Gathering
DESCRIPTION:Every Wednesday we offer a variety of classes and activities for the whole family! \nCome at 6pm for a delicious dinner for $5 per person. Then at 6:45pm\, head to rKids (6 months – 5th grade)\, The Rally (students 6-12th grade)\, Special Nation or the Adult Bible teaching (also live-streamed). We can’t wait to see you! \nWatch the livestream at 6:45pm EST on our Youtube channel. \nClick here to join online
URL:https://redeemerpv.com/event/midweek-gathering-2-2/2028-03-22/
LOCATION:Redeemer Campus\, 190 S Roscoe Blvd\, Ponte Vedra Beach\, FL\, 32082\, United States
CATEGORIES:Service
ATTACH;FMTTYPE=image/png:https://redeemerpv.com/wp-content/uploads/2024/06/Midweek-Graphic.png
END:VEVENT
BEGIN:VEVENT
DTSTART;TZID=America/New_York:20280326T113000
DTEND;TZID=America/New_York:20280326T124500
DTSTAMP:20260424T195857
CREATED:20260105T151011Z
LAST-MODIFIED:20260331T172749Z
UID:10005123-1837683000-1837687500@redeemerpv.com
SUMMARY:Sunday Morning Service [11:30am]
DESCRIPTION:Join us for our weekly 11:30am service as we worship God\, learn from His Word\, celebrate communion\, and build relationships with one another! Every Sunday service includes a dynamic Redeemer Kids experience for children ages Birth – 5th grade. \nWith questions as you prepare to visit\, email info@redeemerpv.com.
URL:https://redeemerpv.com/event/sunday-morning-service-1130am/2028-03-26/
LOCATION:Redeemer Campus\, 190 S Roscoe Blvd\, Ponte Vedra Beach\, FL\, 32082\, United States
CATEGORIES:Service
ATTACH;FMTTYPE=image/png:https://redeemerpv.com/wp-content/uploads/2024/07/Joyfully-60-Slide-1.png
END:VEVENT
BEGIN:VEVENT
DTSTART;TZID=America/New_York:20280329T180000
DTEND;TZID=America/New_York:20280329T200000
DTSTAMP:20260424T195857
CREATED:20250811T175417Z
LAST-MODIFIED:20260305T150239Z
UID:10003975-1837965600-1837972800@redeemerpv.com
SUMMARY:Midweek Gathering
DESCRIPTION:Every Wednesday we offer a variety of classes and activities for the whole family! \nCome at 6pm for a delicious dinner for $5 per person. Then at 6:45pm\, head to rKids (6 months – 5th grade)\, The Rally (students 6-12th grade)\, Special Nation or the Adult Bible teaching (also live-streamed). We can’t wait to see you! \nWatch the livestream at 6:45pm EST on our Youtube channel. \nClick here to join online
URL:https://redeemerpv.com/event/midweek-gathering-2-2/2028-03-29/
LOCATION:Redeemer Campus\, 190 S Roscoe Blvd\, Ponte Vedra Beach\, FL\, 32082\, United States
CATEGORIES:Service
ATTACH;FMTTYPE=image/png:https://redeemerpv.com/wp-content/uploads/2024/06/Midweek-Graphic.png
END:VEVENT
BEGIN:VEVENT
DTSTART;TZID=America/New_York:20280402T113000
DTEND;TZID=America/New_York:20280402T124500
DTSTAMP:20260424T195857
CREATED:20260105T151011Z
LAST-MODIFIED:20260331T172749Z
UID:10005124-1838287800-1838292300@redeemerpv.com
SUMMARY:Sunday Morning Service [11:30am]
DESCRIPTION:Join us for our weekly 11:30am service as we worship God\, learn from His Word\, celebrate communion\, and build relationships with one another! Every Sunday service includes a dynamic Redeemer Kids experience for children ages Birth – 5th grade. \nWith questions as you prepare to visit\, email info@redeemerpv.com.
URL:https://redeemerpv.com/event/sunday-morning-service-1130am/2028-04-02/
LOCATION:Redeemer Campus\, 190 S Roscoe Blvd\, Ponte Vedra Beach\, FL\, 32082\, United States
CATEGORIES:Service
ATTACH;FMTTYPE=image/png:https://redeemerpv.com/wp-content/uploads/2024/07/Joyfully-60-Slide-1.png
END:VEVENT
BEGIN:VEVENT
DTSTART;TZID=America/New_York:20280405T180000
DTEND;TZID=America/New_York:20280405T200000
DTSTAMP:20260424T195857
CREATED:20250811T175417Z
LAST-MODIFIED:20260305T150239Z
UID:10003976-1838570400-1838577600@redeemerpv.com
SUMMARY:Midweek Gathering
DESCRIPTION:Every Wednesday we offer a variety of classes and activities for the whole family! \nCome at 6pm for a delicious dinner for $5 per person. Then at 6:45pm\, head to rKids (6 months – 5th grade)\, The Rally (students 6-12th grade)\, Special Nation or the Adult Bible teaching (also live-streamed). We can’t wait to see you! \nWatch the livestream at 6:45pm EST on our Youtube channel. \nClick here to join online
URL:https://redeemerpv.com/event/midweek-gathering-2-2/2028-04-05/
LOCATION:Redeemer Campus\, 190 S Roscoe Blvd\, Ponte Vedra Beach\, FL\, 32082\, United States
CATEGORIES:Service
ATTACH;FMTTYPE=image/png:https://redeemerpv.com/wp-content/uploads/2024/06/Midweek-Graphic.png
END:VEVENT
BEGIN:VEVENT
DTSTART;TZID=America/New_York:20280409T100000
DTEND;TZID=America/New_York:20280409T110000
DTSTAMP:20260424T195857
CREATED:20260105T151557Z
LAST-MODIFIED:20260105T151916Z
UID:10005295-1838887200-1838890800@redeemerpv.com
SUMMARY:Special Nation Praise Service
DESCRIPTION:On the second Sunday of the month\, we have a no-hush service that is put on by our Special Nation ministry and intentionally designed for those affected by disabilities and their families. All are welcome! \nSpecial Praise meets in the Student Auditorium in the Family Center at 10AM. \n 
URL:https://redeemerpv.com/event/special-nation-praise-service-2/2028-04-09/
LOCATION:Redeemer Campus\, 190 S Roscoe Blvd\, Ponte Vedra Beach\, FL\, 32082\, United States
CATEGORIES:Service
ATTACH;FMTTYPE=image/png:https://redeemerpv.com/wp-content/uploads/2024/07/Special-Praise-10am.png
END:VEVENT
BEGIN:VEVENT
DTSTART;TZID=America/New_York:20280409T113000
DTEND;TZID=America/New_York:20280409T124500
DTSTAMP:20260424T195857
CREATED:20260105T151011Z
LAST-MODIFIED:20260331T172749Z
UID:10005125-1838892600-1838897100@redeemerpv.com
SUMMARY:Sunday Morning Service [11:30am]
DESCRIPTION:Join us for our weekly 11:30am service as we worship God\, learn from His Word\, celebrate communion\, and build relationships with one another! Every Sunday service includes a dynamic Redeemer Kids experience for children ages Birth – 5th grade. \nWith questions as you prepare to visit\, email info@redeemerpv.com.
URL:https://redeemerpv.com/event/sunday-morning-service-1130am/2028-04-09/
LOCATION:Redeemer Campus\, 190 S Roscoe Blvd\, Ponte Vedra Beach\, FL\, 32082\, United States
CATEGORIES:Service
ATTACH;FMTTYPE=image/png:https://redeemerpv.com/wp-content/uploads/2024/07/Joyfully-60-Slide-1.png
END:VEVENT
BEGIN:VEVENT
DTSTART;TZID=America/New_York:20280412T180000
DTEND;TZID=America/New_York:20280412T200000
DTSTAMP:20260424T195857
CREATED:20250811T175417Z
LAST-MODIFIED:20260305T150239Z
UID:10003977-1839175200-1839182400@redeemerpv.com
SUMMARY:Midweek Gathering
DESCRIPTION:Every Wednesday we offer a variety of classes and activities for the whole family! \nCome at 6pm for a delicious dinner for $5 per person. Then at 6:45pm\, head to rKids (6 months – 5th grade)\, The Rally (students 6-12th grade)\, Special Nation or the Adult Bible teaching (also live-streamed). We can’t wait to see you! \nWatch the livestream at 6:45pm EST on our Youtube channel. \nClick here to join online
URL:https://redeemerpv.com/event/midweek-gathering-2-2/2028-04-12/
LOCATION:Redeemer Campus\, 190 S Roscoe Blvd\, Ponte Vedra Beach\, FL\, 32082\, United States
CATEGORIES:Service
ATTACH;FMTTYPE=image/png:https://redeemerpv.com/wp-content/uploads/2024/06/Midweek-Graphic.png
END:VEVENT
BEGIN:VEVENT
DTSTART;TZID=America/New_York:20280416T113000
DTEND;TZID=America/New_York:20280416T124500
DTSTAMP:20260424T195857
CREATED:20260105T151011Z
LAST-MODIFIED:20260331T172749Z
UID:10005126-1839497400-1839501900@redeemerpv.com
SUMMARY:Sunday Morning Service [11:30am]
DESCRIPTION:Join us for our weekly 11:30am service as we worship God\, learn from His Word\, celebrate communion\, and build relationships with one another! Every Sunday service includes a dynamic Redeemer Kids experience for children ages Birth – 5th grade. \nWith questions as you prepare to visit\, email info@redeemerpv.com.
URL:https://redeemerpv.com/event/sunday-morning-service-1130am/2028-04-16/
LOCATION:Redeemer Campus\, 190 S Roscoe Blvd\, Ponte Vedra Beach\, FL\, 32082\, United States
CATEGORIES:Service
ATTACH;FMTTYPE=image/png:https://redeemerpv.com/wp-content/uploads/2024/07/Joyfully-60-Slide-1.png
END:VEVENT
BEGIN:VEVENT
DTSTART;TZID=America/New_York:20280419T180000
DTEND;TZID=America/New_York:20280419T200000
DTSTAMP:20260424T195857
CREATED:20250811T175417Z
LAST-MODIFIED:20260305T150239Z
UID:10003978-1839780000-1839787200@redeemerpv.com
SUMMARY:Midweek Gathering
DESCRIPTION:Every Wednesday we offer a variety of classes and activities for the whole family! \nCome at 6pm for a delicious dinner for $5 per person. Then at 6:45pm\, head to rKids (6 months – 5th grade)\, The Rally (students 6-12th grade)\, Special Nation or the Adult Bible teaching (also live-streamed). We can’t wait to see you! \nWatch the livestream at 6:45pm EST on our Youtube channel. \nClick here to join online
URL:https://redeemerpv.com/event/midweek-gathering-2-2/2028-04-19/
LOCATION:Redeemer Campus\, 190 S Roscoe Blvd\, Ponte Vedra Beach\, FL\, 32082\, United States
CATEGORIES:Service
ATTACH;FMTTYPE=image/png:https://redeemerpv.com/wp-content/uploads/2024/06/Midweek-Graphic.png
END:VEVENT
BEGIN:VEVENT
DTSTART;TZID=America/New_York:20280423T113000
DTEND;TZID=America/New_York:20280423T124500
DTSTAMP:20260424T195857
CREATED:20260105T151011Z
LAST-MODIFIED:20260331T172749Z
UID:10005127-1840102200-1840106700@redeemerpv.com
SUMMARY:Sunday Morning Service [11:30am]
DESCRIPTION:Join us for our weekly 11:30am service as we worship God\, learn from His Word\, celebrate communion\, and build relationships with one another! Every Sunday service includes a dynamic Redeemer Kids experience for children ages Birth – 5th grade. \nWith questions as you prepare to visit\, email info@redeemerpv.com.
URL:https://redeemerpv.com/event/sunday-morning-service-1130am/2028-04-23/
LOCATION:Redeemer Campus\, 190 S Roscoe Blvd\, Ponte Vedra Beach\, FL\, 32082\, United States
CATEGORIES:Service
ATTACH;FMTTYPE=image/png:https://redeemerpv.com/wp-content/uploads/2024/07/Joyfully-60-Slide-1.png
END:VEVENT
BEGIN:VEVENT
DTSTART;TZID=America/New_York:20280426T180000
DTEND;TZID=America/New_York:20280426T200000
DTSTAMP:20260424T195857
CREATED:20250811T175417Z
LAST-MODIFIED:20260305T150239Z
UID:10003979-1840384800-1840392000@redeemerpv.com
SUMMARY:Midweek Gathering
DESCRIPTION:Every Wednesday we offer a variety of classes and activities for the whole family! \nCome at 6pm for a delicious dinner for $5 per person. Then at 6:45pm\, head to rKids (6 months – 5th grade)\, The Rally (students 6-12th grade)\, Special Nation or the Adult Bible teaching (also live-streamed). We can’t wait to see you! \nWatch the livestream at 6:45pm EST on our Youtube channel. \nClick here to join online
URL:https://redeemerpv.com/event/midweek-gathering-2-2/2028-04-26/
LOCATION:Redeemer Campus\, 190 S Roscoe Blvd\, Ponte Vedra Beach\, FL\, 32082\, United States
CATEGORIES:Service
ATTACH;FMTTYPE=image/png:https://redeemerpv.com/wp-content/uploads/2024/06/Midweek-Graphic.png
END:VEVENT
BEGIN:VEVENT
DTSTART;TZID=America/New_York:20280430T113000
DTEND;TZID=America/New_York:20280430T124500
DTSTAMP:20260424T195857
CREATED:20260105T151011Z
LAST-MODIFIED:20260331T172749Z
UID:10005128-1840707000-1840711500@redeemerpv.com
SUMMARY:Sunday Morning Service [11:30am]
DESCRIPTION:Join us for our weekly 11:30am service as we worship God\, learn from His Word\, celebrate communion\, and build relationships with one another! Every Sunday service includes a dynamic Redeemer Kids experience for children ages Birth – 5th grade. \nWith questions as you prepare to visit\, email info@redeemerpv.com.
URL:https://redeemerpv.com/event/sunday-morning-service-1130am/2028-04-30/
LOCATION:Redeemer Campus\, 190 S Roscoe Blvd\, Ponte Vedra Beach\, FL\, 32082\, United States
CATEGORIES:Service
ATTACH;FMTTYPE=image/png:https://redeemerpv.com/wp-content/uploads/2024/07/Joyfully-60-Slide-1.png
END:VEVENT
END:VCALENDAR