BEGIN:VCALENDAR
VERSION:2.0
PRODID:-//Redeemer Church - ECPv6.15.20//NONSGML v1.0//EN
CALSCALE:GREGORIAN
METHOD:PUBLISH
X-WR-CALNAME:Redeemer Church
X-ORIGINAL-URL:https://redeemerpv.com
X-WR-CALDESC:Events for Redeemer Church
REFRESH-INTERVAL;VALUE=DURATION:PT1H
X-Robots-Tag:noindex
X-PUBLISHED-TTL:PT1H
BEGIN:VTIMEZONE
TZID:America/New_York
BEGIN:DAYLIGHT
TZOFFSETFROM:-0500
TZOFFSETTO:-0400
TZNAME:EDT
DTSTART:20260308T070000
END:DAYLIGHT
BEGIN:STANDARD
TZOFFSETFROM:-0400
TZOFFSETTO:-0500
TZNAME:EST
DTSTART:20261101T060000
END:STANDARD
BEGIN:DAYLIGHT
TZOFFSETFROM:-0500
TZOFFSETTO:-0400
TZNAME:EDT
DTSTART:20270314T070000
END:DAYLIGHT
BEGIN:STANDARD
TZOFFSETFROM:-0400
TZOFFSETTO:-0500
TZNAME:EST
DTSTART:20271107T060000
END:STANDARD
BEGIN:DAYLIGHT
TZOFFSETFROM:-0500
TZOFFSETTO:-0400
TZNAME:EDT
DTSTART:20280312T070000
END:DAYLIGHT
BEGIN:STANDARD
TZOFFSETFROM:-0400
TZOFFSETTO:-0500
TZNAME:EST
DTSTART:20281105T060000
END:STANDARD
BEGIN:DAYLIGHT
TZOFFSETFROM:-0500
TZOFFSETTO:-0400
TZNAME:EDT
DTSTART:20290311T070000
END:DAYLIGHT
BEGIN:STANDARD
TZOFFSETFROM:-0400
TZOFFSETTO:-0500
TZNAME:EST
DTSTART:20291104T060000
END:STANDARD
BEGIN:DAYLIGHT
TZOFFSETFROM:-0500
TZOFFSETTO:-0400
TZNAME:EDT
DTSTART:20300310T070000
END:DAYLIGHT
BEGIN:STANDARD
TZOFFSETFROM:-0400
TZOFFSETTO:-0500
TZNAME:EST
DTSTART:20301103T060000
END:STANDARD
END:VTIMEZONE
BEGIN:VEVENT
DTSTART;TZID=America/New_York:20270515T100000
DTEND;TZID=America/New_York:20270515T130000
DTSTAMP:20260423T194508
CREATED:20240724T212412Z
LAST-MODIFIED:20240805T191756Z
UID:10001460-1810375200-1810386000@redeemerpv.com
SUMMARY:Nocatee Farmers Market Outreach
DESCRIPTION:Come represent Redeemer Church with our team on the third Saturday of every month at the Nocatee Farmer’s Market! We have a blast playing with kids\, praying for people\, and inviting families to visit us at Redeemer. Join us for the fun from 10AM-1PM! \nSIGN UP TO SERVE
URL:https://redeemerpv.com/event/nocatee-farmers-market-outreach/2027-05-15/
LOCATION:Redeemer Campus\, 190 S Roscoe Blvd\, Ponte Vedra Beach\, FL\, 32082\, United States
CATEGORIES:Outreach
ATTACH;FMTTYPE=image/png:https://redeemerpv.com/wp-content/uploads/2024/07/Farmers-Market-Graphic-750-x-422-px.png
END:VEVENT
BEGIN:VEVENT
DTSTART;TZID=America/New_York:20270619T100000
DTEND;TZID=America/New_York:20270619T130000
DTSTAMP:20260423T194508
CREATED:20240724T212412Z
LAST-MODIFIED:20240805T191756Z
UID:10001461-1813399200-1813410000@redeemerpv.com
SUMMARY:Nocatee Farmers Market Outreach
DESCRIPTION:Come represent Redeemer Church with our team on the third Saturday of every month at the Nocatee Farmer’s Market! We have a blast playing with kids\, praying for people\, and inviting families to visit us at Redeemer. Join us for the fun from 10AM-1PM! \nSIGN UP TO SERVE
URL:https://redeemerpv.com/event/nocatee-farmers-market-outreach/2027-06-19/
LOCATION:Redeemer Campus\, 190 S Roscoe Blvd\, Ponte Vedra Beach\, FL\, 32082\, United States
CATEGORIES:Outreach
ATTACH;FMTTYPE=image/png:https://redeemerpv.com/wp-content/uploads/2024/07/Farmers-Market-Graphic-750-x-422-px.png
END:VEVENT
BEGIN:VEVENT
DTSTART;TZID=America/New_York:20270717T100000
DTEND;TZID=America/New_York:20270717T130000
DTSTAMP:20260423T194508
CREATED:20240724T212412Z
LAST-MODIFIED:20240805T191756Z
UID:10001462-1815818400-1815829200@redeemerpv.com
SUMMARY:Nocatee Farmers Market Outreach
DESCRIPTION:Come represent Redeemer Church with our team on the third Saturday of every month at the Nocatee Farmer’s Market! We have a blast playing with kids\, praying for people\, and inviting families to visit us at Redeemer. Join us for the fun from 10AM-1PM! \nSIGN UP TO SERVE
URL:https://redeemerpv.com/event/nocatee-farmers-market-outreach/2027-07-17/
LOCATION:Redeemer Campus\, 190 S Roscoe Blvd\, Ponte Vedra Beach\, FL\, 32082\, United States
CATEGORIES:Outreach
ATTACH;FMTTYPE=image/png:https://redeemerpv.com/wp-content/uploads/2024/07/Farmers-Market-Graphic-750-x-422-px.png
END:VEVENT
BEGIN:VEVENT
DTSTART;TZID=America/New_York:20270821T100000
DTEND;TZID=America/New_York:20270821T130000
DTSTAMP:20260423T194508
CREATED:20240724T212412Z
LAST-MODIFIED:20240805T191756Z
UID:10001463-1818842400-1818853200@redeemerpv.com
SUMMARY:Nocatee Farmers Market Outreach
DESCRIPTION:Come represent Redeemer Church with our team on the third Saturday of every month at the Nocatee Farmer’s Market! We have a blast playing with kids\, praying for people\, and inviting families to visit us at Redeemer. Join us for the fun from 10AM-1PM! \nSIGN UP TO SERVE
URL:https://redeemerpv.com/event/nocatee-farmers-market-outreach/2027-08-21/
LOCATION:Redeemer Campus\, 190 S Roscoe Blvd\, Ponte Vedra Beach\, FL\, 32082\, United States
CATEGORIES:Outreach
ATTACH;FMTTYPE=image/png:https://redeemerpv.com/wp-content/uploads/2024/07/Farmers-Market-Graphic-750-x-422-px.png
END:VEVENT
BEGIN:VEVENT
DTSTART;TZID=America/New_York:20270918T100000
DTEND;TZID=America/New_York:20270918T130000
DTSTAMP:20260423T194508
CREATED:20240724T212412Z
LAST-MODIFIED:20240805T191756Z
UID:10001464-1821261600-1821272400@redeemerpv.com
SUMMARY:Nocatee Farmers Market Outreach
DESCRIPTION:Come represent Redeemer Church with our team on the third Saturday of every month at the Nocatee Farmer’s Market! We have a blast playing with kids\, praying for people\, and inviting families to visit us at Redeemer. Join us for the fun from 10AM-1PM! \nSIGN UP TO SERVE
URL:https://redeemerpv.com/event/nocatee-farmers-market-outreach/2027-09-18/
LOCATION:Redeemer Campus\, 190 S Roscoe Blvd\, Ponte Vedra Beach\, FL\, 32082\, United States
CATEGORIES:Outreach
ATTACH;FMTTYPE=image/png:https://redeemerpv.com/wp-content/uploads/2024/07/Farmers-Market-Graphic-750-x-422-px.png
END:VEVENT
BEGIN:VEVENT
DTSTART;TZID=America/New_York:20271016T100000
DTEND;TZID=America/New_York:20271016T130000
DTSTAMP:20260423T194508
CREATED:20240724T212412Z
LAST-MODIFIED:20240805T191756Z
UID:10001465-1823680800-1823691600@redeemerpv.com
SUMMARY:Nocatee Farmers Market Outreach
DESCRIPTION:Come represent Redeemer Church with our team on the third Saturday of every month at the Nocatee Farmer’s Market! We have a blast playing with kids\, praying for people\, and inviting families to visit us at Redeemer. Join us for the fun from 10AM-1PM! \nSIGN UP TO SERVE
URL:https://redeemerpv.com/event/nocatee-farmers-market-outreach/2027-10-16/
LOCATION:Redeemer Campus\, 190 S Roscoe Blvd\, Ponte Vedra Beach\, FL\, 32082\, United States
CATEGORIES:Outreach
ATTACH;FMTTYPE=image/png:https://redeemerpv.com/wp-content/uploads/2024/07/Farmers-Market-Graphic-750-x-422-px.png
END:VEVENT
BEGIN:VEVENT
DTSTART;TZID=America/New_York:20271120T100000
DTEND;TZID=America/New_York:20271120T130000
DTSTAMP:20260423T194508
CREATED:20240724T212412Z
LAST-MODIFIED:20240805T191756Z
UID:10001466-1826704800-1826715600@redeemerpv.com
SUMMARY:Nocatee Farmers Market Outreach
DESCRIPTION:Come represent Redeemer Church with our team on the third Saturday of every month at the Nocatee Farmer’s Market! We have a blast playing with kids\, praying for people\, and inviting families to visit us at Redeemer. Join us for the fun from 10AM-1PM! \nSIGN UP TO SERVE
URL:https://redeemerpv.com/event/nocatee-farmers-market-outreach/2027-11-20/
LOCATION:Redeemer Campus\, 190 S Roscoe Blvd\, Ponte Vedra Beach\, FL\, 32082\, United States
CATEGORIES:Outreach
ATTACH;FMTTYPE=image/png:https://redeemerpv.com/wp-content/uploads/2024/07/Farmers-Market-Graphic-750-x-422-px.png
END:VEVENT
BEGIN:VEVENT
DTSTART;TZID=America/New_York:20271218T100000
DTEND;TZID=America/New_York:20271218T130000
DTSTAMP:20260423T194508
CREATED:20240724T212412Z
LAST-MODIFIED:20240805T191756Z
UID:10001467-1829124000-1829134800@redeemerpv.com
SUMMARY:Nocatee Farmers Market Outreach
DESCRIPTION:Come represent Redeemer Church with our team on the third Saturday of every month at the Nocatee Farmer’s Market! We have a blast playing with kids\, praying for people\, and inviting families to visit us at Redeemer. Join us for the fun from 10AM-1PM! \nSIGN UP TO SERVE
URL:https://redeemerpv.com/event/nocatee-farmers-market-outreach/2027-12-18/
LOCATION:Redeemer Campus\, 190 S Roscoe Blvd\, Ponte Vedra Beach\, FL\, 32082\, United States
CATEGORIES:Outreach
ATTACH;FMTTYPE=image/png:https://redeemerpv.com/wp-content/uploads/2024/07/Farmers-Market-Graphic-750-x-422-px.png
END:VEVENT
BEGIN:VEVENT
DTSTART;TZID=America/New_York:20280115T100000
DTEND;TZID=America/New_York:20280115T130000
DTSTAMP:20260423T194508
CREATED:20240724T212412Z
LAST-MODIFIED:20240805T191756Z
UID:10001468-1831543200-1831554000@redeemerpv.com
SUMMARY:Nocatee Farmers Market Outreach
DESCRIPTION:Come represent Redeemer Church with our team on the third Saturday of every month at the Nocatee Farmer’s Market! We have a blast playing with kids\, praying for people\, and inviting families to visit us at Redeemer. Join us for the fun from 10AM-1PM! \nSIGN UP TO SERVE
URL:https://redeemerpv.com/event/nocatee-farmers-market-outreach/2028-01-15/
LOCATION:Redeemer Campus\, 190 S Roscoe Blvd\, Ponte Vedra Beach\, FL\, 32082\, United States
CATEGORIES:Outreach
ATTACH;FMTTYPE=image/png:https://redeemerpv.com/wp-content/uploads/2024/07/Farmers-Market-Graphic-750-x-422-px.png
END:VEVENT
BEGIN:VEVENT
DTSTART;TZID=America/New_York:20280219T100000
DTEND;TZID=America/New_York:20280219T130000
DTSTAMP:20260423T194508
CREATED:20240724T212412Z
LAST-MODIFIED:20240805T191756Z
UID:10001469-1834567200-1834578000@redeemerpv.com
SUMMARY:Nocatee Farmers Market Outreach
DESCRIPTION:Come represent Redeemer Church with our team on the third Saturday of every month at the Nocatee Farmer’s Market! We have a blast playing with kids\, praying for people\, and inviting families to visit us at Redeemer. Join us for the fun from 10AM-1PM! \nSIGN UP TO SERVE
URL:https://redeemerpv.com/event/nocatee-farmers-market-outreach/2028-02-19/
LOCATION:Redeemer Campus\, 190 S Roscoe Blvd\, Ponte Vedra Beach\, FL\, 32082\, United States
CATEGORIES:Outreach
ATTACH;FMTTYPE=image/png:https://redeemerpv.com/wp-content/uploads/2024/07/Farmers-Market-Graphic-750-x-422-px.png
END:VEVENT
BEGIN:VEVENT
DTSTART;TZID=America/New_York:20280318T100000
DTEND;TZID=America/New_York:20280318T130000
DTSTAMP:20260423T194508
CREATED:20240724T212412Z
LAST-MODIFIED:20240805T191756Z
UID:10001470-1836986400-1836997200@redeemerpv.com
SUMMARY:Nocatee Farmers Market Outreach
DESCRIPTION:Come represent Redeemer Church with our team on the third Saturday of every month at the Nocatee Farmer’s Market! We have a blast playing with kids\, praying for people\, and inviting families to visit us at Redeemer. Join us for the fun from 10AM-1PM! \nSIGN UP TO SERVE
URL:https://redeemerpv.com/event/nocatee-farmers-market-outreach/2028-03-18/
LOCATION:Redeemer Campus\, 190 S Roscoe Blvd\, Ponte Vedra Beach\, FL\, 32082\, United States
CATEGORIES:Outreach
ATTACH;FMTTYPE=image/png:https://redeemerpv.com/wp-content/uploads/2024/07/Farmers-Market-Graphic-750-x-422-px.png
END:VEVENT
BEGIN:VEVENT
DTSTART;TZID=America/New_York:20280415T100000
DTEND;TZID=America/New_York:20280415T130000
DTSTAMP:20260423T194508
CREATED:20240724T212412Z
LAST-MODIFIED:20240805T191756Z
UID:10001471-1839405600-1839416400@redeemerpv.com
SUMMARY:Nocatee Farmers Market Outreach
DESCRIPTION:Come represent Redeemer Church with our team on the third Saturday of every month at the Nocatee Farmer’s Market! We have a blast playing with kids\, praying for people\, and inviting families to visit us at Redeemer. Join us for the fun from 10AM-1PM! \nSIGN UP TO SERVE
URL:https://redeemerpv.com/event/nocatee-farmers-market-outreach/2028-04-15/
LOCATION:Redeemer Campus\, 190 S Roscoe Blvd\, Ponte Vedra Beach\, FL\, 32082\, United States
CATEGORIES:Outreach
ATTACH;FMTTYPE=image/png:https://redeemerpv.com/wp-content/uploads/2024/07/Farmers-Market-Graphic-750-x-422-px.png
END:VEVENT
BEGIN:VEVENT
DTSTART;TZID=America/New_York:20280520T100000
DTEND;TZID=America/New_York:20280520T130000
DTSTAMP:20260423T194508
CREATED:20240724T212412Z
LAST-MODIFIED:20240805T191756Z
UID:10001472-1842429600-1842440400@redeemerpv.com
SUMMARY:Nocatee Farmers Market Outreach
DESCRIPTION:Come represent Redeemer Church with our team on the third Saturday of every month at the Nocatee Farmer’s Market! We have a blast playing with kids\, praying for people\, and inviting families to visit us at Redeemer. Join us for the fun from 10AM-1PM! \nSIGN UP TO SERVE
URL:https://redeemerpv.com/event/nocatee-farmers-market-outreach/2028-05-20/
LOCATION:Redeemer Campus\, 190 S Roscoe Blvd\, Ponte Vedra Beach\, FL\, 32082\, United States
CATEGORIES:Outreach
ATTACH;FMTTYPE=image/png:https://redeemerpv.com/wp-content/uploads/2024/07/Farmers-Market-Graphic-750-x-422-px.png
END:VEVENT
BEGIN:VEVENT
DTSTART;TZID=America/New_York:20280617T100000
DTEND;TZID=America/New_York:20280617T130000
DTSTAMP:20260423T194508
CREATED:20240724T212412Z
LAST-MODIFIED:20240805T191756Z
UID:10001473-1844848800-1844859600@redeemerpv.com
SUMMARY:Nocatee Farmers Market Outreach
DESCRIPTION:Come represent Redeemer Church with our team on the third Saturday of every month at the Nocatee Farmer’s Market! We have a blast playing with kids\, praying for people\, and inviting families to visit us at Redeemer. Join us for the fun from 10AM-1PM! \nSIGN UP TO SERVE
URL:https://redeemerpv.com/event/nocatee-farmers-market-outreach/2028-06-17/
LOCATION:Redeemer Campus\, 190 S Roscoe Blvd\, Ponte Vedra Beach\, FL\, 32082\, United States
CATEGORIES:Outreach
ATTACH;FMTTYPE=image/png:https://redeemerpv.com/wp-content/uploads/2024/07/Farmers-Market-Graphic-750-x-422-px.png
END:VEVENT
BEGIN:VEVENT
DTSTART;TZID=America/New_York:20280715T100000
DTEND;TZID=America/New_York:20280715T130000
DTSTAMP:20260423T194508
CREATED:20240724T212412Z
LAST-MODIFIED:20240805T191756Z
UID:10001474-1847268000-1847278800@redeemerpv.com
SUMMARY:Nocatee Farmers Market Outreach
DESCRIPTION:Come represent Redeemer Church with our team on the third Saturday of every month at the Nocatee Farmer’s Market! We have a blast playing with kids\, praying for people\, and inviting families to visit us at Redeemer. Join us for the fun from 10AM-1PM! \nSIGN UP TO SERVE
URL:https://redeemerpv.com/event/nocatee-farmers-market-outreach/2028-07-15/
LOCATION:Redeemer Campus\, 190 S Roscoe Blvd\, Ponte Vedra Beach\, FL\, 32082\, United States
CATEGORIES:Outreach
ATTACH;FMTTYPE=image/png:https://redeemerpv.com/wp-content/uploads/2024/07/Farmers-Market-Graphic-750-x-422-px.png
END:VEVENT
BEGIN:VEVENT
DTSTART;TZID=America/New_York:20280819T100000
DTEND;TZID=America/New_York:20280819T130000
DTSTAMP:20260423T194508
CREATED:20240724T212412Z
LAST-MODIFIED:20240805T191756Z
UID:10001475-1850292000-1850302800@redeemerpv.com
SUMMARY:Nocatee Farmers Market Outreach
DESCRIPTION:Come represent Redeemer Church with our team on the third Saturday of every month at the Nocatee Farmer’s Market! We have a blast playing with kids\, praying for people\, and inviting families to visit us at Redeemer. Join us for the fun from 10AM-1PM! \nSIGN UP TO SERVE
URL:https://redeemerpv.com/event/nocatee-farmers-market-outreach/2028-08-19/
LOCATION:Redeemer Campus\, 190 S Roscoe Blvd\, Ponte Vedra Beach\, FL\, 32082\, United States
CATEGORIES:Outreach
ATTACH;FMTTYPE=image/png:https://redeemerpv.com/wp-content/uploads/2024/07/Farmers-Market-Graphic-750-x-422-px.png
END:VEVENT
BEGIN:VEVENT
DTSTART;TZID=America/New_York:20280916T100000
DTEND;TZID=America/New_York:20280916T130000
DTSTAMP:20260423T194508
CREATED:20240724T212412Z
LAST-MODIFIED:20240805T191756Z
UID:10001476-1852711200-1852722000@redeemerpv.com
SUMMARY:Nocatee Farmers Market Outreach
DESCRIPTION:Come represent Redeemer Church with our team on the third Saturday of every month at the Nocatee Farmer’s Market! We have a blast playing with kids\, praying for people\, and inviting families to visit us at Redeemer. Join us for the fun from 10AM-1PM! \nSIGN UP TO SERVE
URL:https://redeemerpv.com/event/nocatee-farmers-market-outreach/2028-09-16/
LOCATION:Redeemer Campus\, 190 S Roscoe Blvd\, Ponte Vedra Beach\, FL\, 32082\, United States
CATEGORIES:Outreach
ATTACH;FMTTYPE=image/png:https://redeemerpv.com/wp-content/uploads/2024/07/Farmers-Market-Graphic-750-x-422-px.png
END:VEVENT
BEGIN:VEVENT
DTSTART;TZID=America/New_York:20281021T100000
DTEND;TZID=America/New_York:20281021T130000
DTSTAMP:20260423T194508
CREATED:20240724T212412Z
LAST-MODIFIED:20240805T191756Z
UID:10001477-1855735200-1855746000@redeemerpv.com
SUMMARY:Nocatee Farmers Market Outreach
DESCRIPTION:Come represent Redeemer Church with our team on the third Saturday of every month at the Nocatee Farmer’s Market! We have a blast playing with kids\, praying for people\, and inviting families to visit us at Redeemer. Join us for the fun from 10AM-1PM! \nSIGN UP TO SERVE
URL:https://redeemerpv.com/event/nocatee-farmers-market-outreach/2028-10-21/
LOCATION:Redeemer Campus\, 190 S Roscoe Blvd\, Ponte Vedra Beach\, FL\, 32082\, United States
CATEGORIES:Outreach
ATTACH;FMTTYPE=image/png:https://redeemerpv.com/wp-content/uploads/2024/07/Farmers-Market-Graphic-750-x-422-px.png
END:VEVENT
BEGIN:VEVENT
DTSTART;TZID=America/New_York:20281118T100000
DTEND;TZID=America/New_York:20281118T130000
DTSTAMP:20260423T194508
CREATED:20240724T212412Z
LAST-MODIFIED:20240805T191756Z
UID:10001478-1858154400-1858165200@redeemerpv.com
SUMMARY:Nocatee Farmers Market Outreach
DESCRIPTION:Come represent Redeemer Church with our team on the third Saturday of every month at the Nocatee Farmer’s Market! We have a blast playing with kids\, praying for people\, and inviting families to visit us at Redeemer. Join us for the fun from 10AM-1PM! \nSIGN UP TO SERVE
URL:https://redeemerpv.com/event/nocatee-farmers-market-outreach/2028-11-18/
LOCATION:Redeemer Campus\, 190 S Roscoe Blvd\, Ponte Vedra Beach\, FL\, 32082\, United States
CATEGORIES:Outreach
ATTACH;FMTTYPE=image/png:https://redeemerpv.com/wp-content/uploads/2024/07/Farmers-Market-Graphic-750-x-422-px.png
END:VEVENT
BEGIN:VEVENT
DTSTART;TZID=America/New_York:20281216T100000
DTEND;TZID=America/New_York:20281216T130000
DTSTAMP:20260423T194508
CREATED:20240724T212412Z
LAST-MODIFIED:20240805T191756Z
UID:10001479-1860573600-1860584400@redeemerpv.com
SUMMARY:Nocatee Farmers Market Outreach
DESCRIPTION:Come represent Redeemer Church with our team on the third Saturday of every month at the Nocatee Farmer’s Market! We have a blast playing with kids\, praying for people\, and inviting families to visit us at Redeemer. Join us for the fun from 10AM-1PM! \nSIGN UP TO SERVE
URL:https://redeemerpv.com/event/nocatee-farmers-market-outreach/2028-12-16/
LOCATION:Redeemer Campus\, 190 S Roscoe Blvd\, Ponte Vedra Beach\, FL\, 32082\, United States
CATEGORIES:Outreach
ATTACH;FMTTYPE=image/png:https://redeemerpv.com/wp-content/uploads/2024/07/Farmers-Market-Graphic-750-x-422-px.png
END:VEVENT
BEGIN:VEVENT
DTSTART;TZID=America/New_York:20290120T100000
DTEND;TZID=America/New_York:20290120T130000
DTSTAMP:20260423T194508
CREATED:20240724T212412Z
LAST-MODIFIED:20240805T191756Z
UID:10001480-1863597600-1863608400@redeemerpv.com
SUMMARY:Nocatee Farmers Market Outreach
DESCRIPTION:Come represent Redeemer Church with our team on the third Saturday of every month at the Nocatee Farmer’s Market! We have a blast playing with kids\, praying for people\, and inviting families to visit us at Redeemer. Join us for the fun from 10AM-1PM! \nSIGN UP TO SERVE
URL:https://redeemerpv.com/event/nocatee-farmers-market-outreach/2029-01-20/
LOCATION:Redeemer Campus\, 190 S Roscoe Blvd\, Ponte Vedra Beach\, FL\, 32082\, United States
CATEGORIES:Outreach
ATTACH;FMTTYPE=image/png:https://redeemerpv.com/wp-content/uploads/2024/07/Farmers-Market-Graphic-750-x-422-px.png
END:VEVENT
BEGIN:VEVENT
DTSTART;TZID=America/New_York:20290217T100000
DTEND;TZID=America/New_York:20290217T130000
DTSTAMP:20260423T194508
CREATED:20240724T212412Z
LAST-MODIFIED:20240805T191756Z
UID:10001481-1866016800-1866027600@redeemerpv.com
SUMMARY:Nocatee Farmers Market Outreach
DESCRIPTION:Come represent Redeemer Church with our team on the third Saturday of every month at the Nocatee Farmer’s Market! We have a blast playing with kids\, praying for people\, and inviting families to visit us at Redeemer. Join us for the fun from 10AM-1PM! \nSIGN UP TO SERVE
URL:https://redeemerpv.com/event/nocatee-farmers-market-outreach/2029-02-17/
LOCATION:Redeemer Campus\, 190 S Roscoe Blvd\, Ponte Vedra Beach\, FL\, 32082\, United States
CATEGORIES:Outreach
ATTACH;FMTTYPE=image/png:https://redeemerpv.com/wp-content/uploads/2024/07/Farmers-Market-Graphic-750-x-422-px.png
END:VEVENT
BEGIN:VEVENT
DTSTART;TZID=America/New_York:20290317T100000
DTEND;TZID=America/New_York:20290317T130000
DTSTAMP:20260423T194508
CREATED:20240724T212412Z
LAST-MODIFIED:20240805T191756Z
UID:10001482-1868436000-1868446800@redeemerpv.com
SUMMARY:Nocatee Farmers Market Outreach
DESCRIPTION:Come represent Redeemer Church with our team on the third Saturday of every month at the Nocatee Farmer’s Market! We have a blast playing with kids\, praying for people\, and inviting families to visit us at Redeemer. Join us for the fun from 10AM-1PM! \nSIGN UP TO SERVE
URL:https://redeemerpv.com/event/nocatee-farmers-market-outreach/2029-03-17/
LOCATION:Redeemer Campus\, 190 S Roscoe Blvd\, Ponte Vedra Beach\, FL\, 32082\, United States
CATEGORIES:Outreach
ATTACH;FMTTYPE=image/png:https://redeemerpv.com/wp-content/uploads/2024/07/Farmers-Market-Graphic-750-x-422-px.png
END:VEVENT
BEGIN:VEVENT
DTSTART;TZID=America/New_York:20290421T100000
DTEND;TZID=America/New_York:20290421T130000
DTSTAMP:20260423T194508
CREATED:20240724T212412Z
LAST-MODIFIED:20240805T191756Z
UID:10001483-1871460000-1871470800@redeemerpv.com
SUMMARY:Nocatee Farmers Market Outreach
DESCRIPTION:Come represent Redeemer Church with our team on the third Saturday of every month at the Nocatee Farmer’s Market! We have a blast playing with kids\, praying for people\, and inviting families to visit us at Redeemer. Join us for the fun from 10AM-1PM! \nSIGN UP TO SERVE
URL:https://redeemerpv.com/event/nocatee-farmers-market-outreach/2029-04-21/
LOCATION:Redeemer Campus\, 190 S Roscoe Blvd\, Ponte Vedra Beach\, FL\, 32082\, United States
CATEGORIES:Outreach
ATTACH;FMTTYPE=image/png:https://redeemerpv.com/wp-content/uploads/2024/07/Farmers-Market-Graphic-750-x-422-px.png
END:VEVENT
BEGIN:VEVENT
DTSTART;TZID=America/New_York:20290519T100000
DTEND;TZID=America/New_York:20290519T130000
DTSTAMP:20260423T194508
CREATED:20240724T212412Z
LAST-MODIFIED:20240805T191756Z
UID:10001484-1873879200-1873890000@redeemerpv.com
SUMMARY:Nocatee Farmers Market Outreach
DESCRIPTION:Come represent Redeemer Church with our team on the third Saturday of every month at the Nocatee Farmer’s Market! We have a blast playing with kids\, praying for people\, and inviting families to visit us at Redeemer. Join us for the fun from 10AM-1PM! \nSIGN UP TO SERVE
URL:https://redeemerpv.com/event/nocatee-farmers-market-outreach/2029-05-19/
LOCATION:Redeemer Campus\, 190 S Roscoe Blvd\, Ponte Vedra Beach\, FL\, 32082\, United States
CATEGORIES:Outreach
ATTACH;FMTTYPE=image/png:https://redeemerpv.com/wp-content/uploads/2024/07/Farmers-Market-Graphic-750-x-422-px.png
END:VEVENT
BEGIN:VEVENT
DTSTART;TZID=America/New_York:20290616T100000
DTEND;TZID=America/New_York:20290616T130000
DTSTAMP:20260423T194508
CREATED:20240724T212412Z
LAST-MODIFIED:20240805T191756Z
UID:10001485-1876298400-1876309200@redeemerpv.com
SUMMARY:Nocatee Farmers Market Outreach
DESCRIPTION:Come represent Redeemer Church with our team on the third Saturday of every month at the Nocatee Farmer’s Market! We have a blast playing with kids\, praying for people\, and inviting families to visit us at Redeemer. Join us for the fun from 10AM-1PM! \nSIGN UP TO SERVE
URL:https://redeemerpv.com/event/nocatee-farmers-market-outreach/2029-06-16/
LOCATION:Redeemer Campus\, 190 S Roscoe Blvd\, Ponte Vedra Beach\, FL\, 32082\, United States
CATEGORIES:Outreach
ATTACH;FMTTYPE=image/png:https://redeemerpv.com/wp-content/uploads/2024/07/Farmers-Market-Graphic-750-x-422-px.png
END:VEVENT
BEGIN:VEVENT
DTSTART;TZID=America/New_York:20290721T100000
DTEND;TZID=America/New_York:20290721T130000
DTSTAMP:20260423T194508
CREATED:20240724T212412Z
LAST-MODIFIED:20240805T191756Z
UID:10001486-1879322400-1879333200@redeemerpv.com
SUMMARY:Nocatee Farmers Market Outreach
DESCRIPTION:Come represent Redeemer Church with our team on the third Saturday of every month at the Nocatee Farmer’s Market! We have a blast playing with kids\, praying for people\, and inviting families to visit us at Redeemer. Join us for the fun from 10AM-1PM! \nSIGN UP TO SERVE
URL:https://redeemerpv.com/event/nocatee-farmers-market-outreach/2029-07-21/
LOCATION:Redeemer Campus\, 190 S Roscoe Blvd\, Ponte Vedra Beach\, FL\, 32082\, United States
CATEGORIES:Outreach
ATTACH;FMTTYPE=image/png:https://redeemerpv.com/wp-content/uploads/2024/07/Farmers-Market-Graphic-750-x-422-px.png
END:VEVENT
END:VCALENDAR