BEGIN:VCALENDAR
VERSION:2.0
PRODID:-//Redeemer Church - ECPv6.15.20//NONSGML v1.0//EN
CALSCALE:GREGORIAN
METHOD:PUBLISH
X-ORIGINAL-URL:https://redeemerpv.com
X-WR-CALDESC:Events for Redeemer Church
REFRESH-INTERVAL;VALUE=DURATION:PT1H
X-Robots-Tag:noindex
X-PUBLISHED-TTL:PT1H
BEGIN:VTIMEZONE
TZID:America/New_York
BEGIN:DAYLIGHT
TZOFFSETFROM:-0500
TZOFFSETTO:-0400
TZNAME:EDT
DTSTART:20240310T070000
END:DAYLIGHT
BEGIN:STANDARD
TZOFFSETFROM:-0400
TZOFFSETTO:-0500
TZNAME:EST
DTSTART:20241103T060000
END:STANDARD
BEGIN:DAYLIGHT
TZOFFSETFROM:-0500
TZOFFSETTO:-0400
TZNAME:EDT
DTSTART:20250309T070000
END:DAYLIGHT
BEGIN:STANDARD
TZOFFSETFROM:-0400
TZOFFSETTO:-0500
TZNAME:EST
DTSTART:20251102T060000
END:STANDARD
BEGIN:DAYLIGHT
TZOFFSETFROM:-0500
TZOFFSETTO:-0400
TZNAME:EDT
DTSTART:20260308T070000
END:DAYLIGHT
BEGIN:STANDARD
TZOFFSETFROM:-0400
TZOFFSETTO:-0500
TZNAME:EST
DTSTART:20261101T060000
END:STANDARD
BEGIN:DAYLIGHT
TZOFFSETFROM:-0500
TZOFFSETTO:-0400
TZNAME:EDT
DTSTART:20270314T070000
END:DAYLIGHT
BEGIN:STANDARD
TZOFFSETFROM:-0400
TZOFFSETTO:-0500
TZNAME:EST
DTSTART:20271107T060000
END:STANDARD
END:VTIMEZONE
BEGIN:VEVENT
DTSTART;TZID=America/New_York:20260208T180000
DTEND;TZID=America/New_York:20260208T230000
DTSTAMP:20260423T144447
CREATED:20260203T132322Z
LAST-MODIFIED:20260203T132322Z
UID:10005668-1770573600-1770591600@redeemerpv.com
SUMMARY:Superbowl Party
DESCRIPTION:We’re hosting a Super Bowl party here at the church just for men and their sons\, and it all kicks off at 6:00pm. We’ll have pizza\, chips\, and refreshments\, and we’re also doing a best dip contest with prizes. It’s a great chance to hang out\, build relationships\, and enjoy the game together in a relaxed setting. No agenda\, just good food\, good fellowship\, and a great night together!
URL:https://redeemerpv.com/event/superbowl-party/
LOCATION:Redeemer Campus\, 190 S Roscoe Blvd\, Ponte Vedra Beach\, FL\, 32082\, United States
CATEGORIES:Meeting
ATTACH;FMTTYPE=image/png:https://redeemerpv.com/wp-content/uploads/2026/02/Yellow-Retro-Helmet-Football-Invitation.png
END:VEVENT
BEGIN:VEVENT
DTSTART;TZID=America/New_York:20260201T124500
DTEND;TZID=America/New_York:20260201T134500
DTSTAMP:20260423T144447
CREATED:20250415T152536Z
LAST-MODIFIED:20260226T171644Z
UID:10005409-1769949900-1769953500@redeemerpv.com
SUMMARY:Discover Redeemer
DESCRIPTION:Come discover more about who we are as a church community and explore how you and your family can get better connected at Discover Redeemer! This one-hour class will be held on first Sunday of every month after each morning service. We can’t wait to help you get more connected! \nRSVP \nFirst Sunday of the Month\n9:45-10:45am\, 11:15am-12:15pm\, + 12:45-1:45pm\nLight refreshments will be served.
URL:https://redeemerpv.com/event/discover-redeemer-2/2026-02-01/3/
LOCATION:Redeemer Campus\, 190 S Roscoe Blvd\, Ponte Vedra Beach\, FL\, 32082\, United States
CATEGORIES:Meeting
ATTACH;FMTTYPE=image/png:https://redeemerpv.com/wp-content/uploads/2025/01/Discover-Redeemer-New-Look.png
END:VEVENT
BEGIN:VEVENT
DTSTART;TZID=America/New_York:20260201T111500
DTEND;TZID=America/New_York:20260201T121500
DTSTAMP:20260423T144447
CREATED:20250415T152536Z
LAST-MODIFIED:20260226T171644Z
UID:10005408-1769944500-1769948100@redeemerpv.com
SUMMARY:Discover Redeemer
DESCRIPTION:Come discover more about who we are as a church community and explore how you and your family can get better connected at Discover Redeemer! This one-hour class will be held on first Sunday of every month after each morning service. We can’t wait to help you get more connected! \nRSVP \nFirst Sunday of the Month\n9:45-10:45am\, 11:15am-12:15pm\, + 12:45-1:45pm\nLight refreshments will be served.
URL:https://redeemerpv.com/event/discover-redeemer-2/2026-02-01/2/
LOCATION:Redeemer Campus\, 190 S Roscoe Blvd\, Ponte Vedra Beach\, FL\, 32082\, United States
CATEGORIES:Meeting
ATTACH;FMTTYPE=image/png:https://redeemerpv.com/wp-content/uploads/2025/01/Discover-Redeemer-New-Look.png
END:VEVENT
BEGIN:VEVENT
DTSTART;TZID=America/New_York:20260201T094500
DTEND;TZID=America/New_York:20260201T104500
DTSTAMP:20260423T144447
CREATED:20250415T152536Z
LAST-MODIFIED:20260226T171644Z
UID:10005337-1769939100-1769942700@redeemerpv.com
SUMMARY:Discover Redeemer
DESCRIPTION:Come discover more about who we are as a church community and explore how you and your family can get better connected at Discover Redeemer! This one-hour class will be held on first Sunday of every month after each morning service. We can’t wait to help you get more connected! \nRSVP \nFirst Sunday of the Month\n9:45-10:45am\, 11:15am-12:15pm\, + 12:45-1:45pm\nLight refreshments will be served.
URL:https://redeemerpv.com/event/discover-redeemer-2/2026-02-01/1/
LOCATION:Redeemer Campus\, 190 S Roscoe Blvd\, Ponte Vedra Beach\, FL\, 32082\, United States
CATEGORIES:Meeting
ATTACH;FMTTYPE=image/png:https://redeemerpv.com/wp-content/uploads/2025/01/Discover-Redeemer-New-Look.png
END:VEVENT
BEGIN:VEVENT
DTSTART;TZID=America/New_York:20260122T180000
DTEND;TZID=America/New_York:20260122T200000
DTSTAMP:20260423T144447
CREATED:20260118T173720Z
LAST-MODIFIED:20260118T173720Z
UID:10005658-1769104800-1769112000@redeemerpv.com
SUMMARY:Griefshare Seminar: Loss of a Spouse
DESCRIPTION:If you or someone you love is grieving the death of a spouse\, GriefShare: Loss of a Spouse offers a safe and caring space to find hope\, comfort\, and understanding. This 2-hour workshop provides practical teaching and compassionate support for navigating this difficult season. \nREGISTER HERE
URL:https://redeemerpv.com/event/griefshare-seminar-loss-of-a-spouse/
LOCATION:Redeemer Campus\, 190 S Roscoe Blvd\, Ponte Vedra Beach\, FL\, 32082\, United States
CATEGORIES:Meeting
ATTACH;FMTTYPE=image/png:https://redeemerpv.com/wp-content/uploads/2026/01/Griefshare-loss-of-a-spouse-750-x-422-px.png
END:VEVENT
BEGIN:VEVENT
DTSTART;TZID=America/New_York:20260104T094500
DTEND;TZID=America/New_York:20260104T104500
DTSTAMP:20260423T144447
CREATED:20250415T152536Z
LAST-MODIFIED:20260226T171644Z
UID:10005336-1767519900-1767523500@redeemerpv.com
SUMMARY:Discover Redeemer
DESCRIPTION:Come discover more about who we are as a church community and explore how you and your family can get better connected at Discover Redeemer! This one-hour class will be held on first Sunday of every month after each morning service. We can’t wait to help you get more connected! \nRSVP \nFirst Sunday of the Month\n9:45-10:45am\, 11:15am-12:15pm\, + 12:45-1:45pm\nLight refreshments will be served.
URL:https://redeemerpv.com/event/discover-redeemer-2/2026-01-04/
LOCATION:Redeemer Campus\, 190 S Roscoe Blvd\, Ponte Vedra Beach\, FL\, 32082\, United States
CATEGORIES:Meeting
ATTACH;FMTTYPE=image/png:https://redeemerpv.com/wp-content/uploads/2025/01/Discover-Redeemer-New-Look.png
END:VEVENT
BEGIN:VEVENT
DTSTART;TZID=America/New_York:20251222T070000
DTEND;TZID=America/New_York:20251222T080000
DTSTAMP:20260423T144447
CREATED:20251123T145825Z
LAST-MODIFIED:20251208T122755Z
UID:10004115-1766386800-1766390400@redeemerpv.com
SUMMARY:Advent Morning Prayer
DESCRIPTION:Join us on campus or on our YouTube channel for a time of guided prayer every Monday morning during Advent. We can’t wait to see how God uses this time to speak to us during this special season! \nDecember 1-22\, 2025\nMondays at 7am \nClick here for the Advent Prayer Guide ADVENT PRAYER GUIDE \nClick below to join us online. \nLIVE ONLINE
URL:https://redeemerpv.com/event/advent-morning-prayer-2025/2025-12-22/
LOCATION:Redeemer Campus\, 190 S Roscoe Blvd\, Ponte Vedra Beach\, FL\, 32082\, United States
CATEGORIES:Meeting
ATTACH;FMTTYPE=image/png:https://redeemerpv.com/wp-content/uploads/2025/11/Advent-Morning-prayer-no-times-2025.png
END:VEVENT
BEGIN:VEVENT
DTSTART;TZID=America/New_York:20251215T070000
DTEND;TZID=America/New_York:20251215T080000
DTSTAMP:20260423T144447
CREATED:20251123T145825Z
LAST-MODIFIED:20251208T122755Z
UID:10004114-1765782000-1765785600@redeemerpv.com
SUMMARY:Advent Morning Prayer
DESCRIPTION:Join us on campus or on our YouTube channel for a time of guided prayer every Monday morning during Advent. We can’t wait to see how God uses this time to speak to us during this special season! \nDecember 1-22\, 2025\nMondays at 7am \nClick here for the Advent Prayer Guide ADVENT PRAYER GUIDE \nClick below to join us online. \nLIVE ONLINE
URL:https://redeemerpv.com/event/advent-morning-prayer-2025/2025-12-15/
LOCATION:Redeemer Campus\, 190 S Roscoe Blvd\, Ponte Vedra Beach\, FL\, 32082\, United States
CATEGORIES:Meeting
ATTACH;FMTTYPE=image/png:https://redeemerpv.com/wp-content/uploads/2025/11/Advent-Morning-prayer-no-times-2025.png
END:VEVENT
BEGIN:VEVENT
DTSTART;TZID=America/New_York:20251208T070000
DTEND;TZID=America/New_York:20251208T080000
DTSTAMP:20260423T144447
CREATED:20251123T145825Z
LAST-MODIFIED:20251208T122755Z
UID:10004113-1765177200-1765180800@redeemerpv.com
SUMMARY:Advent Morning Prayer
DESCRIPTION:Join us on campus or on our YouTube channel for a time of guided prayer every Monday morning during Advent. We can’t wait to see how God uses this time to speak to us during this special season! \nDecember 1-22\, 2025\nMondays at 7am \nClick here for the Advent Prayer Guide ADVENT PRAYER GUIDE \nClick below to join us online. \nLIVE ONLINE
URL:https://redeemerpv.com/event/advent-morning-prayer-2025/2025-12-08/
LOCATION:Redeemer Campus\, 190 S Roscoe Blvd\, Ponte Vedra Beach\, FL\, 32082\, United States
CATEGORIES:Meeting
ATTACH;FMTTYPE=image/png:https://redeemerpv.com/wp-content/uploads/2025/11/Advent-Morning-prayer-no-times-2025.png
END:VEVENT
BEGIN:VEVENT
DTSTART;TZID=America/New_York:20251207T094500
DTEND;TZID=America/New_York:20251207T104500
DTSTAMP:20260423T144447
CREATED:20250415T152536Z
LAST-MODIFIED:20260226T171644Z
UID:10005335-1765100700-1765104300@redeemerpv.com
SUMMARY:Discover Redeemer
DESCRIPTION:Come discover more about who we are as a church community and explore how you and your family can get better connected at Discover Redeemer! This one-hour class will be held on first Sunday of every month after each morning service. We can’t wait to help you get more connected! \nRSVP \nFirst Sunday of the Month\n9:45-10:45am\, 11:15am-12:15pm\, + 12:45-1:45pm\nLight refreshments will be served.
URL:https://redeemerpv.com/event/discover-redeemer-2/2025-12-07/
LOCATION:Redeemer Campus\, 190 S Roscoe Blvd\, Ponte Vedra Beach\, FL\, 32082\, United States
CATEGORIES:Meeting
ATTACH;FMTTYPE=image/png:https://redeemerpv.com/wp-content/uploads/2025/01/Discover-Redeemer-New-Look.png
END:VEVENT
BEGIN:VEVENT
DTSTART;TZID=America/New_York:20251201T070000
DTEND;TZID=America/New_York:20251201T080000
DTSTAMP:20260423T144447
CREATED:20251123T145825Z
LAST-MODIFIED:20251208T122755Z
UID:10004112-1764572400-1764576000@redeemerpv.com
SUMMARY:Advent Morning Prayer
DESCRIPTION:Join us on campus or on our YouTube channel for a time of guided prayer every Monday morning during Advent. We can’t wait to see how God uses this time to speak to us during this special season! \nDecember 1-22\, 2025\nMondays at 7am \nClick here for the Advent Prayer Guide ADVENT PRAYER GUIDE \nClick below to join us online. \nLIVE ONLINE
URL:https://redeemerpv.com/event/advent-morning-prayer-2025/2025-12-01/
LOCATION:Redeemer Campus\, 190 S Roscoe Blvd\, Ponte Vedra Beach\, FL\, 32082\, United States
CATEGORIES:Meeting
ATTACH;FMTTYPE=image/png:https://redeemerpv.com/wp-content/uploads/2025/11/Advent-Morning-prayer-no-times-2025.png
END:VEVENT
BEGIN:VEVENT
DTSTART;TZID=America/New_York:20251110T183000
DTEND;TZID=America/New_York:20251110T203000
DTSTAMP:20260423T144447
CREATED:20251103T162749Z
LAST-MODIFIED:20251103T162749Z
UID:10004106-1762799400-1762806600@redeemerpv.com
SUMMARY:Surviving the Holidays
DESCRIPTION:NOVEMBER 10 | 6:30-8:30pm \nThis GriefShare seminar is for those who have lost a loved one. Don’t go through the holidays alone; we are here to equip you for this season. Click below to register for free. \nREGISTER HERE
URL:https://redeemerpv.com/event/surviving-the-holidays/
LOCATION:Redeemer Campus\, 190 S Roscoe Blvd\, Ponte Vedra Beach\, FL\, 32082\, United States
CATEGORIES:Meeting
ATTACH;FMTTYPE=image/png:https://redeemerpv.com/wp-content/uploads/2025/11/Surviving-the-Holidays-2025.png
END:VEVENT
BEGIN:VEVENT
DTSTART;TZID=America/New_York:20251109T120000
DTEND;TZID=America/New_York:20251109T130000
DTSTAMP:20260423T144447
CREATED:20251103T162525Z
LAST-MODIFIED:20251103T162525Z
UID:10004105-1762689600-1762693200@redeemerpv.com
SUMMARY:Volunteer Vision Day
DESCRIPTION:NOVEMBER 9th | 12-1pm \nIf you serve on any team at Redeemer you are invited to this special time of prayer and vision as we look forward to 2026! Light refreshments will be provided. RSVP by clicking below. \nRSVP HERE
URL:https://redeemerpv.com/event/volunteer-vision-day/
LOCATION:Redeemer Campus\, 190 S Roscoe Blvd\, Ponte Vedra Beach\, FL\, 32082\, United States
CATEGORIES:Meeting
ATTACH;FMTTYPE=image/png:https://redeemerpv.com/wp-content/uploads/2025/11/VOLUNTEER-VISION-DAY-750-x-422-px.png
END:VEVENT
BEGIN:VEVENT
DTSTART;TZID=America/New_York:20251102T094500
DTEND;TZID=America/New_York:20251102T104500
DTSTAMP:20260423T144447
CREATED:20250415T152536Z
LAST-MODIFIED:20260226T171644Z
UID:10005334-1762076700-1762080300@redeemerpv.com
SUMMARY:Discover Redeemer
DESCRIPTION:Come discover more about who we are as a church community and explore how you and your family can get better connected at Discover Redeemer! This one-hour class will be held on first Sunday of every month after each morning service. We can’t wait to help you get more connected! \nRSVP \nFirst Sunday of the Month\n9:45-10:45am\, 11:15am-12:15pm\, + 12:45-1:45pm\nLight refreshments will be served.
URL:https://redeemerpv.com/event/discover-redeemer-2/2025-11-02/
LOCATION:Redeemer Campus\, 190 S Roscoe Blvd\, Ponte Vedra Beach\, FL\, 32082\, United States
CATEGORIES:Meeting
ATTACH;FMTTYPE=image/png:https://redeemerpv.com/wp-content/uploads/2025/01/Discover-Redeemer-New-Look.png
END:VEVENT
BEGIN:VEVENT
DTSTART;TZID=America/New_York:20251005T094500
DTEND;TZID=America/New_York:20251005T104500
DTSTAMP:20260423T144447
CREATED:20250415T152536Z
LAST-MODIFIED:20260226T171644Z
UID:10005333-1759657500-1759661100@redeemerpv.com
SUMMARY:Discover Redeemer
DESCRIPTION:Come discover more about who we are as a church community and explore how you and your family can get better connected at Discover Redeemer! This one-hour class will be held on first Sunday of every month after each morning service. We can’t wait to help you get more connected! \nRSVP \nFirst Sunday of the Month\n9:45-10:45am\, 11:15am-12:15pm\, + 12:45-1:45pm\nLight refreshments will be served.
URL:https://redeemerpv.com/event/discover-redeemer-2/2025-10-05/
LOCATION:Redeemer Campus\, 190 S Roscoe Blvd\, Ponte Vedra Beach\, FL\, 32082\, United States
CATEGORIES:Meeting
ATTACH;FMTTYPE=image/png:https://redeemerpv.com/wp-content/uploads/2025/01/Discover-Redeemer-New-Look.png
END:VEVENT
BEGIN:VEVENT
DTSTART;TZID=America/New_York:20250907T094500
DTEND;TZID=America/New_York:20250907T104500
DTSTAMP:20260423T144447
CREATED:20250415T152536Z
LAST-MODIFIED:20260226T171644Z
UID:10005332-1757238300-1757241900@redeemerpv.com
SUMMARY:Discover Redeemer
DESCRIPTION:Come discover more about who we are as a church community and explore how you and your family can get better connected at Discover Redeemer! This one-hour class will be held on first Sunday of every month after each morning service. We can’t wait to help you get more connected! \nRSVP \nFirst Sunday of the Month\n9:45-10:45am\, 11:15am-12:15pm\, + 12:45-1:45pm\nLight refreshments will be served.
URL:https://redeemerpv.com/event/discover-redeemer-2/2025-09-07/
LOCATION:Redeemer Campus\, 190 S Roscoe Blvd\, Ponte Vedra Beach\, FL\, 32082\, United States
CATEGORIES:Meeting
ATTACH;FMTTYPE=image/png:https://redeemerpv.com/wp-content/uploads/2025/01/Discover-Redeemer-New-Look.png
END:VEVENT
BEGIN:VEVENT
DTSTART;TZID=America/New_York:20250803T094500
DTEND;TZID=America/New_York:20250803T104500
DTSTAMP:20260423T144447
CREATED:20250415T152536Z
LAST-MODIFIED:20260226T171644Z
UID:10005331-1754214300-1754217900@redeemerpv.com
SUMMARY:Discover Redeemer
DESCRIPTION:Come discover more about who we are as a church community and explore how you and your family can get better connected at Discover Redeemer! This one-hour class will be held on first Sunday of every month after each morning service. We can’t wait to help you get more connected! \nRSVP \nFirst Sunday of the Month\n9:45-10:45am\, 11:15am-12:15pm\, + 12:45-1:45pm\nLight refreshments will be served.
URL:https://redeemerpv.com/event/discover-redeemer-2/2025-08-03/
LOCATION:Redeemer Campus\, 190 S Roscoe Blvd\, Ponte Vedra Beach\, FL\, 32082\, United States
CATEGORIES:Meeting
ATTACH;FMTTYPE=image/png:https://redeemerpv.com/wp-content/uploads/2025/01/Discover-Redeemer-New-Look.png
END:VEVENT
BEGIN:VEVENT
DTSTART;TZID=America/New_York:20250727T120000
DTEND;TZID=America/New_York:20250727T123000
DTSTAMP:20260423T144447
CREATED:20250701T152900Z
LAST-MODIFIED:20250701T152900Z
UID:10003719-1753617600-1753619400@redeemerpv.com
SUMMARY:Baptism Class
DESCRIPTION:Sunday\, July 27th at 12pm | rKids Adventures Room \nIf you are interested in getting baptized\, this class is for you! Together we will go over what water baptism means and you will be able to ask any questions that you have. This class is not required to be baptized but is recommended.
URL:https://redeemerpv.com/event/baptism-class-2/
LOCATION:Redeemer Campus\, 190 S Roscoe Blvd\, Ponte Vedra Beach\, FL\, 32082\, United States
CATEGORIES:Meeting
ATTACH;FMTTYPE=image/png:https://redeemerpv.com/wp-content/uploads/2025/07/Baptism-class-Graphic-2025.png
END:VEVENT
BEGIN:VEVENT
DTSTART;TZID=America/New_York:20250706T094500
DTEND;TZID=America/New_York:20250706T104500
DTSTAMP:20260423T144447
CREATED:20250415T152536Z
LAST-MODIFIED:20260226T171644Z
UID:10005330-1751795100-1751798700@redeemerpv.com
SUMMARY:Discover Redeemer
DESCRIPTION:Come discover more about who we are as a church community and explore how you and your family can get better connected at Discover Redeemer! This one-hour class will be held on first Sunday of every month after each morning service. We can’t wait to help you get more connected! \nRSVP \nFirst Sunday of the Month\n9:45-10:45am\, 11:15am-12:15pm\, + 12:45-1:45pm\nLight refreshments will be served.
URL:https://redeemerpv.com/event/discover-redeemer-2/2025-07-06/
LOCATION:Redeemer Campus\, 190 S Roscoe Blvd\, Ponte Vedra Beach\, FL\, 32082\, United States
CATEGORIES:Meeting
ATTACH;FMTTYPE=image/png:https://redeemerpv.com/wp-content/uploads/2025/01/Discover-Redeemer-New-Look.png
END:VEVENT
BEGIN:VEVENT
DTSTART;TZID=America/New_York:20250613T090000
DTEND;TZID=America/New_York:20250613T123000
DTSTAMP:20260423T144447
CREATED:20250326T161229Z
LAST-MODIFIED:20250326T161229Z
UID:10003444-1749805200-1749817800@redeemerpv.com
SUMMARY:Vacation Bible School
DESCRIPTION:We are so excited to go on the ultimate Alaskan adventure where northern lights glow over majestic mountains\, racing rivers\, and glistening glaciers. As kids trek the tundra\, they’ll explore how easy it is to lose sight of what’s true in our wild world today. Pointing them toward Jesus\, True North VBS shows them that He is a faithful friend we can always trust. He’s our True North! \nCLICK HERE for more information and to register a child or a volunteer. 
URL:https://redeemerpv.com/event/vacation-bible-school/2025-06-13/
LOCATION:Redeemer Campus\, 190 S Roscoe Blvd\, Ponte Vedra Beach\, FL\, 32082\, United States
CATEGORIES:Meeting
ATTACH;FMTTYPE=image/png:https://redeemerpv.com/wp-content/uploads/2025/03/WINNER.png
END:VEVENT
BEGIN:VEVENT
DTSTART;TZID=America/New_York:20250612T090000
DTEND;TZID=America/New_York:20250612T130000
DTSTAMP:20260423T144447
CREATED:20250326T161229Z
LAST-MODIFIED:20250326T161229Z
UID:10003443-1749718800-1749733200@redeemerpv.com
SUMMARY:Vacation Bible School
DESCRIPTION:We are so excited to go on the ultimate Alaskan adventure where northern lights glow over majestic mountains\, racing rivers\, and glistening glaciers. As kids trek the tundra\, they’ll explore how easy it is to lose sight of what’s true in our wild world today. Pointing them toward Jesus\, True North VBS shows them that He is a faithful friend we can always trust. He’s our True North! \nCLICK HERE for more information and to register a child or a volunteer. 
URL:https://redeemerpv.com/event/vacation-bible-school/2025-06-12/
LOCATION:Redeemer Campus\, 190 S Roscoe Blvd\, Ponte Vedra Beach\, FL\, 32082\, United States
CATEGORIES:Meeting
ATTACH;FMTTYPE=image/png:https://redeemerpv.com/wp-content/uploads/2025/03/WINNER.png
END:VEVENT
BEGIN:VEVENT
DTSTART;TZID=America/New_York:20250611T090000
DTEND;TZID=America/New_York:20250611T130000
DTSTAMP:20260423T144447
CREATED:20250326T161229Z
LAST-MODIFIED:20250326T161229Z
UID:10003442-1749632400-1749646800@redeemerpv.com
SUMMARY:Vacation Bible School
DESCRIPTION:We are so excited to go on the ultimate Alaskan adventure where northern lights glow over majestic mountains\, racing rivers\, and glistening glaciers. As kids trek the tundra\, they’ll explore how easy it is to lose sight of what’s true in our wild world today. Pointing them toward Jesus\, True North VBS shows them that He is a faithful friend we can always trust. He’s our True North! \nCLICK HERE for more information and to register a child or a volunteer. 
URL:https://redeemerpv.com/event/vacation-bible-school/2025-06-11/
LOCATION:Redeemer Campus\, 190 S Roscoe Blvd\, Ponte Vedra Beach\, FL\, 32082\, United States
CATEGORIES:Meeting
ATTACH;FMTTYPE=image/png:https://redeemerpv.com/wp-content/uploads/2025/03/WINNER.png
END:VEVENT
BEGIN:VEVENT
DTSTART;TZID=America/New_York:20250610T090000
DTEND;TZID=America/New_York:20250610T130000
DTSTAMP:20260423T144447
CREATED:20250326T161229Z
LAST-MODIFIED:20250326T161229Z
UID:10003441-1749546000-1749560400@redeemerpv.com
SUMMARY:Vacation Bible School
DESCRIPTION:We are so excited to go on the ultimate Alaskan adventure where northern lights glow over majestic mountains\, racing rivers\, and glistening glaciers. As kids trek the tundra\, they’ll explore how easy it is to lose sight of what’s true in our wild world today. Pointing them toward Jesus\, True North VBS shows them that He is a faithful friend we can always trust. He’s our True North! \nCLICK HERE for more information and to register a child or a volunteer. 
URL:https://redeemerpv.com/event/vacation-bible-school/2025-06-10/
LOCATION:Redeemer Campus\, 190 S Roscoe Blvd\, Ponte Vedra Beach\, FL\, 32082\, United States
CATEGORIES:Meeting
ATTACH;FMTTYPE=image/png:https://redeemerpv.com/wp-content/uploads/2025/03/WINNER.png
END:VEVENT
BEGIN:VEVENT
DTSTART;TZID=America/New_York:20250609T090000
DTEND;TZID=America/New_York:20250609T130000
DTSTAMP:20260423T144447
CREATED:20250326T161229Z
LAST-MODIFIED:20250326T161229Z
UID:10003440-1749459600-1749474000@redeemerpv.com
SUMMARY:Vacation Bible School
DESCRIPTION:We are so excited to go on the ultimate Alaskan adventure where northern lights glow over majestic mountains\, racing rivers\, and glistening glaciers. As kids trek the tundra\, they’ll explore how easy it is to lose sight of what’s true in our wild world today. Pointing them toward Jesus\, True North VBS shows them that He is a faithful friend we can always trust. He’s our True North! \nCLICK HERE for more information and to register a child or a volunteer. 
URL:https://redeemerpv.com/event/vacation-bible-school/2025-06-09/
LOCATION:Redeemer Campus\, 190 S Roscoe Blvd\, Ponte Vedra Beach\, FL\, 32082\, United States
CATEGORIES:Meeting
ATTACH;FMTTYPE=image/png:https://redeemerpv.com/wp-content/uploads/2025/03/WINNER.png
END:VEVENT
BEGIN:VEVENT
DTSTART;TZID=America/New_York:20250601T094500
DTEND;TZID=America/New_York:20250601T104500
DTSTAMP:20260423T144447
CREATED:20250415T152536Z
LAST-MODIFIED:20260226T171644Z
UID:10005329-1748771100-1748774700@redeemerpv.com
SUMMARY:Discover Redeemer
DESCRIPTION:Come discover more about who we are as a church community and explore how you and your family can get better connected at Discover Redeemer! This one-hour class will be held on first Sunday of every month after each morning service. We can’t wait to help you get more connected! \nRSVP \nFirst Sunday of the Month\n9:45-10:45am\, 11:15am-12:15pm\, + 12:45-1:45pm\nLight refreshments will be served.
URL:https://redeemerpv.com/event/discover-redeemer-2/2025-06-01/
LOCATION:Redeemer Campus\, 190 S Roscoe Blvd\, Ponte Vedra Beach\, FL\, 32082\, United States
CATEGORIES:Meeting
ATTACH;FMTTYPE=image/png:https://redeemerpv.com/wp-content/uploads/2025/01/Discover-Redeemer-New-Look.png
END:VEVENT
BEGIN:VEVENT
DTSTART;TZID=America/New_York:20250525T120000
DTEND;TZID=America/New_York:20250525T130000
DTSTAMP:20260423T144447
CREATED:20250512T152509Z
LAST-MODIFIED:20250512T152509Z
UID:10003690-1748174400-1748178000@redeemerpv.com
SUMMARY:Move Up Sunday
DESCRIPTION:All students and kids will move up to the next class on Sunday\, May 25th! \nIf you have a rising 6th grader\, you and your student(s) are invited to a special luncheon after the 10:30am service. Come hear about the rStudents ministry while the students have a fun introduction to the group!
URL:https://redeemerpv.com/event/move-up-sunday/2025-05-25/3/
LOCATION:Redeemer Campus\, 190 S Roscoe Blvd\, Ponte Vedra Beach\, FL\, 32082\, United States
CATEGORIES:Meeting
ATTACH;FMTTYPE=image/png:https://redeemerpv.com/wp-content/uploads/2025/05/Move-Up-Sunday-grapahic.png
END:VEVENT
BEGIN:VEVENT
DTSTART;TZID=America/New_York:20250525T103000
DTEND;TZID=America/New_York:20250525T120000
DTSTAMP:20260423T144447
CREATED:20250512T152509Z
LAST-MODIFIED:20250512T152509Z
UID:10003689-1748169000-1748174400@redeemerpv.com
SUMMARY:Move Up Sunday
DESCRIPTION:All students and kids will move up to the next class on Sunday\, May 25th! \nIf you have a rising 6th grader\, you and your student(s) are invited to a special luncheon after the 10:30am service. Come hear about the rStudents ministry while the students have a fun introduction to the group!
URL:https://redeemerpv.com/event/move-up-sunday/2025-05-25/2/
LOCATION:Redeemer Campus\, 190 S Roscoe Blvd\, Ponte Vedra Beach\, FL\, 32082\, United States
CATEGORIES:Meeting
ATTACH;FMTTYPE=image/png:https://redeemerpv.com/wp-content/uploads/2025/05/Move-Up-Sunday-grapahic.png
END:VEVENT
BEGIN:VEVENT
DTSTART;TZID=America/New_York:20250525T090000
DTEND;TZID=America/New_York:20250525T103000
DTSTAMP:20260423T144447
CREATED:20250512T152509Z
LAST-MODIFIED:20250512T152509Z
UID:10003688-1748163600-1748169000@redeemerpv.com
SUMMARY:Move Up Sunday
DESCRIPTION:All students and kids will move up to the next class on Sunday\, May 25th! \nIf you have a rising 6th grader\, you and your student(s) are invited to a special luncheon after the 10:30am service. Come hear about the rStudents ministry while the students have a fun introduction to the group!
URL:https://redeemerpv.com/event/move-up-sunday/2025-05-25/1/
LOCATION:Redeemer Campus\, 190 S Roscoe Blvd\, Ponte Vedra Beach\, FL\, 32082\, United States
CATEGORIES:Meeting
ATTACH;FMTTYPE=image/png:https://redeemerpv.com/wp-content/uploads/2025/05/Move-Up-Sunday-grapahic.png
END:VEVENT
BEGIN:VEVENT
DTSTART;TZID=America/New_York:20250504T094500
DTEND;TZID=America/New_York:20250504T104500
DTSTAMP:20260423T144447
CREATED:20250415T152536Z
LAST-MODIFIED:20260226T171644Z
UID:10005328-1746351900-1746355500@redeemerpv.com
SUMMARY:Discover Redeemer
DESCRIPTION:Come discover more about who we are as a church community and explore how you and your family can get better connected at Discover Redeemer! This one-hour class will be held on first Sunday of every month after each morning service. We can’t wait to help you get more connected! \nRSVP \nFirst Sunday of the Month\n9:45-10:45am\, 11:15am-12:15pm\, + 12:45-1:45pm\nLight refreshments will be served.
URL:https://redeemerpv.com/event/discover-redeemer-2/2025-05-04/
LOCATION:Redeemer Campus\, 190 S Roscoe Blvd\, Ponte Vedra Beach\, FL\, 32082\, United States
CATEGORIES:Meeting
ATTACH;FMTTYPE=image/png:https://redeemerpv.com/wp-content/uploads/2025/01/Discover-Redeemer-New-Look.png
END:VEVENT
BEGIN:VEVENT
DTSTART;TZID=America/New_York:20250222T090000
DTEND;TZID=America/New_York:20250222T140000
DTSTAMP:20260423T144447
CREATED:20250204T201042Z
LAST-MODIFIED:20250204T201042Z
UID:10003389-1740214800-1740232800@redeemerpv.com
SUMMARY:Gospel Conversations Training
DESCRIPTION:This is an in-depth seminar on how to share your faith! If you’ve been to one of our 15-minute gospel trainings\, this is a great next step. Every person will learn how to turn everyday conversations into gospel conversations! With questions\, email Pastor Mark at Mark@RedeemerPV.com \n 
URL:https://redeemerpv.com/event/gospel-conversations-training/
LOCATION:Redeemer Campus\, 190 S Roscoe Blvd\, Ponte Vedra Beach\, FL\, 32082\, United States
CATEGORIES:Meeting
ATTACH;FMTTYPE=image/png:https://redeemerpv.com/wp-content/uploads/2025/02/Gospel-Conversations-2025.png
END:VEVENT
END:VCALENDAR