BEGIN:VCALENDAR
VERSION:2.0
PRODID:-//Redeemer Church - ECPv6.15.20//NONSGML v1.0//EN
CALSCALE:GREGORIAN
METHOD:PUBLISH
X-WR-CALNAME:Redeemer Church
X-ORIGINAL-URL:https://redeemerpv.com
X-WR-CALDESC:Events for Redeemer Church
REFRESH-INTERVAL;VALUE=DURATION:PT1H
X-Robots-Tag:noindex
X-PUBLISHED-TTL:PT1H
BEGIN:VTIMEZONE
TZID:America/New_York
BEGIN:DAYLIGHT
TZOFFSETFROM:-0500
TZOFFSETTO:-0400
TZNAME:EDT
DTSTART:20290311T070000
END:DAYLIGHT
BEGIN:STANDARD
TZOFFSETFROM:-0400
TZOFFSETTO:-0500
TZNAME:EST
DTSTART:20291104T060000
END:STANDARD
BEGIN:DAYLIGHT
TZOFFSETFROM:-0500
TZOFFSETTO:-0400
TZNAME:EDT
DTSTART:20300310T070000
END:DAYLIGHT
BEGIN:STANDARD
TZOFFSETFROM:-0400
TZOFFSETTO:-0500
TZNAME:EST
DTSTART:20301103T060000
END:STANDARD
BEGIN:DAYLIGHT
TZOFFSETFROM:-0500
TZOFFSETTO:-0400
TZNAME:EDT
DTSTART:20310309T070000
END:DAYLIGHT
BEGIN:STANDARD
TZOFFSETFROM:-0400
TZOFFSETTO:-0500
TZNAME:EST
DTSTART:20311102T060000
END:STANDARD
BEGIN:DAYLIGHT
TZOFFSETFROM:-0500
TZOFFSETTO:-0400
TZNAME:EDT
DTSTART:20320314T070000
END:DAYLIGHT
BEGIN:STANDARD
TZOFFSETFROM:-0400
TZOFFSETTO:-0500
TZNAME:EST
DTSTART:20321107T060000
END:STANDARD
END:VTIMEZONE
BEGIN:VEVENT
DTSTART;TZID=America/New_York:20301103T111500
DTEND;TZID=America/New_York:20301103T121500
DTSTAMP:20260424T124253
CREATED:20260113T174908Z
LAST-MODIFIED:20260226T171111Z
UID:10005655-1919934900-1919938500@redeemerpv.com
SUMMARY:Discover Redeemer
DESCRIPTION:Come discover more about who we are as a church community and explore how you and your family can get better connected at Discover Redeemer! This one-hour class will be held on first Sunday of every month after each morning service. We can’t wait to help you get more connected! \nRSVP \nFirst Sunday of the Month\n9:45-10:45am\, 11:15am-12:15pm\, + 12:45-1:45pm\nLight refreshments will be served.
URL:https://redeemerpv.com/event/discover-redeemer-5/2030-11-03/
LOCATION:Redeemer Campus\, 190 S Roscoe Blvd\, Ponte Vedra Beach\, FL\, 32082\, United States
CATEGORIES:Meeting
ATTACH;FMTTYPE=image/png:https://redeemerpv.com/wp-content/uploads/2025/01/Discover-Redeemer-New-Look.png
END:VEVENT
BEGIN:VEVENT
DTSTART;TZID=America/New_York:20301103T124500
DTEND;TZID=America/New_York:20301103T134500
DTSTAMP:20260424T124253
CREATED:20260113T174237Z
LAST-MODIFIED:20260226T171201Z
UID:10005537-1919940300-1919943900@redeemerpv.com
SUMMARY:Discover Redeemer
DESCRIPTION:Come discover more about who we are as a church community and explore how you and your family can get better connected at Discover Redeemer! This one-hour class will be held on first Sunday of every month after each morning service. We can’t wait to help you get more connected! \nRSVP Here \nFirst Sunday of the Month\n9:45-10:45am\, 11:15am-12:15pm\, + 12:45-1:45pm\nLight refreshments will be served.
URL:https://redeemerpv.com/event/discover-redeemer-4/2030-11-03/
LOCATION:Redeemer Campus\, 190 S Roscoe Blvd\, Ponte Vedra Beach\, FL\, 32082\, United States
CATEGORIES:Meeting
ATTACH;FMTTYPE=image/png:https://redeemerpv.com/wp-content/uploads/2025/01/Discover-Redeemer-New-Look.png
END:VEVENT
BEGIN:VEVENT
DTSTART;TZID=America/New_York:20301201T094500
DTEND;TZID=America/New_York:20301201T104500
DTSTAMP:20260424T124253
CREATED:20250415T152536Z
LAST-MODIFIED:20260226T171644Z
UID:10005395-1922348700-1922352300@redeemerpv.com
SUMMARY:Discover Redeemer
DESCRIPTION:Come discover more about who we are as a church community and explore how you and your family can get better connected at Discover Redeemer! This one-hour class will be held on first Sunday of every month after each morning service. We can’t wait to help you get more connected! \nRSVP \nFirst Sunday of the Month\n9:45-10:45am\, 11:15am-12:15pm\, + 12:45-1:45pm\nLight refreshments will be served.
URL:https://redeemerpv.com/event/discover-redeemer-2/2030-12-01/
LOCATION:Redeemer Campus\, 190 S Roscoe Blvd\, Ponte Vedra Beach\, FL\, 32082\, United States
CATEGORIES:Meeting
ATTACH;FMTTYPE=image/png:https://redeemerpv.com/wp-content/uploads/2025/01/Discover-Redeemer-New-Look.png
END:VEVENT
BEGIN:VEVENT
DTSTART;TZID=America/New_York:20301201T111500
DTEND;TZID=America/New_York:20301201T121500
DTSTAMP:20260424T124253
CREATED:20260113T174908Z
LAST-MODIFIED:20260226T171111Z
UID:10005656-1922354100-1922357700@redeemerpv.com
SUMMARY:Discover Redeemer
DESCRIPTION:Come discover more about who we are as a church community and explore how you and your family can get better connected at Discover Redeemer! This one-hour class will be held on first Sunday of every month after each morning service. We can’t wait to help you get more connected! \nRSVP \nFirst Sunday of the Month\n9:45-10:45am\, 11:15am-12:15pm\, + 12:45-1:45pm\nLight refreshments will be served.
URL:https://redeemerpv.com/event/discover-redeemer-5/2030-12-01/
LOCATION:Redeemer Campus\, 190 S Roscoe Blvd\, Ponte Vedra Beach\, FL\, 32082\, United States
CATEGORIES:Meeting
ATTACH;FMTTYPE=image/png:https://redeemerpv.com/wp-content/uploads/2025/01/Discover-Redeemer-New-Look.png
END:VEVENT
BEGIN:VEVENT
DTSTART;TZID=America/New_York:20301201T124500
DTEND;TZID=America/New_York:20301201T134500
DTSTAMP:20260424T124253
CREATED:20260113T174237Z
LAST-MODIFIED:20260226T171201Z
UID:10005538-1922359500-1922363100@redeemerpv.com
SUMMARY:Discover Redeemer
DESCRIPTION:Come discover more about who we are as a church community and explore how you and your family can get better connected at Discover Redeemer! This one-hour class will be held on first Sunday of every month after each morning service. We can’t wait to help you get more connected! \nRSVP Here \nFirst Sunday of the Month\n9:45-10:45am\, 11:15am-12:15pm\, + 12:45-1:45pm\nLight refreshments will be served.
URL:https://redeemerpv.com/event/discover-redeemer-4/2030-12-01/
LOCATION:Redeemer Campus\, 190 S Roscoe Blvd\, Ponte Vedra Beach\, FL\, 32082\, United States
CATEGORIES:Meeting
ATTACH;FMTTYPE=image/png:https://redeemerpv.com/wp-content/uploads/2025/01/Discover-Redeemer-New-Look.png
END:VEVENT
BEGIN:VEVENT
DTSTART;TZID=America/New_York:20310105T094500
DTEND;TZID=America/New_York:20310105T104500
DTSTAMP:20260424T124253
CREATED:20250415T152536Z
LAST-MODIFIED:20260226T171644Z
UID:10005396-1925372700-1925376300@redeemerpv.com
SUMMARY:Discover Redeemer
DESCRIPTION:Come discover more about who we are as a church community and explore how you and your family can get better connected at Discover Redeemer! This one-hour class will be held on first Sunday of every month after each morning service. We can’t wait to help you get more connected! \nRSVP \nFirst Sunday of the Month\n9:45-10:45am\, 11:15am-12:15pm\, + 12:45-1:45pm\nLight refreshments will be served.
URL:https://redeemerpv.com/event/discover-redeemer-2/2031-01-05/
LOCATION:Redeemer Campus\, 190 S Roscoe Blvd\, Ponte Vedra Beach\, FL\, 32082\, United States
CATEGORIES:Meeting
ATTACH;FMTTYPE=image/png:https://redeemerpv.com/wp-content/uploads/2025/01/Discover-Redeemer-New-Look.png
END:VEVENT
BEGIN:VEVENT
DTSTART;TZID=America/New_York:20310105T111500
DTEND;TZID=America/New_York:20310105T121500
DTSTAMP:20260424T124253
CREATED:20260113T174908Z
LAST-MODIFIED:20260226T171111Z
UID:10005657-1925378100-1925381700@redeemerpv.com
SUMMARY:Discover Redeemer
DESCRIPTION:Come discover more about who we are as a church community and explore how you and your family can get better connected at Discover Redeemer! This one-hour class will be held on first Sunday of every month after each morning service. We can’t wait to help you get more connected! \nRSVP \nFirst Sunday of the Month\n9:45-10:45am\, 11:15am-12:15pm\, + 12:45-1:45pm\nLight refreshments will be served.
URL:https://redeemerpv.com/event/discover-redeemer-5/2031-01-05/
LOCATION:Redeemer Campus\, 190 S Roscoe Blvd\, Ponte Vedra Beach\, FL\, 32082\, United States
CATEGORIES:Meeting
ATTACH;FMTTYPE=image/png:https://redeemerpv.com/wp-content/uploads/2025/01/Discover-Redeemer-New-Look.png
END:VEVENT
BEGIN:VEVENT
DTSTART;TZID=America/New_York:20310105T124500
DTEND;TZID=America/New_York:20310105T134500
DTSTAMP:20260424T124253
CREATED:20260113T174237Z
LAST-MODIFIED:20260226T171201Z
UID:10005539-1925383500-1925387100@redeemerpv.com
SUMMARY:Discover Redeemer
DESCRIPTION:Come discover more about who we are as a church community and explore how you and your family can get better connected at Discover Redeemer! This one-hour class will be held on first Sunday of every month after each morning service. We can’t wait to help you get more connected! \nRSVP Here \nFirst Sunday of the Month\n9:45-10:45am\, 11:15am-12:15pm\, + 12:45-1:45pm\nLight refreshments will be served.
URL:https://redeemerpv.com/event/discover-redeemer-4/2031-01-05/
LOCATION:Redeemer Campus\, 190 S Roscoe Blvd\, Ponte Vedra Beach\, FL\, 32082\, United States
CATEGORIES:Meeting
ATTACH;FMTTYPE=image/png:https://redeemerpv.com/wp-content/uploads/2025/01/Discover-Redeemer-New-Look.png
END:VEVENT
BEGIN:VEVENT
DTSTART;TZID=America/New_York:20310202T094500
DTEND;TZID=America/New_York:20310202T104500
DTSTAMP:20260424T124253
CREATED:20250415T152536Z
LAST-MODIFIED:20260226T171644Z
UID:10005683-1927791900-1927795500@redeemerpv.com
SUMMARY:Discover Redeemer
DESCRIPTION:Come discover more about who we are as a church community and explore how you and your family can get better connected at Discover Redeemer! This one-hour class will be held on first Sunday of every month after each morning service. We can’t wait to help you get more connected! \nRSVP \nFirst Sunday of the Month\n9:45-10:45am\, 11:15am-12:15pm\, + 12:45-1:45pm\nLight refreshments will be served.
URL:https://redeemerpv.com/event/discover-redeemer-2/2031-02-02/
LOCATION:Redeemer Campus\, 190 S Roscoe Blvd\, Ponte Vedra Beach\, FL\, 32082\, United States
CATEGORIES:Meeting
ATTACH;FMTTYPE=image/png:https://redeemerpv.com/wp-content/uploads/2025/01/Discover-Redeemer-New-Look.png
END:VEVENT
BEGIN:VEVENT
DTSTART;TZID=America/New_York:20310202T111500
DTEND;TZID=America/New_York:20310202T121500
DTSTAMP:20260424T124253
CREATED:20260113T174908Z
LAST-MODIFIED:20260226T171111Z
UID:10005682-1927797300-1927800900@redeemerpv.com
SUMMARY:Discover Redeemer
DESCRIPTION:Come discover more about who we are as a church community and explore how you and your family can get better connected at Discover Redeemer! This one-hour class will be held on first Sunday of every month after each morning service. We can’t wait to help you get more connected! \nRSVP \nFirst Sunday of the Month\n9:45-10:45am\, 11:15am-12:15pm\, + 12:45-1:45pm\nLight refreshments will be served.
URL:https://redeemerpv.com/event/discover-redeemer-5/2031-02-02/
LOCATION:Redeemer Campus\, 190 S Roscoe Blvd\, Ponte Vedra Beach\, FL\, 32082\, United States
CATEGORIES:Meeting
ATTACH;FMTTYPE=image/png:https://redeemerpv.com/wp-content/uploads/2025/01/Discover-Redeemer-New-Look.png
END:VEVENT
BEGIN:VEVENT
DTSTART;TZID=America/New_York:20310202T124500
DTEND;TZID=America/New_York:20310202T134500
DTSTAMP:20260424T124253
CREATED:20260113T174237Z
LAST-MODIFIED:20260226T171201Z
UID:10005667-1927802700-1927806300@redeemerpv.com
SUMMARY:Discover Redeemer
DESCRIPTION:Come discover more about who we are as a church community and explore how you and your family can get better connected at Discover Redeemer! This one-hour class will be held on first Sunday of every month after each morning service. We can’t wait to help you get more connected! \nRSVP Here \nFirst Sunday of the Month\n9:45-10:45am\, 11:15am-12:15pm\, + 12:45-1:45pm\nLight refreshments will be served.
URL:https://redeemerpv.com/event/discover-redeemer-4/2031-02-02/
LOCATION:Redeemer Campus\, 190 S Roscoe Blvd\, Ponte Vedra Beach\, FL\, 32082\, United States
CATEGORIES:Meeting
ATTACH;FMTTYPE=image/png:https://redeemerpv.com/wp-content/uploads/2025/01/Discover-Redeemer-New-Look.png
END:VEVENT
END:VCALENDAR