BEGIN:VCALENDAR
VERSION:2.0
PRODID:-//Redeemer Church - ECPv6.15.20//NONSGML v1.0//EN
CALSCALE:GREGORIAN
METHOD:PUBLISH
X-ORIGINAL-URL:https://redeemerpv.com
X-WR-CALDESC:Events for Redeemer Church
REFRESH-INTERVAL;VALUE=DURATION:PT1H
X-Robots-Tag:noindex
X-PUBLISHED-TTL:PT1H
BEGIN:VTIMEZONE
TZID:America/New_York
BEGIN:DAYLIGHT
TZOFFSETFROM:-0500
TZOFFSETTO:-0400
TZNAME:EDT
DTSTART:20240310T070000
END:DAYLIGHT
BEGIN:STANDARD
TZOFFSETFROM:-0400
TZOFFSETTO:-0500
TZNAME:EST
DTSTART:20241103T060000
END:STANDARD
BEGIN:DAYLIGHT
TZOFFSETFROM:-0500
TZOFFSETTO:-0400
TZNAME:EDT
DTSTART:20250309T070000
END:DAYLIGHT
BEGIN:STANDARD
TZOFFSETFROM:-0400
TZOFFSETTO:-0500
TZNAME:EST
DTSTART:20251102T060000
END:STANDARD
BEGIN:DAYLIGHT
TZOFFSETFROM:-0500
TZOFFSETTO:-0400
TZNAME:EDT
DTSTART:20260308T070000
END:DAYLIGHT
BEGIN:STANDARD
TZOFFSETFROM:-0400
TZOFFSETTO:-0500
TZNAME:EST
DTSTART:20261101T060000
END:STANDARD
END:VTIMEZONE
BEGIN:VEVENT
DTSTART;TZID=America/New_York:20250525T090000
DTEND;TZID=America/New_York:20250525T103000
DTSTAMP:20260424T052913
CREATED:20250512T152509Z
LAST-MODIFIED:20250512T152509Z
UID:10003688-1748163600-1748169000@redeemerpv.com
SUMMARY:Move Up Sunday
DESCRIPTION:All students and kids will move up to the next class on Sunday\, May 25th! \nIf you have a rising 6th grader\, you and your student(s) are invited to a special luncheon after the 10:30am service. Come hear about the rStudents ministry while the students have a fun introduction to the group!
URL:https://redeemerpv.com/event/move-up-sunday/2025-05-25/1/
LOCATION:Redeemer Campus\, 190 S Roscoe Blvd\, Ponte Vedra Beach\, FL\, 32082\, United States
CATEGORIES:Meeting
ATTACH;FMTTYPE=image/png:https://redeemerpv.com/wp-content/uploads/2025/05/Move-Up-Sunday-grapahic.png
END:VEVENT
BEGIN:VEVENT
DTSTART;TZID=America/New_York:20250525T103000
DTEND;TZID=America/New_York:20250525T120000
DTSTAMP:20260424T052914
CREATED:20250512T152509Z
LAST-MODIFIED:20250512T152509Z
UID:10003689-1748169000-1748174400@redeemerpv.com
SUMMARY:Move Up Sunday
DESCRIPTION:All students and kids will move up to the next class on Sunday\, May 25th! \nIf you have a rising 6th grader\, you and your student(s) are invited to a special luncheon after the 10:30am service. Come hear about the rStudents ministry while the students have a fun introduction to the group!
URL:https://redeemerpv.com/event/move-up-sunday/2025-05-25/2/
LOCATION:Redeemer Campus\, 190 S Roscoe Blvd\, Ponte Vedra Beach\, FL\, 32082\, United States
CATEGORIES:Meeting
ATTACH;FMTTYPE=image/png:https://redeemerpv.com/wp-content/uploads/2025/05/Move-Up-Sunday-grapahic.png
END:VEVENT
BEGIN:VEVENT
DTSTART;TZID=America/New_York:20250525T120000
DTEND;TZID=America/New_York:20250525T130000
DTSTAMP:20260424T052914
CREATED:20250512T152509Z
LAST-MODIFIED:20250512T152509Z
UID:10003690-1748174400-1748178000@redeemerpv.com
SUMMARY:Move Up Sunday
DESCRIPTION:All students and kids will move up to the next class on Sunday\, May 25th! \nIf you have a rising 6th grader\, you and your student(s) are invited to a special luncheon after the 10:30am service. Come hear about the rStudents ministry while the students have a fun introduction to the group!
URL:https://redeemerpv.com/event/move-up-sunday/2025-05-25/3/
LOCATION:Redeemer Campus\, 190 S Roscoe Blvd\, Ponte Vedra Beach\, FL\, 32082\, United States
CATEGORIES:Meeting
ATTACH;FMTTYPE=image/png:https://redeemerpv.com/wp-content/uploads/2025/05/Move-Up-Sunday-grapahic.png
END:VEVENT
END:VCALENDAR