BEGIN:VCALENDAR
VERSION:2.0
PRODID:-//Redeemer Church - ECPv6.15.20//NONSGML v1.0//EN
CALSCALE:GREGORIAN
METHOD:PUBLISH
X-WR-CALNAME:Redeemer Church
X-ORIGINAL-URL:https://redeemerpv.com
X-WR-CALDESC:Events for Redeemer Church
REFRESH-INTERVAL;VALUE=DURATION:PT1H
X-Robots-Tag:noindex
X-PUBLISHED-TTL:PT1H
BEGIN:VTIMEZONE
TZID:America/New_York
BEGIN:DAYLIGHT
TZOFFSETFROM:-0500
TZOFFSETTO:-0400
TZNAME:EDT
DTSTART:20240310T070000
END:DAYLIGHT
BEGIN:STANDARD
TZOFFSETFROM:-0400
TZOFFSETTO:-0500
TZNAME:EST
DTSTART:20241103T060000
END:STANDARD
BEGIN:DAYLIGHT
TZOFFSETFROM:-0500
TZOFFSETTO:-0400
TZNAME:EDT
DTSTART:20250309T070000
END:DAYLIGHT
BEGIN:STANDARD
TZOFFSETFROM:-0400
TZOFFSETTO:-0500
TZNAME:EST
DTSTART:20251102T060000
END:STANDARD
BEGIN:DAYLIGHT
TZOFFSETFROM:-0500
TZOFFSETTO:-0400
TZNAME:EDT
DTSTART:20260308T070000
END:DAYLIGHT
BEGIN:STANDARD
TZOFFSETFROM:-0400
TZOFFSETTO:-0500
TZNAME:EST
DTSTART:20261101T060000
END:STANDARD
BEGIN:DAYLIGHT
TZOFFSETFROM:-0500
TZOFFSETTO:-0400
TZNAME:EDT
DTSTART:20270314T070000
END:DAYLIGHT
BEGIN:STANDARD
TZOFFSETFROM:-0400
TZOFFSETTO:-0500
TZNAME:EST
DTSTART:20271107T060000
END:STANDARD
END:VTIMEZONE
BEGIN:VEVENT
DTSTART;TZID=America/New_York:20260422T093000
DTEND;TZID=America/New_York:20260422T110000
DTSTAMP:20260423T141256
CREATED:20250806T175137Z
LAST-MODIFIED:20260111T170203Z
UID:10003728-1776850200-1776855600@redeemerpv.com
SUMMARY:MomCo Gathering
DESCRIPTION:Motherhood is complicated. Mom friends help! \nMomCo encourages and equips moms to realize their potential as mothers\, women and leaders\, in relationship with Jesus\, and in partnership with the local church. We believe in supporting moms through life-giving community. \nMomCo meets the second and fourth Wednesday of the month from 9:30-11AM at Redeemer Church. Click below for more information or to register! \nMORE INFO + REGISTER
URL:https://redeemerpv.com/event/momco-gathering-3/2026-04-22/
LOCATION:Redeemer Campus\, 190 S Roscoe Blvd\, Ponte Vedra Beach\, FL\, 32082\, United States
CATEGORIES:Group
ATTACH;FMTTYPE=image/png:https://redeemerpv.com/wp-content/uploads/2024/07/MomCo-General-Graphic-.png
END:VEVENT
BEGIN:VEVENT
DTSTART;TZID=America/New_York:20260408T093000
DTEND;TZID=America/New_York:20260408T110000
DTSTAMP:20260423T141256
CREATED:20250617T151840Z
LAST-MODIFIED:20260111T170131Z
UID:10003787-1775640600-1775646000@redeemerpv.com
SUMMARY:MomCo Gathering
DESCRIPTION:Motherhood is complicated. Mom friends help! \nMomCo encourages and equips moms to realize their potential as mothers\, women and leaders\, in relationship with Jesus\, and in partnership with the local church. We believe in supporting moms through life-giving community. \nMomCo meets the second and fourth Wednesday of the month from 9:30-11AM at Redeemer Church. Click below for more information or to register! \nMORE INFO + REGISTER
URL:https://redeemerpv.com/event/momco-gathering-4/2026-04-08/
LOCATION:Redeemer Campus\, 190 S Roscoe Blvd\, Ponte Vedra Beach\, FL\, 32082\, United States
CATEGORIES:Group
ATTACH;FMTTYPE=image/png:https://redeemerpv.com/wp-content/uploads/2024/07/MomCo-General-Graphic-.png
END:VEVENT
BEGIN:VEVENT
DTSTART;TZID=America/New_York:20260402T103000
DTEND;TZID=America/New_York:20260402T120000
DTSTAMP:20260423T141256
CREATED:20240724T211216Z
LAST-MODIFIED:20240730T225407Z
UID:10001688-1775125800-1775131200@redeemerpv.com
SUMMARY:Joyfully 60+
DESCRIPTION:If you’re 60 years or older\, we would love to have you join us on the 1st Thursday of every month for great fellowship and food. Bring a dish for the potluck lunch and let’s get together! \nWith questions\, email info@redeemerpv.com.
URL:https://redeemerpv.com/event/joyfully-60/2026-04-02/
LOCATION:FL
CATEGORIES:Group
ATTACH;FMTTYPE=image/png:https://redeemerpv.com/wp-content/uploads/2024/07/Joyfully-60-Slide.png
END:VEVENT
BEGIN:VEVENT
DTSTART;TZID=America/New_York:20260325T093000
DTEND;TZID=America/New_York:20260325T110000
DTSTAMP:20260423T141256
CREATED:20250806T175137Z
LAST-MODIFIED:20260111T170203Z
UID:10003727-1774431000-1774436400@redeemerpv.com
SUMMARY:MomCo Gathering
DESCRIPTION:Motherhood is complicated. Mom friends help! \nMomCo encourages and equips moms to realize their potential as mothers\, women and leaders\, in relationship with Jesus\, and in partnership with the local church. We believe in supporting moms through life-giving community. \nMomCo meets the second and fourth Wednesday of the month from 9:30-11AM at Redeemer Church. Click below for more information or to register! \nMORE INFO + REGISTER
URL:https://redeemerpv.com/event/momco-gathering-3/2026-03-25/
LOCATION:Redeemer Campus\, 190 S Roscoe Blvd\, Ponte Vedra Beach\, FL\, 32082\, United States
CATEGORIES:Group
ATTACH;FMTTYPE=image/png:https://redeemerpv.com/wp-content/uploads/2024/07/MomCo-General-Graphic-.png
END:VEVENT
BEGIN:VEVENT
DTSTART;TZID=America/New_York:20260311T093000
DTEND;TZID=America/New_York:20260311T110000
DTSTAMP:20260423T141256
CREATED:20250617T151840Z
LAST-MODIFIED:20260111T170131Z
UID:10003786-1773221400-1773226800@redeemerpv.com
SUMMARY:MomCo Gathering
DESCRIPTION:Motherhood is complicated. Mom friends help! \nMomCo encourages and equips moms to realize their potential as mothers\, women and leaders\, in relationship with Jesus\, and in partnership with the local church. We believe in supporting moms through life-giving community. \nMomCo meets the second and fourth Wednesday of the month from 9:30-11AM at Redeemer Church. Click below for more information or to register! \nMORE INFO + REGISTER
URL:https://redeemerpv.com/event/momco-gathering-4/2026-03-11/
LOCATION:Redeemer Campus\, 190 S Roscoe Blvd\, Ponte Vedra Beach\, FL\, 32082\, United States
CATEGORIES:Group
ATTACH;FMTTYPE=image/png:https://redeemerpv.com/wp-content/uploads/2024/07/MomCo-General-Graphic-.png
END:VEVENT
BEGIN:VEVENT
DTSTART;TZID=America/New_York:20260305T103000
DTEND;TZID=America/New_York:20260305T120000
DTSTAMP:20260423T141256
CREATED:20240724T211216Z
LAST-MODIFIED:20240730T225407Z
UID:10001687-1772706600-1772712000@redeemerpv.com
SUMMARY:Joyfully 60+
DESCRIPTION:If you’re 60 years or older\, we would love to have you join us on the 1st Thursday of every month for great fellowship and food. Bring a dish for the potluck lunch and let’s get together! \nWith questions\, email info@redeemerpv.com.
URL:https://redeemerpv.com/event/joyfully-60/2026-03-05/
LOCATION:FL
CATEGORIES:Group
ATTACH;FMTTYPE=image/png:https://redeemerpv.com/wp-content/uploads/2024/07/Joyfully-60-Slide.png
END:VEVENT
BEGIN:VEVENT
DTSTART;TZID=America/New_York:20260225T093000
DTEND;TZID=America/New_York:20260225T110000
DTSTAMP:20260423T141256
CREATED:20250806T175137Z
LAST-MODIFIED:20260111T170203Z
UID:10003726-1772011800-1772017200@redeemerpv.com
SUMMARY:MomCo Gathering
DESCRIPTION:Motherhood is complicated. Mom friends help! \nMomCo encourages and equips moms to realize their potential as mothers\, women and leaders\, in relationship with Jesus\, and in partnership with the local church. We believe in supporting moms through life-giving community. \nMomCo meets the second and fourth Wednesday of the month from 9:30-11AM at Redeemer Church. Click below for more information or to register! \nMORE INFO + REGISTER
URL:https://redeemerpv.com/event/momco-gathering-3/2026-02-25/
LOCATION:Redeemer Campus\, 190 S Roscoe Blvd\, Ponte Vedra Beach\, FL\, 32082\, United States
CATEGORIES:Group
ATTACH;FMTTYPE=image/png:https://redeemerpv.com/wp-content/uploads/2024/07/MomCo-General-Graphic-.png
END:VEVENT
BEGIN:VEVENT
DTSTART;TZID=America/New_York:20260211T093000
DTEND;TZID=America/New_York:20260211T110000
DTSTAMP:20260423T141256
CREATED:20250617T151840Z
LAST-MODIFIED:20260111T170131Z
UID:10003785-1770802200-1770807600@redeemerpv.com
SUMMARY:MomCo Gathering
DESCRIPTION:Motherhood is complicated. Mom friends help! \nMomCo encourages and equips moms to realize their potential as mothers\, women and leaders\, in relationship with Jesus\, and in partnership with the local church. We believe in supporting moms through life-giving community. \nMomCo meets the second and fourth Wednesday of the month from 9:30-11AM at Redeemer Church. Click below for more information or to register! \nMORE INFO + REGISTER
URL:https://redeemerpv.com/event/momco-gathering-4/2026-02-11/
LOCATION:Redeemer Campus\, 190 S Roscoe Blvd\, Ponte Vedra Beach\, FL\, 32082\, United States
CATEGORIES:Group
ATTACH;FMTTYPE=image/png:https://redeemerpv.com/wp-content/uploads/2024/07/MomCo-General-Graphic-.png
END:VEVENT
BEGIN:VEVENT
DTSTART;TZID=America/New_York:20260205T103000
DTEND;TZID=America/New_York:20260205T120000
DTSTAMP:20260423T141256
CREATED:20240724T211216Z
LAST-MODIFIED:20240730T225407Z
UID:10001686-1770287400-1770292800@redeemerpv.com
SUMMARY:Joyfully 60+
DESCRIPTION:If you’re 60 years or older\, we would love to have you join us on the 1st Thursday of every month for great fellowship and food. Bring a dish for the potluck lunch and let’s get together! \nWith questions\, email info@redeemerpv.com.
URL:https://redeemerpv.com/event/joyfully-60/2026-02-05/
LOCATION:FL
CATEGORIES:Group
ATTACH;FMTTYPE=image/png:https://redeemerpv.com/wp-content/uploads/2024/07/Joyfully-60-Slide.png
END:VEVENT
BEGIN:VEVENT
DTSTART;TZID=America/New_York:20260128T093000
DTEND;TZID=America/New_York:20260128T110000
DTSTAMP:20260423T141256
CREATED:20250806T175137Z
LAST-MODIFIED:20260111T170203Z
UID:10003725-1769592600-1769598000@redeemerpv.com
SUMMARY:MomCo Gathering
DESCRIPTION:Motherhood is complicated. Mom friends help! \nMomCo encourages and equips moms to realize their potential as mothers\, women and leaders\, in relationship with Jesus\, and in partnership with the local church. We believe in supporting moms through life-giving community. \nMomCo meets the second and fourth Wednesday of the month from 9:30-11AM at Redeemer Church. Click below for more information or to register! \nMORE INFO + REGISTER
URL:https://redeemerpv.com/event/momco-gathering-3/2026-01-28/
LOCATION:Redeemer Campus\, 190 S Roscoe Blvd\, Ponte Vedra Beach\, FL\, 32082\, United States
CATEGORIES:Group
ATTACH;FMTTYPE=image/png:https://redeemerpv.com/wp-content/uploads/2024/07/MomCo-General-Graphic-.png
END:VEVENT
BEGIN:VEVENT
DTSTART;TZID=America/New_York:20260114T093000
DTEND;TZID=America/New_York:20260114T110000
DTSTAMP:20260423T141256
CREATED:20250617T151840Z
LAST-MODIFIED:20260111T170131Z
UID:10003784-1768383000-1768388400@redeemerpv.com
SUMMARY:MomCo Gathering
DESCRIPTION:Motherhood is complicated. Mom friends help! \nMomCo encourages and equips moms to realize their potential as mothers\, women and leaders\, in relationship with Jesus\, and in partnership with the local church. We believe in supporting moms through life-giving community. \nMomCo meets the second and fourth Wednesday of the month from 9:30-11AM at Redeemer Church. Click below for more information or to register! \nMORE INFO + REGISTER
URL:https://redeemerpv.com/event/momco-gathering-4/2026-01-14/
LOCATION:Redeemer Campus\, 190 S Roscoe Blvd\, Ponte Vedra Beach\, FL\, 32082\, United States
CATEGORIES:Group
ATTACH;FMTTYPE=image/png:https://redeemerpv.com/wp-content/uploads/2024/07/MomCo-General-Graphic-.png
END:VEVENT
BEGIN:VEVENT
DTSTART;TZID=America/New_York:20260101T103000
DTEND;TZID=America/New_York:20260101T120000
DTSTAMP:20260423T141256
CREATED:20240724T211216Z
LAST-MODIFIED:20240730T225407Z
UID:10001685-1767263400-1767268800@redeemerpv.com
SUMMARY:Joyfully 60+
DESCRIPTION:If you’re 60 years or older\, we would love to have you join us on the 1st Thursday of every month for great fellowship and food. Bring a dish for the potluck lunch and let’s get together! \nWith questions\, email info@redeemerpv.com.
URL:https://redeemerpv.com/event/joyfully-60/2026-01-01/
LOCATION:FL
CATEGORIES:Group
ATTACH;FMTTYPE=image/png:https://redeemerpv.com/wp-content/uploads/2024/07/Joyfully-60-Slide.png
END:VEVENT
BEGIN:VEVENT
DTSTART;TZID=America/New_York:20251210T093000
DTEND;TZID=America/New_York:20251210T110000
DTSTAMP:20260423T141256
CREATED:20250617T151840Z
LAST-MODIFIED:20260111T170131Z
UID:10003783-1765359000-1765364400@redeemerpv.com
SUMMARY:MomCo Gathering
DESCRIPTION:Motherhood is complicated. Mom friends help! \nMomCo encourages and equips moms to realize their potential as mothers\, women and leaders\, in relationship with Jesus\, and in partnership with the local church. We believe in supporting moms through life-giving community. \nMomCo meets the second and fourth Wednesday of the month from 9:30-11AM at Redeemer Church. Click below for more information or to register! \nMORE INFO + REGISTER
URL:https://redeemerpv.com/event/momco-gathering-4/2025-12-10/
LOCATION:Redeemer Campus\, 190 S Roscoe Blvd\, Ponte Vedra Beach\, FL\, 32082\, United States
CATEGORIES:Group
ATTACH;FMTTYPE=image/png:https://redeemerpv.com/wp-content/uploads/2024/07/MomCo-General-Graphic-.png
END:VEVENT
BEGIN:VEVENT
DTSTART;TZID=America/New_York:20251204T103000
DTEND;TZID=America/New_York:20251204T120000
DTSTAMP:20260423T141256
CREATED:20240724T211216Z
LAST-MODIFIED:20240730T225407Z
UID:10001684-1764844200-1764849600@redeemerpv.com
SUMMARY:Joyfully 60+
DESCRIPTION:If you’re 60 years or older\, we would love to have you join us on the 1st Thursday of every month for great fellowship and food. Bring a dish for the potluck lunch and let’s get together! \nWith questions\, email info@redeemerpv.com.
URL:https://redeemerpv.com/event/joyfully-60/2025-12-04/
LOCATION:FL
CATEGORIES:Group
ATTACH;FMTTYPE=image/png:https://redeemerpv.com/wp-content/uploads/2024/07/Joyfully-60-Slide.png
END:VEVENT
BEGIN:VEVENT
DTSTART;TZID=America/New_York:20251126T093000
DTEND;TZID=America/New_York:20251126T110000
DTSTAMP:20260423T141256
CREATED:20250806T175137Z
LAST-MODIFIED:20260111T170203Z
UID:10003723-1764149400-1764154800@redeemerpv.com
SUMMARY:MomCo Gathering
DESCRIPTION:Motherhood is complicated. Mom friends help! \nMomCo encourages and equips moms to realize their potential as mothers\, women and leaders\, in relationship with Jesus\, and in partnership with the local church. We believe in supporting moms through life-giving community. \nMomCo meets the second and fourth Wednesday of the month from 9:30-11AM at Redeemer Church. Click below for more information or to register! \nMORE INFO + REGISTER
URL:https://redeemerpv.com/event/momco-gathering-3/2025-11-26/
LOCATION:Redeemer Campus\, 190 S Roscoe Blvd\, Ponte Vedra Beach\, FL\, 32082\, United States
CATEGORIES:Group
ATTACH;FMTTYPE=image/png:https://redeemerpv.com/wp-content/uploads/2024/07/MomCo-General-Graphic-.png
END:VEVENT
BEGIN:VEVENT
DTSTART;TZID=America/New_York:20251112T093000
DTEND;TZID=America/New_York:20251112T110000
DTSTAMP:20260423T141256
CREATED:20250617T151840Z
LAST-MODIFIED:20260111T170131Z
UID:10003782-1762939800-1762945200@redeemerpv.com
SUMMARY:MomCo Gathering
DESCRIPTION:Motherhood is complicated. Mom friends help! \nMomCo encourages and equips moms to realize their potential as mothers\, women and leaders\, in relationship with Jesus\, and in partnership with the local church. We believe in supporting moms through life-giving community. \nMomCo meets the second and fourth Wednesday of the month from 9:30-11AM at Redeemer Church. Click below for more information or to register! \nMORE INFO + REGISTER
URL:https://redeemerpv.com/event/momco-gathering-4/2025-11-12/
LOCATION:Redeemer Campus\, 190 S Roscoe Blvd\, Ponte Vedra Beach\, FL\, 32082\, United States
CATEGORIES:Group
ATTACH;FMTTYPE=image/png:https://redeemerpv.com/wp-content/uploads/2024/07/MomCo-General-Graphic-.png
END:VEVENT
BEGIN:VEVENT
DTSTART;TZID=America/New_York:20251106T103000
DTEND;TZID=America/New_York:20251106T120000
DTSTAMP:20260423T141256
CREATED:20240724T211216Z
LAST-MODIFIED:20240730T225407Z
UID:10001683-1762425000-1762430400@redeemerpv.com
SUMMARY:Joyfully 60+
DESCRIPTION:If you’re 60 years or older\, we would love to have you join us on the 1st Thursday of every month for great fellowship and food. Bring a dish for the potluck lunch and let’s get together! \nWith questions\, email info@redeemerpv.com.
URL:https://redeemerpv.com/event/joyfully-60/2025-11-06/
LOCATION:FL
CATEGORIES:Group
ATTACH;FMTTYPE=image/png:https://redeemerpv.com/wp-content/uploads/2024/07/Joyfully-60-Slide.png
END:VEVENT
BEGIN:VEVENT
DTSTART;TZID=America/New_York:20251022T093000
DTEND;TZID=America/New_York:20251022T110000
DTSTAMP:20260423T141256
CREATED:20250806T175137Z
LAST-MODIFIED:20260111T170203Z
UID:10003722-1761125400-1761130800@redeemerpv.com
SUMMARY:MomCo Gathering
DESCRIPTION:Motherhood is complicated. Mom friends help! \nMomCo encourages and equips moms to realize their potential as mothers\, women and leaders\, in relationship with Jesus\, and in partnership with the local church. We believe in supporting moms through life-giving community. \nMomCo meets the second and fourth Wednesday of the month from 9:30-11AM at Redeemer Church. Click below for more information or to register! \nMORE INFO + REGISTER
URL:https://redeemerpv.com/event/momco-gathering-3/2025-10-22/
LOCATION:Redeemer Campus\, 190 S Roscoe Blvd\, Ponte Vedra Beach\, FL\, 32082\, United States
CATEGORIES:Group
ATTACH;FMTTYPE=image/png:https://redeemerpv.com/wp-content/uploads/2024/07/MomCo-General-Graphic-.png
END:VEVENT
BEGIN:VEVENT
DTSTART;TZID=America/New_York:20251008T093000
DTEND;TZID=America/New_York:20251008T110000
DTSTAMP:20260423T141257
CREATED:20250617T151840Z
LAST-MODIFIED:20260111T170131Z
UID:10003781-1759915800-1759921200@redeemerpv.com
SUMMARY:MomCo Gathering
DESCRIPTION:Motherhood is complicated. Mom friends help! \nMomCo encourages and equips moms to realize their potential as mothers\, women and leaders\, in relationship with Jesus\, and in partnership with the local church. We believe in supporting moms through life-giving community. \nMomCo meets the second and fourth Wednesday of the month from 9:30-11AM at Redeemer Church. Click below for more information or to register! \nMORE INFO + REGISTER
URL:https://redeemerpv.com/event/momco-gathering-4/2025-10-08/
LOCATION:Redeemer Campus\, 190 S Roscoe Blvd\, Ponte Vedra Beach\, FL\, 32082\, United States
CATEGORIES:Group
ATTACH;FMTTYPE=image/png:https://redeemerpv.com/wp-content/uploads/2024/07/MomCo-General-Graphic-.png
END:VEVENT
BEGIN:VEVENT
DTSTART;TZID=America/New_York:20251002T103000
DTEND;TZID=America/New_York:20251002T120000
DTSTAMP:20260423T141257
CREATED:20240724T211216Z
LAST-MODIFIED:20240730T225407Z
UID:10001682-1759401000-1759406400@redeemerpv.com
SUMMARY:Joyfully 60+
DESCRIPTION:If you’re 60 years or older\, we would love to have you join us on the 1st Thursday of every month for great fellowship and food. Bring a dish for the potluck lunch and let’s get together! \nWith questions\, email info@redeemerpv.com.
URL:https://redeemerpv.com/event/joyfully-60/2025-10-02/
LOCATION:FL
CATEGORIES:Group
ATTACH;FMTTYPE=image/png:https://redeemerpv.com/wp-content/uploads/2024/07/Joyfully-60-Slide.png
END:VEVENT
BEGIN:VEVENT
DTSTART;TZID=America/New_York:20250924T093000
DTEND;TZID=America/New_York:20250924T110000
DTSTAMP:20260423T141257
CREATED:20250806T175137Z
LAST-MODIFIED:20260111T170203Z
UID:10003721-1758706200-1758711600@redeemerpv.com
SUMMARY:MomCo Gathering
DESCRIPTION:Motherhood is complicated. Mom friends help! \nMomCo encourages and equips moms to realize their potential as mothers\, women and leaders\, in relationship with Jesus\, and in partnership with the local church. We believe in supporting moms through life-giving community. \nMomCo meets the second and fourth Wednesday of the month from 9:30-11AM at Redeemer Church. Click below for more information or to register! \nMORE INFO + REGISTER
URL:https://redeemerpv.com/event/momco-gathering-3/2025-09-24/
LOCATION:Redeemer Campus\, 190 S Roscoe Blvd\, Ponte Vedra Beach\, FL\, 32082\, United States
CATEGORIES:Group
ATTACH;FMTTYPE=image/png:https://redeemerpv.com/wp-content/uploads/2024/07/MomCo-General-Graphic-.png
END:VEVENT
BEGIN:VEVENT
DTSTART;TZID=America/New_York:20250910T093000
DTEND;TZID=America/New_York:20250910T110000
DTSTAMP:20260423T141257
CREATED:20250617T151840Z
LAST-MODIFIED:20260111T170131Z
UID:10003780-1757496600-1757502000@redeemerpv.com
SUMMARY:MomCo Gathering
DESCRIPTION:Motherhood is complicated. Mom friends help! \nMomCo encourages and equips moms to realize their potential as mothers\, women and leaders\, in relationship with Jesus\, and in partnership with the local church. We believe in supporting moms through life-giving community. \nMomCo meets the second and fourth Wednesday of the month from 9:30-11AM at Redeemer Church. Click below for more information or to register! \nMORE INFO + REGISTER
URL:https://redeemerpv.com/event/momco-gathering-4/2025-09-10/
LOCATION:Redeemer Campus\, 190 S Roscoe Blvd\, Ponte Vedra Beach\, FL\, 32082\, United States
CATEGORIES:Group
ATTACH;FMTTYPE=image/png:https://redeemerpv.com/wp-content/uploads/2024/07/MomCo-General-Graphic-.png
END:VEVENT
BEGIN:VEVENT
DTSTART;TZID=America/New_York:20250904T103000
DTEND;TZID=America/New_York:20250904T120000
DTSTAMP:20260423T141257
CREATED:20240724T211216Z
LAST-MODIFIED:20240730T225407Z
UID:10001681-1756981800-1756987200@redeemerpv.com
SUMMARY:Joyfully 60+
DESCRIPTION:If you’re 60 years or older\, we would love to have you join us on the 1st Thursday of every month for great fellowship and food. Bring a dish for the potluck lunch and let’s get together! \nWith questions\, email info@redeemerpv.com.
URL:https://redeemerpv.com/event/joyfully-60/2025-09-04/
LOCATION:FL
CATEGORIES:Group
ATTACH;FMTTYPE=image/png:https://redeemerpv.com/wp-content/uploads/2024/07/Joyfully-60-Slide.png
END:VEVENT
BEGIN:VEVENT
DTSTART;TZID=America/New_York:20250827T093000
DTEND;TZID=America/New_York:20250827T110000
DTSTAMP:20260423T141257
CREATED:20250806T175137Z
LAST-MODIFIED:20260111T170203Z
UID:10001499-1756287000-1756292400@redeemerpv.com
SUMMARY:MomCo Gathering
DESCRIPTION:Motherhood is complicated. Mom friends help! \nMomCo encourages and equips moms to realize their potential as mothers\, women and leaders\, in relationship with Jesus\, and in partnership with the local church. We believe in supporting moms through life-giving community. \nMomCo meets the second and fourth Wednesday of the month from 9:30-11AM at Redeemer Church. Click below for more information or to register! \nMORE INFO + REGISTER
URL:https://redeemerpv.com/event/momco-gathering-3/2025-08-27/
LOCATION:Redeemer Campus\, 190 S Roscoe Blvd\, Ponte Vedra Beach\, FL\, 32082\, United States
CATEGORIES:Group
ATTACH;FMTTYPE=image/png:https://redeemerpv.com/wp-content/uploads/2024/07/MomCo-General-Graphic-.png
END:VEVENT
BEGIN:VEVENT
DTSTART;TZID=America/New_York:20250807T103000
DTEND;TZID=America/New_York:20250807T120000
DTSTAMP:20260423T141257
CREATED:20240724T211216Z
LAST-MODIFIED:20240730T225407Z
UID:10001680-1754562600-1754568000@redeemerpv.com
SUMMARY:Joyfully 60+
DESCRIPTION:If you’re 60 years or older\, we would love to have you join us on the 1st Thursday of every month for great fellowship and food. Bring a dish for the potluck lunch and let’s get together! \nWith questions\, email info@redeemerpv.com.
URL:https://redeemerpv.com/event/joyfully-60/2025-08-07/
LOCATION:FL
CATEGORIES:Group
ATTACH;FMTTYPE=image/png:https://redeemerpv.com/wp-content/uploads/2024/07/Joyfully-60-Slide.png
END:VEVENT
BEGIN:VEVENT
DTSTART;TZID=America/New_York:20250703T103000
DTEND;TZID=America/New_York:20250703T120000
DTSTAMP:20260423T141257
CREATED:20240724T211216Z
LAST-MODIFIED:20240730T225407Z
UID:10001679-1751538600-1751544000@redeemerpv.com
SUMMARY:Joyfully 60+
DESCRIPTION:If you’re 60 years or older\, we would love to have you join us on the 1st Thursday of every month for great fellowship and food. Bring a dish for the potluck lunch and let’s get together! \nWith questions\, email info@redeemerpv.com.
URL:https://redeemerpv.com/event/joyfully-60/2025-07-03/
LOCATION:FL
CATEGORIES:Group
ATTACH;FMTTYPE=image/png:https://redeemerpv.com/wp-content/uploads/2024/07/Joyfully-60-Slide.png
END:VEVENT
BEGIN:VEVENT
DTSTART;TZID=America/New_York:20250605T103000
DTEND;TZID=America/New_York:20250605T120000
DTSTAMP:20260423T141257
CREATED:20240724T211216Z
LAST-MODIFIED:20240730T225407Z
UID:10001678-1749119400-1749124800@redeemerpv.com
SUMMARY:Joyfully 60+
DESCRIPTION:If you’re 60 years or older\, we would love to have you join us on the 1st Thursday of every month for great fellowship and food. Bring a dish for the potluck lunch and let’s get together! \nWith questions\, email info@redeemerpv.com.
URL:https://redeemerpv.com/event/joyfully-60/2025-06-05/
LOCATION:FL
CATEGORIES:Group
ATTACH;FMTTYPE=image/png:https://redeemerpv.com/wp-content/uploads/2024/07/Joyfully-60-Slide.png
END:VEVENT
BEGIN:VEVENT
DTSTART;TZID=America/New_York:20250501T103000
DTEND;TZID=America/New_York:20250501T120000
DTSTAMP:20260423T141257
CREATED:20240724T211216Z
LAST-MODIFIED:20240730T225407Z
UID:10001677-1746095400-1746100800@redeemerpv.com
SUMMARY:Joyfully 60+
DESCRIPTION:If you’re 60 years or older\, we would love to have you join us on the 1st Thursday of every month for great fellowship and food. Bring a dish for the potluck lunch and let’s get together! \nWith questions\, email info@redeemerpv.com.
URL:https://redeemerpv.com/event/joyfully-60/2025-05-01/
LOCATION:FL
CATEGORIES:Group
ATTACH;FMTTYPE=image/png:https://redeemerpv.com/wp-content/uploads/2024/07/Joyfully-60-Slide.png
END:VEVENT
BEGIN:VEVENT
DTSTART;TZID=America/New_York:20250403T103000
DTEND;TZID=America/New_York:20250403T120000
DTSTAMP:20260423T141257
CREATED:20240724T211216Z
LAST-MODIFIED:20240730T225407Z
UID:10001676-1743676200-1743681600@redeemerpv.com
SUMMARY:Joyfully 60+
DESCRIPTION:If you’re 60 years or older\, we would love to have you join us on the 1st Thursday of every month for great fellowship and food. Bring a dish for the potluck lunch and let’s get together! \nWith questions\, email info@redeemerpv.com.
URL:https://redeemerpv.com/event/joyfully-60/2025-04-03/
LOCATION:FL
CATEGORIES:Group
ATTACH;FMTTYPE=image/png:https://redeemerpv.com/wp-content/uploads/2024/07/Joyfully-60-Slide.png
END:VEVENT
BEGIN:VEVENT
DTSTART;TZID=America/New_York:20250306T103000
DTEND;TZID=America/New_York:20250306T120000
DTSTAMP:20260423T141257
CREATED:20240724T211216Z
LAST-MODIFIED:20240730T225407Z
UID:10001675-1741257000-1741262400@redeemerpv.com
SUMMARY:Joyfully 60+
DESCRIPTION:If you’re 60 years or older\, we would love to have you join us on the 1st Thursday of every month for great fellowship and food. Bring a dish for the potluck lunch and let’s get together! \nWith questions\, email info@redeemerpv.com.
URL:https://redeemerpv.com/event/joyfully-60/2025-03-06/
LOCATION:FL
CATEGORIES:Group
ATTACH;FMTTYPE=image/png:https://redeemerpv.com/wp-content/uploads/2024/07/Joyfully-60-Slide.png
END:VEVENT
END:VCALENDAR