BEGIN:VCALENDAR
VERSION:2.0
PRODID:-//Redeemer Church - ECPv6.15.20//NONSGML v1.0//EN
CALSCALE:GREGORIAN
METHOD:PUBLISH
X-WR-CALNAME:Redeemer Church
X-ORIGINAL-URL:https://redeemerpv.com
X-WR-CALDESC:Events for Redeemer Church
REFRESH-INTERVAL;VALUE=DURATION:PT1H
X-Robots-Tag:noindex
X-PUBLISHED-TTL:PT1H
BEGIN:VTIMEZONE
TZID:America/New_York
BEGIN:DAYLIGHT
TZOFFSETFROM:-0500
TZOFFSETTO:-0400
TZNAME:EDT
DTSTART:20270314T070000
END:DAYLIGHT
BEGIN:STANDARD
TZOFFSETFROM:-0400
TZOFFSETTO:-0500
TZNAME:EST
DTSTART:20271107T060000
END:STANDARD
BEGIN:DAYLIGHT
TZOFFSETFROM:-0500
TZOFFSETTO:-0400
TZNAME:EDT
DTSTART:20280312T070000
END:DAYLIGHT
BEGIN:STANDARD
TZOFFSETFROM:-0400
TZOFFSETTO:-0500
TZNAME:EST
DTSTART:20281105T060000
END:STANDARD
BEGIN:DAYLIGHT
TZOFFSETFROM:-0500
TZOFFSETTO:-0400
TZNAME:EDT
DTSTART:20290311T070000
END:DAYLIGHT
BEGIN:STANDARD
TZOFFSETFROM:-0400
TZOFFSETTO:-0500
TZNAME:EST
DTSTART:20291104T060000
END:STANDARD
BEGIN:DAYLIGHT
TZOFFSETFROM:-0500
TZOFFSETTO:-0400
TZNAME:EDT
DTSTART:20300310T070000
END:DAYLIGHT
BEGIN:STANDARD
TZOFFSETFROM:-0400
TZOFFSETTO:-0500
TZNAME:EST
DTSTART:20301103T060000
END:STANDARD
END:VTIMEZONE
BEGIN:VEVENT
DTSTART;TZID=America/New_York:20281108T093000
DTEND;TZID=America/New_York:20281108T110000
DTSTAMP:20260424T121320
CREATED:20250617T151840Z
LAST-MODIFIED:20260111T170131Z
UID:10003818-1857288600-1857294000@redeemerpv.com
SUMMARY:MomCo Gathering
DESCRIPTION:Motherhood is complicated. Mom friends help! \nMomCo encourages and equips moms to realize their potential as mothers\, women and leaders\, in relationship with Jesus\, and in partnership with the local church. We believe in supporting moms through life-giving community. \nMomCo meets the second and fourth Wednesday of the month from 9:30-11AM at Redeemer Church. Click below for more information or to register! \nMORE INFO + REGISTER
URL:https://redeemerpv.com/event/momco-gathering-4/2028-11-08/
LOCATION:Redeemer Campus\, 190 S Roscoe Blvd\, Ponte Vedra Beach\, FL\, 32082\, United States
CATEGORIES:Group
ATTACH;FMTTYPE=image/png:https://redeemerpv.com/wp-content/uploads/2024/07/MomCo-General-Graphic-.png
END:VEVENT
BEGIN:VEVENT
DTSTART;TZID=America/New_York:20281122T093000
DTEND;TZID=America/New_York:20281122T110000
DTSTAMP:20260424T121320
CREATED:20250806T175137Z
LAST-MODIFIED:20260111T170203Z
UID:10003759-1858498200-1858503600@redeemerpv.com
SUMMARY:MomCo Gathering
DESCRIPTION:Motherhood is complicated. Mom friends help! \nMomCo encourages and equips moms to realize their potential as mothers\, women and leaders\, in relationship with Jesus\, and in partnership with the local church. We believe in supporting moms through life-giving community. \nMomCo meets the second and fourth Wednesday of the month from 9:30-11AM at Redeemer Church. Click below for more information or to register! \nMORE INFO + REGISTER
URL:https://redeemerpv.com/event/momco-gathering-3/2028-11-22/
LOCATION:Redeemer Campus\, 190 S Roscoe Blvd\, Ponte Vedra Beach\, FL\, 32082\, United States
CATEGORIES:Group
ATTACH;FMTTYPE=image/png:https://redeemerpv.com/wp-content/uploads/2024/07/MomCo-General-Graphic-.png
END:VEVENT
BEGIN:VEVENT
DTSTART;TZID=America/New_York:20281207T103000
DTEND;TZID=America/New_York:20281207T120000
DTSTAMP:20260424T121320
CREATED:20240724T211216Z
LAST-MODIFIED:20240730T225407Z
UID:10001720-1859797800-1859803200@redeemerpv.com
SUMMARY:Joyfully 60+
DESCRIPTION:If you’re 60 years or older\, we would love to have you join us on the 1st Thursday of every month for great fellowship and food. Bring a dish for the potluck lunch and let’s get together! \nWith questions\, email info@redeemerpv.com.
URL:https://redeemerpv.com/event/joyfully-60/2028-12-07/
LOCATION:FL
CATEGORIES:Group
ATTACH;FMTTYPE=image/png:https://redeemerpv.com/wp-content/uploads/2024/07/Joyfully-60-Slide.png
END:VEVENT
BEGIN:VEVENT
DTSTART;TZID=America/New_York:20281213T093000
DTEND;TZID=America/New_York:20281213T110000
DTSTAMP:20260424T121320
CREATED:20250617T151840Z
LAST-MODIFIED:20260111T170131Z
UID:10003819-1860312600-1860318000@redeemerpv.com
SUMMARY:MomCo Gathering
DESCRIPTION:Motherhood is complicated. Mom friends help! \nMomCo encourages and equips moms to realize their potential as mothers\, women and leaders\, in relationship with Jesus\, and in partnership with the local church. We believe in supporting moms through life-giving community. \nMomCo meets the second and fourth Wednesday of the month from 9:30-11AM at Redeemer Church. Click below for more information or to register! \nMORE INFO + REGISTER
URL:https://redeemerpv.com/event/momco-gathering-4/2028-12-13/
LOCATION:Redeemer Campus\, 190 S Roscoe Blvd\, Ponte Vedra Beach\, FL\, 32082\, United States
CATEGORIES:Group
ATTACH;FMTTYPE=image/png:https://redeemerpv.com/wp-content/uploads/2024/07/MomCo-General-Graphic-.png
END:VEVENT
BEGIN:VEVENT
DTSTART;TZID=America/New_York:20281227T093000
DTEND;TZID=America/New_York:20281227T110000
DTSTAMP:20260424T121320
CREATED:20250806T175137Z
LAST-MODIFIED:20260111T170203Z
UID:10003760-1861522200-1861527600@redeemerpv.com
SUMMARY:MomCo Gathering
DESCRIPTION:Motherhood is complicated. Mom friends help! \nMomCo encourages and equips moms to realize their potential as mothers\, women and leaders\, in relationship with Jesus\, and in partnership with the local church. We believe in supporting moms through life-giving community. \nMomCo meets the second and fourth Wednesday of the month from 9:30-11AM at Redeemer Church. Click below for more information or to register! \nMORE INFO + REGISTER
URL:https://redeemerpv.com/event/momco-gathering-3/2028-12-27/
LOCATION:Redeemer Campus\, 190 S Roscoe Blvd\, Ponte Vedra Beach\, FL\, 32082\, United States
CATEGORIES:Group
ATTACH;FMTTYPE=image/png:https://redeemerpv.com/wp-content/uploads/2024/07/MomCo-General-Graphic-.png
END:VEVENT
BEGIN:VEVENT
DTSTART;TZID=America/New_York:20290104T103000
DTEND;TZID=America/New_York:20290104T120000
DTSTAMP:20260424T121320
CREATED:20240724T211216Z
LAST-MODIFIED:20240730T225407Z
UID:10001721-1862217000-1862222400@redeemerpv.com
SUMMARY:Joyfully 60+
DESCRIPTION:If you’re 60 years or older\, we would love to have you join us on the 1st Thursday of every month for great fellowship and food. Bring a dish for the potluck lunch and let’s get together! \nWith questions\, email info@redeemerpv.com.
URL:https://redeemerpv.com/event/joyfully-60/2029-01-04/
LOCATION:FL
CATEGORIES:Group
ATTACH;FMTTYPE=image/png:https://redeemerpv.com/wp-content/uploads/2024/07/Joyfully-60-Slide.png
END:VEVENT
BEGIN:VEVENT
DTSTART;TZID=America/New_York:20290110T093000
DTEND;TZID=America/New_York:20290110T110000
DTSTAMP:20260424T121320
CREATED:20250617T151840Z
LAST-MODIFIED:20260111T170131Z
UID:10003820-1862731800-1862737200@redeemerpv.com
SUMMARY:MomCo Gathering
DESCRIPTION:Motherhood is complicated. Mom friends help! \nMomCo encourages and equips moms to realize their potential as mothers\, women and leaders\, in relationship with Jesus\, and in partnership with the local church. We believe in supporting moms through life-giving community. \nMomCo meets the second and fourth Wednesday of the month from 9:30-11AM at Redeemer Church. Click below for more information or to register! \nMORE INFO + REGISTER
URL:https://redeemerpv.com/event/momco-gathering-4/2029-01-10/
LOCATION:Redeemer Campus\, 190 S Roscoe Blvd\, Ponte Vedra Beach\, FL\, 32082\, United States
CATEGORIES:Group
ATTACH;FMTTYPE=image/png:https://redeemerpv.com/wp-content/uploads/2024/07/MomCo-General-Graphic-.png
END:VEVENT
BEGIN:VEVENT
DTSTART;TZID=America/New_York:20290124T093000
DTEND;TZID=America/New_York:20290124T110000
DTSTAMP:20260424T121320
CREATED:20250806T175137Z
LAST-MODIFIED:20260111T170203Z
UID:10003761-1863941400-1863946800@redeemerpv.com
SUMMARY:MomCo Gathering
DESCRIPTION:Motherhood is complicated. Mom friends help! \nMomCo encourages and equips moms to realize their potential as mothers\, women and leaders\, in relationship with Jesus\, and in partnership with the local church. We believe in supporting moms through life-giving community. \nMomCo meets the second and fourth Wednesday of the month from 9:30-11AM at Redeemer Church. Click below for more information or to register! \nMORE INFO + REGISTER
URL:https://redeemerpv.com/event/momco-gathering-3/2029-01-24/
LOCATION:Redeemer Campus\, 190 S Roscoe Blvd\, Ponte Vedra Beach\, FL\, 32082\, United States
CATEGORIES:Group
ATTACH;FMTTYPE=image/png:https://redeemerpv.com/wp-content/uploads/2024/07/MomCo-General-Graphic-.png
END:VEVENT
BEGIN:VEVENT
DTSTART;TZID=America/New_York:20290201T103000
DTEND;TZID=America/New_York:20290201T120000
DTSTAMP:20260424T121320
CREATED:20240724T211216Z
LAST-MODIFIED:20240730T225407Z
UID:10001722-1864636200-1864641600@redeemerpv.com
SUMMARY:Joyfully 60+
DESCRIPTION:If you’re 60 years or older\, we would love to have you join us on the 1st Thursday of every month for great fellowship and food. Bring a dish for the potluck lunch and let’s get together! \nWith questions\, email info@redeemerpv.com.
URL:https://redeemerpv.com/event/joyfully-60/2029-02-01/
LOCATION:FL
CATEGORIES:Group
ATTACH;FMTTYPE=image/png:https://redeemerpv.com/wp-content/uploads/2024/07/Joyfully-60-Slide.png
END:VEVENT
BEGIN:VEVENT
DTSTART;TZID=America/New_York:20290214T093000
DTEND;TZID=America/New_York:20290214T110000
DTSTAMP:20260424T121320
CREATED:20250617T151840Z
LAST-MODIFIED:20260111T170131Z
UID:10003821-1865755800-1865761200@redeemerpv.com
SUMMARY:MomCo Gathering
DESCRIPTION:Motherhood is complicated. Mom friends help! \nMomCo encourages and equips moms to realize their potential as mothers\, women and leaders\, in relationship with Jesus\, and in partnership with the local church. We believe in supporting moms through life-giving community. \nMomCo meets the second and fourth Wednesday of the month from 9:30-11AM at Redeemer Church. Click below for more information or to register! \nMORE INFO + REGISTER
URL:https://redeemerpv.com/event/momco-gathering-4/2029-02-14/
LOCATION:Redeemer Campus\, 190 S Roscoe Blvd\, Ponte Vedra Beach\, FL\, 32082\, United States
CATEGORIES:Group
ATTACH;FMTTYPE=image/png:https://redeemerpv.com/wp-content/uploads/2024/07/MomCo-General-Graphic-.png
END:VEVENT
BEGIN:VEVENT
DTSTART;TZID=America/New_York:20290228T093000
DTEND;TZID=America/New_York:20290228T110000
DTSTAMP:20260424T121320
CREATED:20250806T175137Z
LAST-MODIFIED:20260111T170203Z
UID:10003762-1866965400-1866970800@redeemerpv.com
SUMMARY:MomCo Gathering
DESCRIPTION:Motherhood is complicated. Mom friends help! \nMomCo encourages and equips moms to realize their potential as mothers\, women and leaders\, in relationship with Jesus\, and in partnership with the local church. We believe in supporting moms through life-giving community. \nMomCo meets the second and fourth Wednesday of the month from 9:30-11AM at Redeemer Church. Click below for more information or to register! \nMORE INFO + REGISTER
URL:https://redeemerpv.com/event/momco-gathering-3/2029-02-28/
LOCATION:Redeemer Campus\, 190 S Roscoe Blvd\, Ponte Vedra Beach\, FL\, 32082\, United States
CATEGORIES:Group
ATTACH;FMTTYPE=image/png:https://redeemerpv.com/wp-content/uploads/2024/07/MomCo-General-Graphic-.png
END:VEVENT
BEGIN:VEVENT
DTSTART;TZID=America/New_York:20290301T103000
DTEND;TZID=America/New_York:20290301T120000
DTSTAMP:20260424T121320
CREATED:20240724T211216Z
LAST-MODIFIED:20240730T225407Z
UID:10001723-1867055400-1867060800@redeemerpv.com
SUMMARY:Joyfully 60+
DESCRIPTION:If you’re 60 years or older\, we would love to have you join us on the 1st Thursday of every month for great fellowship and food. Bring a dish for the potluck lunch and let’s get together! \nWith questions\, email info@redeemerpv.com.
URL:https://redeemerpv.com/event/joyfully-60/2029-03-01/
LOCATION:FL
CATEGORIES:Group
ATTACH;FMTTYPE=image/png:https://redeemerpv.com/wp-content/uploads/2024/07/Joyfully-60-Slide.png
END:VEVENT
BEGIN:VEVENT
DTSTART;TZID=America/New_York:20290314T093000
DTEND;TZID=America/New_York:20290314T110000
DTSTAMP:20260424T121320
CREATED:20250617T151840Z
LAST-MODIFIED:20260111T170131Z
UID:10003822-1868175000-1868180400@redeemerpv.com
SUMMARY:MomCo Gathering
DESCRIPTION:Motherhood is complicated. Mom friends help! \nMomCo encourages and equips moms to realize their potential as mothers\, women and leaders\, in relationship with Jesus\, and in partnership with the local church. We believe in supporting moms through life-giving community. \nMomCo meets the second and fourth Wednesday of the month from 9:30-11AM at Redeemer Church. Click below for more information or to register! \nMORE INFO + REGISTER
URL:https://redeemerpv.com/event/momco-gathering-4/2029-03-14/
LOCATION:Redeemer Campus\, 190 S Roscoe Blvd\, Ponte Vedra Beach\, FL\, 32082\, United States
CATEGORIES:Group
ATTACH;FMTTYPE=image/png:https://redeemerpv.com/wp-content/uploads/2024/07/MomCo-General-Graphic-.png
END:VEVENT
BEGIN:VEVENT
DTSTART;TZID=America/New_York:20290328T093000
DTEND;TZID=America/New_York:20290328T110000
DTSTAMP:20260424T121320
CREATED:20250806T175137Z
LAST-MODIFIED:20260111T170203Z
UID:10003763-1869384600-1869390000@redeemerpv.com
SUMMARY:MomCo Gathering
DESCRIPTION:Motherhood is complicated. Mom friends help! \nMomCo encourages and equips moms to realize their potential as mothers\, women and leaders\, in relationship with Jesus\, and in partnership with the local church. We believe in supporting moms through life-giving community. \nMomCo meets the second and fourth Wednesday of the month from 9:30-11AM at Redeemer Church. Click below for more information or to register! \nMORE INFO + REGISTER
URL:https://redeemerpv.com/event/momco-gathering-3/2029-03-28/
LOCATION:Redeemer Campus\, 190 S Roscoe Blvd\, Ponte Vedra Beach\, FL\, 32082\, United States
CATEGORIES:Group
ATTACH;FMTTYPE=image/png:https://redeemerpv.com/wp-content/uploads/2024/07/MomCo-General-Graphic-.png
END:VEVENT
BEGIN:VEVENT
DTSTART;TZID=America/New_York:20290405T103000
DTEND;TZID=America/New_York:20290405T120000
DTSTAMP:20260424T121320
CREATED:20240724T211216Z
LAST-MODIFIED:20240730T225407Z
UID:10001724-1870079400-1870084800@redeemerpv.com
SUMMARY:Joyfully 60+
DESCRIPTION:If you’re 60 years or older\, we would love to have you join us on the 1st Thursday of every month for great fellowship and food. Bring a dish for the potluck lunch and let’s get together! \nWith questions\, email info@redeemerpv.com.
URL:https://redeemerpv.com/event/joyfully-60/2029-04-05/
LOCATION:FL
CATEGORIES:Group
ATTACH;FMTTYPE=image/png:https://redeemerpv.com/wp-content/uploads/2024/07/Joyfully-60-Slide.png
END:VEVENT
BEGIN:VEVENT
DTSTART;TZID=America/New_York:20290411T093000
DTEND;TZID=America/New_York:20290411T110000
DTSTAMP:20260424T121320
CREATED:20250617T151840Z
LAST-MODIFIED:20260111T170131Z
UID:10003823-1870594200-1870599600@redeemerpv.com
SUMMARY:MomCo Gathering
DESCRIPTION:Motherhood is complicated. Mom friends help! \nMomCo encourages and equips moms to realize their potential as mothers\, women and leaders\, in relationship with Jesus\, and in partnership with the local church. We believe in supporting moms through life-giving community. \nMomCo meets the second and fourth Wednesday of the month from 9:30-11AM at Redeemer Church. Click below for more information or to register! \nMORE INFO + REGISTER
URL:https://redeemerpv.com/event/momco-gathering-4/2029-04-11/
LOCATION:Redeemer Campus\, 190 S Roscoe Blvd\, Ponte Vedra Beach\, FL\, 32082\, United States
CATEGORIES:Group
ATTACH;FMTTYPE=image/png:https://redeemerpv.com/wp-content/uploads/2024/07/MomCo-General-Graphic-.png
END:VEVENT
BEGIN:VEVENT
DTSTART;TZID=America/New_York:20290425T093000
DTEND;TZID=America/New_York:20290425T110000
DTSTAMP:20260424T121320
CREATED:20250806T175137Z
LAST-MODIFIED:20260111T170203Z
UID:10003764-1871803800-1871809200@redeemerpv.com
SUMMARY:MomCo Gathering
DESCRIPTION:Motherhood is complicated. Mom friends help! \nMomCo encourages and equips moms to realize their potential as mothers\, women and leaders\, in relationship with Jesus\, and in partnership with the local church. We believe in supporting moms through life-giving community. \nMomCo meets the second and fourth Wednesday of the month from 9:30-11AM at Redeemer Church. Click below for more information or to register! \nMORE INFO + REGISTER
URL:https://redeemerpv.com/event/momco-gathering-3/2029-04-25/
LOCATION:Redeemer Campus\, 190 S Roscoe Blvd\, Ponte Vedra Beach\, FL\, 32082\, United States
CATEGORIES:Group
ATTACH;FMTTYPE=image/png:https://redeemerpv.com/wp-content/uploads/2024/07/MomCo-General-Graphic-.png
END:VEVENT
BEGIN:VEVENT
DTSTART;TZID=America/New_York:20290503T103000
DTEND;TZID=America/New_York:20290503T120000
DTSTAMP:20260424T121320
CREATED:20240724T211216Z
LAST-MODIFIED:20240730T225407Z
UID:10001725-1872498600-1872504000@redeemerpv.com
SUMMARY:Joyfully 60+
DESCRIPTION:If you’re 60 years or older\, we would love to have you join us on the 1st Thursday of every month for great fellowship and food. Bring a dish for the potluck lunch and let’s get together! \nWith questions\, email info@redeemerpv.com.
URL:https://redeemerpv.com/event/joyfully-60/2029-05-03/
LOCATION:FL
CATEGORIES:Group
ATTACH;FMTTYPE=image/png:https://redeemerpv.com/wp-content/uploads/2024/07/Joyfully-60-Slide.png
END:VEVENT
BEGIN:VEVENT
DTSTART;TZID=America/New_York:20290509T093000
DTEND;TZID=America/New_York:20290509T110000
DTSTAMP:20260424T121320
CREATED:20250617T151840Z
LAST-MODIFIED:20260111T170131Z
UID:10003824-1873013400-1873018800@redeemerpv.com
SUMMARY:MomCo Gathering
DESCRIPTION:Motherhood is complicated. Mom friends help! \nMomCo encourages and equips moms to realize their potential as mothers\, women and leaders\, in relationship with Jesus\, and in partnership with the local church. We believe in supporting moms through life-giving community. \nMomCo meets the second and fourth Wednesday of the month from 9:30-11AM at Redeemer Church. Click below for more information or to register! \nMORE INFO + REGISTER
URL:https://redeemerpv.com/event/momco-gathering-4/2029-05-09/
LOCATION:Redeemer Campus\, 190 S Roscoe Blvd\, Ponte Vedra Beach\, FL\, 32082\, United States
CATEGORIES:Group
ATTACH;FMTTYPE=image/png:https://redeemerpv.com/wp-content/uploads/2024/07/MomCo-General-Graphic-.png
END:VEVENT
BEGIN:VEVENT
DTSTART;TZID=America/New_York:20290523T093000
DTEND;TZID=America/New_York:20290523T110000
DTSTAMP:20260424T121320
CREATED:20250806T175137Z
LAST-MODIFIED:20260111T170203Z
UID:10003765-1874223000-1874228400@redeemerpv.com
SUMMARY:MomCo Gathering
DESCRIPTION:Motherhood is complicated. Mom friends help! \nMomCo encourages and equips moms to realize their potential as mothers\, women and leaders\, in relationship with Jesus\, and in partnership with the local church. We believe in supporting moms through life-giving community. \nMomCo meets the second and fourth Wednesday of the month from 9:30-11AM at Redeemer Church. Click below for more information or to register! \nMORE INFO + REGISTER
URL:https://redeemerpv.com/event/momco-gathering-3/2029-05-23/
LOCATION:Redeemer Campus\, 190 S Roscoe Blvd\, Ponte Vedra Beach\, FL\, 32082\, United States
CATEGORIES:Group
ATTACH;FMTTYPE=image/png:https://redeemerpv.com/wp-content/uploads/2024/07/MomCo-General-Graphic-.png
END:VEVENT
BEGIN:VEVENT
DTSTART;TZID=America/New_York:20290607T103000
DTEND;TZID=America/New_York:20290607T120000
DTSTAMP:20260424T121320
CREATED:20240724T211216Z
LAST-MODIFIED:20240730T225407Z
UID:10001726-1875522600-1875528000@redeemerpv.com
SUMMARY:Joyfully 60+
DESCRIPTION:If you’re 60 years or older\, we would love to have you join us on the 1st Thursday of every month for great fellowship and food. Bring a dish for the potluck lunch and let’s get together! \nWith questions\, email info@redeemerpv.com.
URL:https://redeemerpv.com/event/joyfully-60/2029-06-07/
LOCATION:FL
CATEGORIES:Group
ATTACH;FMTTYPE=image/png:https://redeemerpv.com/wp-content/uploads/2024/07/Joyfully-60-Slide.png
END:VEVENT
BEGIN:VEVENT
DTSTART;TZID=America/New_York:20290613T093000
DTEND;TZID=America/New_York:20290613T110000
DTSTAMP:20260424T121320
CREATED:20250617T151840Z
LAST-MODIFIED:20260111T170131Z
UID:10003825-1876037400-1876042800@redeemerpv.com
SUMMARY:MomCo Gathering
DESCRIPTION:Motherhood is complicated. Mom friends help! \nMomCo encourages and equips moms to realize their potential as mothers\, women and leaders\, in relationship with Jesus\, and in partnership with the local church. We believe in supporting moms through life-giving community. \nMomCo meets the second and fourth Wednesday of the month from 9:30-11AM at Redeemer Church. Click below for more information or to register! \nMORE INFO + REGISTER
URL:https://redeemerpv.com/event/momco-gathering-4/2029-06-13/
LOCATION:Redeemer Campus\, 190 S Roscoe Blvd\, Ponte Vedra Beach\, FL\, 32082\, United States
CATEGORIES:Group
ATTACH;FMTTYPE=image/png:https://redeemerpv.com/wp-content/uploads/2024/07/MomCo-General-Graphic-.png
END:VEVENT
BEGIN:VEVENT
DTSTART;TZID=America/New_York:20290627T093000
DTEND;TZID=America/New_York:20290627T110000
DTSTAMP:20260424T121320
CREATED:20250806T175137Z
LAST-MODIFIED:20260111T170203Z
UID:10003766-1877247000-1877252400@redeemerpv.com
SUMMARY:MomCo Gathering
DESCRIPTION:Motherhood is complicated. Mom friends help! \nMomCo encourages and equips moms to realize their potential as mothers\, women and leaders\, in relationship with Jesus\, and in partnership with the local church. We believe in supporting moms through life-giving community. \nMomCo meets the second and fourth Wednesday of the month from 9:30-11AM at Redeemer Church. Click below for more information or to register! \nMORE INFO + REGISTER
URL:https://redeemerpv.com/event/momco-gathering-3/2029-06-27/
LOCATION:Redeemer Campus\, 190 S Roscoe Blvd\, Ponte Vedra Beach\, FL\, 32082\, United States
CATEGORIES:Group
ATTACH;FMTTYPE=image/png:https://redeemerpv.com/wp-content/uploads/2024/07/MomCo-General-Graphic-.png
END:VEVENT
BEGIN:VEVENT
DTSTART;TZID=America/New_York:20290705T103000
DTEND;TZID=America/New_York:20290705T120000
DTSTAMP:20260424T121320
CREATED:20240724T211216Z
LAST-MODIFIED:20240730T225407Z
UID:10001727-1877941800-1877947200@redeemerpv.com
SUMMARY:Joyfully 60+
DESCRIPTION:If you’re 60 years or older\, we would love to have you join us on the 1st Thursday of every month for great fellowship and food. Bring a dish for the potluck lunch and let’s get together! \nWith questions\, email info@redeemerpv.com.
URL:https://redeemerpv.com/event/joyfully-60/2029-07-05/
LOCATION:FL
CATEGORIES:Group
ATTACH;FMTTYPE=image/png:https://redeemerpv.com/wp-content/uploads/2024/07/Joyfully-60-Slide.png
END:VEVENT
BEGIN:VEVENT
DTSTART;TZID=America/New_York:20290711T093000
DTEND;TZID=America/New_York:20290711T110000
DTSTAMP:20260424T121320
CREATED:20250617T151840Z
LAST-MODIFIED:20260111T170131Z
UID:10003826-1878456600-1878462000@redeemerpv.com
SUMMARY:MomCo Gathering
DESCRIPTION:Motherhood is complicated. Mom friends help! \nMomCo encourages and equips moms to realize their potential as mothers\, women and leaders\, in relationship with Jesus\, and in partnership with the local church. We believe in supporting moms through life-giving community. \nMomCo meets the second and fourth Wednesday of the month from 9:30-11AM at Redeemer Church. Click below for more information or to register! \nMORE INFO + REGISTER
URL:https://redeemerpv.com/event/momco-gathering-4/2029-07-11/
LOCATION:Redeemer Campus\, 190 S Roscoe Blvd\, Ponte Vedra Beach\, FL\, 32082\, United States
CATEGORIES:Group
ATTACH;FMTTYPE=image/png:https://redeemerpv.com/wp-content/uploads/2024/07/MomCo-General-Graphic-.png
END:VEVENT
BEGIN:VEVENT
DTSTART;TZID=America/New_York:20290725T093000
DTEND;TZID=America/New_York:20290725T110000
DTSTAMP:20260424T121320
CREATED:20250806T175137Z
LAST-MODIFIED:20260111T170203Z
UID:10003767-1879666200-1879671600@redeemerpv.com
SUMMARY:MomCo Gathering
DESCRIPTION:Motherhood is complicated. Mom friends help! \nMomCo encourages and equips moms to realize their potential as mothers\, women and leaders\, in relationship with Jesus\, and in partnership with the local church. We believe in supporting moms through life-giving community. \nMomCo meets the second and fourth Wednesday of the month from 9:30-11AM at Redeemer Church. Click below for more information or to register! \nMORE INFO + REGISTER
URL:https://redeemerpv.com/event/momco-gathering-3/2029-07-25/
LOCATION:Redeemer Campus\, 190 S Roscoe Blvd\, Ponte Vedra Beach\, FL\, 32082\, United States
CATEGORIES:Group
ATTACH;FMTTYPE=image/png:https://redeemerpv.com/wp-content/uploads/2024/07/MomCo-General-Graphic-.png
END:VEVENT
BEGIN:VEVENT
DTSTART;TZID=America/New_York:20290808T093000
DTEND;TZID=America/New_York:20290808T110000
DTSTAMP:20260424T121320
CREATED:20250617T151840Z
LAST-MODIFIED:20260111T170131Z
UID:10003827-1880875800-1880881200@redeemerpv.com
SUMMARY:MomCo Gathering
DESCRIPTION:Motherhood is complicated. Mom friends help! \nMomCo encourages and equips moms to realize their potential as mothers\, women and leaders\, in relationship with Jesus\, and in partnership with the local church. We believe in supporting moms through life-giving community. \nMomCo meets the second and fourth Wednesday of the month from 9:30-11AM at Redeemer Church. Click below for more information or to register! \nMORE INFO + REGISTER
URL:https://redeemerpv.com/event/momco-gathering-4/2029-08-08/
LOCATION:Redeemer Campus\, 190 S Roscoe Blvd\, Ponte Vedra Beach\, FL\, 32082\, United States
CATEGORIES:Group
ATTACH;FMTTYPE=image/png:https://redeemerpv.com/wp-content/uploads/2024/07/MomCo-General-Graphic-.png
END:VEVENT
BEGIN:VEVENT
DTSTART;TZID=America/New_York:20290822T093000
DTEND;TZID=America/New_York:20290822T110000
DTSTAMP:20260424T121320
CREATED:20250806T175137Z
LAST-MODIFIED:20260111T170203Z
UID:10003768-1882085400-1882090800@redeemerpv.com
SUMMARY:MomCo Gathering
DESCRIPTION:Motherhood is complicated. Mom friends help! \nMomCo encourages and equips moms to realize their potential as mothers\, women and leaders\, in relationship with Jesus\, and in partnership with the local church. We believe in supporting moms through life-giving community. \nMomCo meets the second and fourth Wednesday of the month from 9:30-11AM at Redeemer Church. Click below for more information or to register! \nMORE INFO + REGISTER
URL:https://redeemerpv.com/event/momco-gathering-3/2029-08-22/
LOCATION:Redeemer Campus\, 190 S Roscoe Blvd\, Ponte Vedra Beach\, FL\, 32082\, United States
CATEGORIES:Group
ATTACH;FMTTYPE=image/png:https://redeemerpv.com/wp-content/uploads/2024/07/MomCo-General-Graphic-.png
END:VEVENT
BEGIN:VEVENT
DTSTART;TZID=America/New_York:20290912T093000
DTEND;TZID=America/New_York:20290912T110000
DTSTAMP:20260424T121320
CREATED:20250617T151840Z
LAST-MODIFIED:20260111T170131Z
UID:10003828-1883899800-1883905200@redeemerpv.com
SUMMARY:MomCo Gathering
DESCRIPTION:Motherhood is complicated. Mom friends help! \nMomCo encourages and equips moms to realize their potential as mothers\, women and leaders\, in relationship with Jesus\, and in partnership with the local church. We believe in supporting moms through life-giving community. \nMomCo meets the second and fourth Wednesday of the month from 9:30-11AM at Redeemer Church. Click below for more information or to register! \nMORE INFO + REGISTER
URL:https://redeemerpv.com/event/momco-gathering-4/2029-09-12/
LOCATION:Redeemer Campus\, 190 S Roscoe Blvd\, Ponte Vedra Beach\, FL\, 32082\, United States
CATEGORIES:Group
ATTACH;FMTTYPE=image/png:https://redeemerpv.com/wp-content/uploads/2024/07/MomCo-General-Graphic-.png
END:VEVENT
BEGIN:VEVENT
DTSTART;TZID=America/New_York:20290926T093000
DTEND;TZID=America/New_York:20290926T110000
DTSTAMP:20260424T121320
CREATED:20250806T175137Z
LAST-MODIFIED:20260111T170203Z
UID:10003769-1885109400-1885114800@redeemerpv.com
SUMMARY:MomCo Gathering
DESCRIPTION:Motherhood is complicated. Mom friends help! \nMomCo encourages and equips moms to realize their potential as mothers\, women and leaders\, in relationship with Jesus\, and in partnership with the local church. We believe in supporting moms through life-giving community. \nMomCo meets the second and fourth Wednesday of the month from 9:30-11AM at Redeemer Church. Click below for more information or to register! \nMORE INFO + REGISTER
URL:https://redeemerpv.com/event/momco-gathering-3/2029-09-26/
LOCATION:Redeemer Campus\, 190 S Roscoe Blvd\, Ponte Vedra Beach\, FL\, 32082\, United States
CATEGORIES:Group
ATTACH;FMTTYPE=image/png:https://redeemerpv.com/wp-content/uploads/2024/07/MomCo-General-Graphic-.png
END:VEVENT
END:VCALENDAR