BEGIN:VCALENDAR
VERSION:2.0
PRODID:-//Redeemer Church - ECPv6.15.20//NONSGML v1.0//EN
CALSCALE:GREGORIAN
METHOD:PUBLISH
X-ORIGINAL-URL:https://redeemerpv.com
X-WR-CALDESC:Events for Redeemer Church
REFRESH-INTERVAL;VALUE=DURATION:PT1H
X-Robots-Tag:noindex
X-PUBLISHED-TTL:PT1H
BEGIN:VTIMEZONE
TZID:America/New_York
BEGIN:DAYLIGHT
TZOFFSETFROM:-0500
TZOFFSETTO:-0400
TZNAME:EDT
DTSTART:20250309T070000
END:DAYLIGHT
BEGIN:STANDARD
TZOFFSETFROM:-0400
TZOFFSETTO:-0500
TZNAME:EST
DTSTART:20251102T060000
END:STANDARD
BEGIN:DAYLIGHT
TZOFFSETFROM:-0500
TZOFFSETTO:-0400
TZNAME:EDT
DTSTART:20260308T070000
END:DAYLIGHT
BEGIN:STANDARD
TZOFFSETFROM:-0400
TZOFFSETTO:-0500
TZNAME:EST
DTSTART:20261101T060000
END:STANDARD
BEGIN:DAYLIGHT
TZOFFSETFROM:-0500
TZOFFSETTO:-0400
TZNAME:EDT
DTSTART:20270314T070000
END:DAYLIGHT
BEGIN:STANDARD
TZOFFSETFROM:-0400
TZOFFSETTO:-0500
TZNAME:EST
DTSTART:20271107T060000
END:STANDARD
END:VTIMEZONE
BEGIN:VEVENT
DTSTART;TZID=America/New_York:20261108T083000
DTEND;TZID=America/New_York:20261108T094500
DTSTAMP:20260423T195136
CREATED:20260105T150509Z
LAST-MODIFIED:20260331T172918Z
UID:10004275-1794126600-1794131100@redeemerpv.com
SUMMARY:Sunday Morning Service [8:30am]
DESCRIPTION:Join us for our weekly 8:30am service as we worship God\, learn from His Word\, celebrate communion\, and build relationships with one another! Every Sunday service includes a dynamic Redeemer Kids experience for children ages Birth – 5th grade. \nWith questions as you prepare to visit\, email info@redeemerpv.com. We look forward to meeting you! \n 
URL:https://redeemerpv.com/event/sunday-morning-service-830am/2026-11-08/
LOCATION:Redeemer Campus\, 190 S Roscoe Blvd\, Ponte Vedra Beach\, FL\, 32082\, United States
ATTACH;FMTTYPE=image/png:https://redeemerpv.com/wp-content/uploads/2024/07/Joyfully-60-Slide-1.png
END:VEVENT
BEGIN:VEVENT
DTSTART;TZID=America/New_York:20261108T100000
DTEND;TZID=America/New_York:20261108T110000
DTSTAMP:20260423T195136
CREATED:20260105T151557Z
LAST-MODIFIED:20260105T151916Z
UID:10005278-1794132000-1794135600@redeemerpv.com
SUMMARY:Special Nation Praise Service
DESCRIPTION:On the second Sunday of the month\, we have a no-hush service that is put on by our Special Nation ministry and intentionally designed for those affected by disabilities and their families. All are welcome! \nSpecial Praise meets in the Student Auditorium in the Family Center at 10AM. \n 
URL:https://redeemerpv.com/event/special-nation-praise-service-2/2026-11-08/
LOCATION:Redeemer Campus\, 190 S Roscoe Blvd\, Ponte Vedra Beach\, FL\, 32082\, United States
CATEGORIES:Service
ATTACH;FMTTYPE=image/png:https://redeemerpv.com/wp-content/uploads/2024/07/Special-Praise-10am.png
END:VEVENT
BEGIN:VEVENT
DTSTART;TZID=America/New_York:20261108T100000
DTEND;TZID=America/New_York:20261108T111500
DTSTAMP:20260423T195136
CREATED:20260105T150639Z
LAST-MODIFIED:20260331T172833Z
UID:10004533-1794132000-1794136500@redeemerpv.com
SUMMARY:Sunday Morning Service [10am]
DESCRIPTION:Join us for our weekly 10am service as we worship God\, learn from His Word\, celebrate communion\, and build relationships with one another! Every Sunday service includes a dynamic Redeemer Kids experience for children ages Birth – 5th grade. \nWith questions as you prepare to visit\, email info@redeemerpv.com. \nThis service is offered on campus and live online. Click below to join the livestream at 10am EST! \nJOIN US ONLINE!
URL:https://redeemerpv.com/event/sunday-morning-service-10am/2026-11-08/
LOCATION:Redeemer Campus\, 190 S Roscoe Blvd\, Ponte Vedra Beach\, FL\, 32082\, United States
ATTACH;FMTTYPE=image/png:https://redeemerpv.com/wp-content/uploads/2024/07/Joyfully-60-Slide-1.png
END:VEVENT
BEGIN:VEVENT
DTSTART;TZID=America/New_York:20261108T113000
DTEND;TZID=America/New_York:20261108T124500
DTSTAMP:20260423T195136
CREATED:20260105T151011Z
LAST-MODIFIED:20260331T172749Z
UID:10005051-1794137400-1794141900@redeemerpv.com
SUMMARY:Sunday Morning Service [11:30am]
DESCRIPTION:Join us for our weekly 11:30am service as we worship God\, learn from His Word\, celebrate communion\, and build relationships with one another! Every Sunday service includes a dynamic Redeemer Kids experience for children ages Birth – 5th grade. \nWith questions as you prepare to visit\, email info@redeemerpv.com.
URL:https://redeemerpv.com/event/sunday-morning-service-1130am/2026-11-08/
LOCATION:Redeemer Campus\, 190 S Roscoe Blvd\, Ponte Vedra Beach\, FL\, 32082\, United States
CATEGORIES:Service
ATTACH;FMTTYPE=image/png:https://redeemerpv.com/wp-content/uploads/2024/07/Joyfully-60-Slide-1.png
END:VEVENT
END:VCALENDAR