BEGIN:VCALENDAR
VERSION:2.0
PRODID:-//Redeemer Church - ECPv6.15.20//NONSGML v1.0//EN
CALSCALE:GREGORIAN
METHOD:PUBLISH
X-ORIGINAL-URL:https://redeemerpv.com
X-WR-CALDESC:Events for Redeemer Church
REFRESH-INTERVAL;VALUE=DURATION:PT1H
X-Robots-Tag:noindex
X-PUBLISHED-TTL:PT1H
BEGIN:VTIMEZONE
TZID:America/New_York
BEGIN:DAYLIGHT
TZOFFSETFROM:-0500
TZOFFSETTO:-0400
TZNAME:EDT
DTSTART:20250309T070000
END:DAYLIGHT
BEGIN:STANDARD
TZOFFSETFROM:-0400
TZOFFSETTO:-0500
TZNAME:EST
DTSTART:20251102T060000
END:STANDARD
BEGIN:DAYLIGHT
TZOFFSETFROM:-0500
TZOFFSETTO:-0400
TZNAME:EDT
DTSTART:20260308T070000
END:DAYLIGHT
BEGIN:STANDARD
TZOFFSETFROM:-0400
TZOFFSETTO:-0500
TZNAME:EST
DTSTART:20261101T060000
END:STANDARD
BEGIN:DAYLIGHT
TZOFFSETFROM:-0500
TZOFFSETTO:-0400
TZNAME:EDT
DTSTART:20270314T070000
END:DAYLIGHT
BEGIN:STANDARD
TZOFFSETFROM:-0400
TZOFFSETTO:-0500
TZNAME:EST
DTSTART:20271107T060000
END:STANDARD
END:VTIMEZONE
BEGIN:VEVENT
DTSTART;TZID=America/New_York:20260610T090000
DTEND;TZID=America/New_York:20260610T130000
DTSTAMP:20260423T134904
CREATED:20251223T192328Z
LAST-MODIFIED:20251223T192328Z
UID:10004232-1781082000-1781096400@redeemerpv.com
SUMMARY:Vacation Bible School 2026
DESCRIPTION:Step through the mist into Rainforest Falls\, overflowing with wild waterfalls\, towering trees\, and colorful creatures. Beneath a canopy of chattering birds and howling monkeys\, kids plunge into a lifelong adventure of discovering the nature of God. They’ll explore what it means to be rooted in relationship with God\, their creator\, a safe place in life’s storms. \nRegistration opens in March!
URL:https://redeemerpv.com/event/vacation-bible-school-2026/2026-06-10/
LOCATION:Redeemer Campus\, 190 S Roscoe Blvd\, Ponte Vedra Beach\, FL\, 32082\, United States
CATEGORIES:Meeting
ATTACH;FMTTYPE=image/png:https://redeemerpv.com/wp-content/uploads/2025/12/VBS-Save-the-date-2026.png
END:VEVENT
BEGIN:VEVENT
DTSTART;TZID=America/New_York:20260610T093000
DTEND;TZID=America/New_York:20260610T110000
DTSTAMP:20260423T134904
CREATED:20250617T151840Z
LAST-MODIFIED:20260111T170131Z
UID:10003789-1781083800-1781089200@redeemerpv.com
SUMMARY:MomCo Gathering
DESCRIPTION:Motherhood is complicated. Mom friends help! \nMomCo encourages and equips moms to realize their potential as mothers\, women and leaders\, in relationship with Jesus\, and in partnership with the local church. We believe in supporting moms through life-giving community. \nMomCo meets the second and fourth Wednesday of the month from 9:30-11AM at Redeemer Church. Click below for more information or to register! \nMORE INFO + REGISTER
URL:https://redeemerpv.com/event/momco-gathering-4/2026-06-10/
LOCATION:Redeemer Campus\, 190 S Roscoe Blvd\, Ponte Vedra Beach\, FL\, 32082\, United States
CATEGORIES:Group
ATTACH;FMTTYPE=image/png:https://redeemerpv.com/wp-content/uploads/2024/07/MomCo-General-Graphic-.png
END:VEVENT
END:VCALENDAR