BEGIN:VCALENDAR
VERSION:2.0
PRODID:-//Redeemer Church - ECPv6.15.20//NONSGML v1.0//EN
CALSCALE:GREGORIAN
METHOD:PUBLISH
X-WR-CALNAME:Redeemer Church
X-ORIGINAL-URL:https://redeemerpv.com
X-WR-CALDESC:Events for Redeemer Church
REFRESH-INTERVAL;VALUE=DURATION:PT1H
X-Robots-Tag:noindex
X-PUBLISHED-TTL:PT1H
BEGIN:VTIMEZONE
TZID:America/New_York
BEGIN:DAYLIGHT
TZOFFSETFROM:-0500
TZOFFSETTO:-0400
TZNAME:EDT
DTSTART:20250309T070000
END:DAYLIGHT
BEGIN:STANDARD
TZOFFSETFROM:-0400
TZOFFSETTO:-0500
TZNAME:EST
DTSTART:20251102T060000
END:STANDARD
BEGIN:DAYLIGHT
TZOFFSETFROM:-0500
TZOFFSETTO:-0400
TZNAME:EDT
DTSTART:20260308T070000
END:DAYLIGHT
BEGIN:STANDARD
TZOFFSETFROM:-0400
TZOFFSETTO:-0500
TZNAME:EST
DTSTART:20261101T060000
END:STANDARD
BEGIN:DAYLIGHT
TZOFFSETFROM:-0500
TZOFFSETTO:-0400
TZNAME:EDT
DTSTART:20270314T070000
END:DAYLIGHT
BEGIN:STANDARD
TZOFFSETFROM:-0400
TZOFFSETTO:-0500
TZNAME:EST
DTSTART:20271107T060000
END:STANDARD
END:VTIMEZONE
BEGIN:VEVENT
DTSTART;TZID=America/New_York:20260201T083000
DTEND;TZID=America/New_York:20260201T094500
DTSTAMP:20260423T123027
CREATED:20260105T150509Z
LAST-MODIFIED:20260331T172918Z
UID:10004235-1769934600-1769939100@redeemerpv.com
SUMMARY:Sunday Morning Service [8:30am]
DESCRIPTION:Join us for our weekly 8:30am service as we worship God\, learn from His Word\, celebrate communion\, and build relationships with one another! Every Sunday service includes a dynamic Redeemer Kids experience for children ages Birth – 5th grade. \nWith questions as you prepare to visit\, email info@redeemerpv.com. We look forward to meeting you! \n 
URL:https://redeemerpv.com/event/sunday-morning-service-830am/2026-02-01/
LOCATION:Redeemer Campus\, 190 S Roscoe Blvd\, Ponte Vedra Beach\, FL\, 32082\, United States
ATTACH;FMTTYPE=image/png:https://redeemerpv.com/wp-content/uploads/2024/07/Joyfully-60-Slide-1.png
END:VEVENT
BEGIN:VEVENT
DTSTART;TZID=America/New_York:20260201T094500
DTEND;TZID=America/New_York:20260201T104500
DTSTAMP:20260423T123027
CREATED:20250415T152536Z
LAST-MODIFIED:20260226T171644Z
UID:10005337-1769939100-1769942700@redeemerpv.com
SUMMARY:Discover Redeemer
DESCRIPTION:Come discover more about who we are as a church community and explore how you and your family can get better connected at Discover Redeemer! This one-hour class will be held on first Sunday of every month after each morning service. We can’t wait to help you get more connected! \nRSVP \nFirst Sunday of the Month\n9:45-10:45am\, 11:15am-12:15pm\, + 12:45-1:45pm\nLight refreshments will be served.
URL:https://redeemerpv.com/event/discover-redeemer-2/2026-02-01/1/
LOCATION:Redeemer Campus\, 190 S Roscoe Blvd\, Ponte Vedra Beach\, FL\, 32082\, United States
CATEGORIES:Meeting
ATTACH;FMTTYPE=image/png:https://redeemerpv.com/wp-content/uploads/2025/01/Discover-Redeemer-New-Look.png
END:VEVENT
BEGIN:VEVENT
DTSTART;TZID=America/New_York:20260201T100000
DTEND;TZID=America/New_York:20260201T111500
DTSTAMP:20260423T123027
CREATED:20260105T150639Z
LAST-MODIFIED:20260331T172833Z
UID:10004493-1769940000-1769944500@redeemerpv.com
SUMMARY:Sunday Morning Service [10am]
DESCRIPTION:Join us for our weekly 10am service as we worship God\, learn from His Word\, celebrate communion\, and build relationships with one another! Every Sunday service includes a dynamic Redeemer Kids experience for children ages Birth – 5th grade. \nWith questions as you prepare to visit\, email info@redeemerpv.com. \nThis service is offered on campus and live online. Click below to join the livestream at 10am EST! \nJOIN US ONLINE!
URL:https://redeemerpv.com/event/sunday-morning-service-10am/2026-02-01/
LOCATION:Redeemer Campus\, 190 S Roscoe Blvd\, Ponte Vedra Beach\, FL\, 32082\, United States
ATTACH;FMTTYPE=image/png:https://redeemerpv.com/wp-content/uploads/2024/07/Joyfully-60-Slide-1.png
END:VEVENT
BEGIN:VEVENT
DTSTART;TZID=America/New_York:20260201T111500
DTEND;TZID=America/New_York:20260201T121500
DTSTAMP:20260423T123027
CREATED:20250415T152536Z
LAST-MODIFIED:20260226T171644Z
UID:10005408-1769944500-1769948100@redeemerpv.com
SUMMARY:Discover Redeemer
DESCRIPTION:Come discover more about who we are as a church community and explore how you and your family can get better connected at Discover Redeemer! This one-hour class will be held on first Sunday of every month after each morning service. We can’t wait to help you get more connected! \nRSVP \nFirst Sunday of the Month\n9:45-10:45am\, 11:15am-12:15pm\, + 12:45-1:45pm\nLight refreshments will be served.
URL:https://redeemerpv.com/event/discover-redeemer-2/2026-02-01/2/
LOCATION:Redeemer Campus\, 190 S Roscoe Blvd\, Ponte Vedra Beach\, FL\, 32082\, United States
CATEGORIES:Meeting
ATTACH;FMTTYPE=image/png:https://redeemerpv.com/wp-content/uploads/2025/01/Discover-Redeemer-New-Look.png
END:VEVENT
BEGIN:VEVENT
DTSTART;TZID=America/New_York:20260201T113000
DTEND;TZID=America/New_York:20260201T124500
DTSTAMP:20260423T123027
CREATED:20260105T151011Z
LAST-MODIFIED:20260331T172749Z
UID:10005011-1769945400-1769949900@redeemerpv.com
SUMMARY:Sunday Morning Service [11:30am]
DESCRIPTION:Join us for our weekly 11:30am service as we worship God\, learn from His Word\, celebrate communion\, and build relationships with one another! Every Sunday service includes a dynamic Redeemer Kids experience for children ages Birth – 5th grade. \nWith questions as you prepare to visit\, email info@redeemerpv.com.
URL:https://redeemerpv.com/event/sunday-morning-service-1130am/2026-02-01/
LOCATION:Redeemer Campus\, 190 S Roscoe Blvd\, Ponte Vedra Beach\, FL\, 32082\, United States
CATEGORIES:Service
ATTACH;FMTTYPE=image/png:https://redeemerpv.com/wp-content/uploads/2024/07/Joyfully-60-Slide-1.png
END:VEVENT
BEGIN:VEVENT
DTSTART;TZID=America/New_York:20260201T124500
DTEND;TZID=America/New_York:20260201T134500
DTSTAMP:20260423T123027
CREATED:20250415T152536Z
LAST-MODIFIED:20260226T171644Z
UID:10005409-1769949900-1769953500@redeemerpv.com
SUMMARY:Discover Redeemer
DESCRIPTION:Come discover more about who we are as a church community and explore how you and your family can get better connected at Discover Redeemer! This one-hour class will be held on first Sunday of every month after each morning service. We can’t wait to help you get more connected! \nRSVP \nFirst Sunday of the Month\n9:45-10:45am\, 11:15am-12:15pm\, + 12:45-1:45pm\nLight refreshments will be served.
URL:https://redeemerpv.com/event/discover-redeemer-2/2026-02-01/3/
LOCATION:Redeemer Campus\, 190 S Roscoe Blvd\, Ponte Vedra Beach\, FL\, 32082\, United States
CATEGORIES:Meeting
ATTACH;FMTTYPE=image/png:https://redeemerpv.com/wp-content/uploads/2025/01/Discover-Redeemer-New-Look.png
END:VEVENT
END:VCALENDAR