BEGIN:VCALENDAR
VERSION:2.0
PRODID:-//Redeemer Church - ECPv6.15.20//NONSGML v1.0//EN
CALSCALE:GREGORIAN
METHOD:PUBLISH
X-WR-CALNAME:Redeemer Church
X-ORIGINAL-URL:https://redeemerpv.com
X-WR-CALDESC:Events for Redeemer Church
REFRESH-INTERVAL;VALUE=DURATION:PT1H
X-Robots-Tag:noindex
X-PUBLISHED-TTL:PT1H
BEGIN:VTIMEZONE
TZID:America/New_York
BEGIN:DAYLIGHT
TZOFFSETFROM:-0500
TZOFFSETTO:-0400
TZNAME:EDT
DTSTART:20240310T070000
END:DAYLIGHT
BEGIN:STANDARD
TZOFFSETFROM:-0400
TZOFFSETTO:-0500
TZNAME:EST
DTSTART:20241103T060000
END:STANDARD
BEGIN:DAYLIGHT
TZOFFSETFROM:-0500
TZOFFSETTO:-0400
TZNAME:EDT
DTSTART:20250309T070000
END:DAYLIGHT
BEGIN:STANDARD
TZOFFSETFROM:-0400
TZOFFSETTO:-0500
TZNAME:EST
DTSTART:20251102T060000
END:STANDARD
BEGIN:DAYLIGHT
TZOFFSETFROM:-0500
TZOFFSETTO:-0400
TZNAME:EDT
DTSTART:20260308T070000
END:DAYLIGHT
BEGIN:STANDARD
TZOFFSETFROM:-0400
TZOFFSETTO:-0500
TZNAME:EST
DTSTART:20261101T060000
END:STANDARD
END:VTIMEZONE
BEGIN:VEVENT
DTSTART;TZID=America/New_York:20251026T090000
DTEND;TZID=America/New_York:20251026T101500
DTSTAMP:20260423T171849
CREATED:20240730T230121Z
LAST-MODIFIED:20251222T153156Z
UID:10002329-1761469200-1761473700@redeemerpv.com
SUMMARY:Sunday Morning Service [9:00am]
DESCRIPTION:Join us for our weekly 9am service as we worship God\, learn from His Word\, celebrate communion\, and build relationships with one another! Every Sunday service includes a dynamic Redeemer Kids experience for children ages Birth – 5th grade. \nWith questions as you prepare to visit\, email info@redeemerpv.com. We look forward to meeting you! \n 
URL:https://redeemerpv.com/event/sunday-morning-service-900am/2025-10-26/
LOCATION:Redeemer Campus\, 190 S Roscoe Blvd\, Ponte Vedra Beach\, FL\, 32082\, United States
ATTACH;FMTTYPE=image/png:https://redeemerpv.com/wp-content/uploads/2024/07/Joyfully-60-Slide-1.png
END:VEVENT
BEGIN:VEVENT
DTSTART;TZID=America/New_York:20251026T090000
DTEND;TZID=America/New_York:20251026T101500
DTSTAMP:20260423T171849
CREATED:20250919T145053Z
LAST-MODIFIED:20250919T145055Z
UID:10004103-1761469200-1761473700@redeemerpv.com
SUMMARY:Baptism Sunday
DESCRIPTION:If you’re ready to publicly declare your faith in Jesus through water baptism\, we would love to help you take that next step! We will be having baptims during both our 9am + 10:30am Sunday services on October 26th. Sign up today using the button below! \nREGISTER HERE
URL:https://redeemerpv.com/event/baptism-sunday-october/
LOCATION:Redeemer Campus\, 190 S Roscoe Blvd\, Ponte Vedra Beach\, FL\, 32082\, United States
ATTACH;FMTTYPE=image/png:https://redeemerpv.com/wp-content/uploads/2025/04/Baptism-Sunday-Graphic-04-27-25.png
END:VEVENT
BEGIN:VEVENT
DTSTART;TZID=America/New_York:20251026T103000
DTEND;TZID=America/New_York:20251026T114500
DTSTAMP:20260423T171849
CREATED:20240730T230411Z
LAST-MODIFIED:20251222T153043Z
UID:10002590-1761474600-1761479100@redeemerpv.com
SUMMARY:Sunday Morning Service [10:30am]
DESCRIPTION:Join us for our weekly 10:30am service as we worship God\, learn from His Word\, celebrate communion\, and build relationships with one another! Every Sunday service includes a dynamic Redeemer Kids experience for children ages Birth – 5th grade. \nWith questions as you prepare to visit\, email info@redeemerpv.com. \nThis service is offered on campus and live online. Click below to join the livestream at 10:30am EST! \nJOIN US ONLINE!
URL:https://redeemerpv.com/event/sunday-morning-service-1030am/2025-10-26/
LOCATION:Redeemer Campus\, 190 S Roscoe Blvd\, Ponte Vedra Beach\, FL\, 32082\, United States
ATTACH;FMTTYPE=image/png:https://redeemerpv.com/wp-content/uploads/2024/07/Joyfully-60-Slide-1.png
END:VEVENT
BEGIN:VEVENT
DTSTART;TZID=America/New_York:20251026T103000
DTEND;TZID=America/New_York:20251026T114500
DTSTAMP:20260423T171849
CREATED:20250919T144918Z
LAST-MODIFIED:20250919T144918Z
UID:10004104-1761474600-1761479100@redeemerpv.com
SUMMARY:Baptism Sunday
DESCRIPTION:If you’re ready to publicly declare your faith in Jesus through water baptism\, we would love to help you take that next step! We will be having baptims during both our 9am + 10:30am Sunday services on October 26th. Sign up today using the button below! \nREGISTER HERE
URL:https://redeemerpv.com/event/baptism-sunday-3/
LOCATION:Redeemer Campus\, 190 S Roscoe Blvd\, Ponte Vedra Beach\, FL\, 32082\, United States
ATTACH;FMTTYPE=image/png:https://redeemerpv.com/wp-content/uploads/2025/04/Baptism-Sunday-Graphic-04-27-25.png
END:VEVENT
END:VCALENDAR