BEGIN:VCALENDAR
VERSION:2.0
PRODID:-//Redeemer Church - ECPv6.15.20//NONSGML v1.0//EN
CALSCALE:GREGORIAN
METHOD:PUBLISH
X-ORIGINAL-URL:https://redeemerpv.com
X-WR-CALDESC:Events for Redeemer Church
REFRESH-INTERVAL;VALUE=DURATION:PT1H
X-Robots-Tag:noindex
X-PUBLISHED-TTL:PT1H
BEGIN:VTIMEZONE
TZID:America/New_York
BEGIN:DAYLIGHT
TZOFFSETFROM:-0500
TZOFFSETTO:-0400
TZNAME:EDT
DTSTART:20240310T070000
END:DAYLIGHT
BEGIN:STANDARD
TZOFFSETFROM:-0400
TZOFFSETTO:-0500
TZNAME:EST
DTSTART:20241103T060000
END:STANDARD
BEGIN:DAYLIGHT
TZOFFSETFROM:-0500
TZOFFSETTO:-0400
TZNAME:EDT
DTSTART:20250309T070000
END:DAYLIGHT
BEGIN:STANDARD
TZOFFSETFROM:-0400
TZOFFSETTO:-0500
TZNAME:EST
DTSTART:20251102T060000
END:STANDARD
BEGIN:DAYLIGHT
TZOFFSETFROM:-0500
TZOFFSETTO:-0400
TZNAME:EDT
DTSTART:20260308T070000
END:DAYLIGHT
BEGIN:STANDARD
TZOFFSETFROM:-0400
TZOFFSETTO:-0500
TZNAME:EST
DTSTART:20261101T060000
END:STANDARD
END:VTIMEZONE
BEGIN:VEVENT
DTSTART;TZID=America/New_York:20250417T083000
DTEND;TZID=America/New_York:20250417T090000
DTSTAMP:20260424T093931
CREATED:20250217T151401Z
LAST-MODIFIED:20250226T153228Z
UID:10003422-1744878600-1744880400@redeemerpv.com
SUMMARY:Lent Morning Prayer
DESCRIPTION:March 5th – April 17th | 8:30-9am \nJoin us on campus or on our YouTube channel at 8:30AM for a time of guided prayer. We can’t wait to see how God uses this time to speak to us during this Lent season! \nClick to join us online or view the digital prayer guide. \nWATCH LIVE ONLINE \nDIGITAL PRAYER GUIDE \n 
URL:https://redeemerpv.com/event/ash-wednesday/2025-04-17/
LOCATION:Redeemer Campus\, 190 S Roscoe Blvd\, Ponte Vedra Beach\, FL\, 32082\, United States
CATEGORIES:Service
ATTACH;FMTTYPE=image/png:https://redeemerpv.com/wp-content/uploads/2025/02/Lent-Morning-Prayer-Graphic-2025.png
END:VEVENT
BEGIN:VEVENT
DTSTART;TZID=America/New_York:20250417T190000
DTEND;TZID=America/New_York:20250417T203000
DTSTAMP:20260424T093931
CREATED:20250326T162750Z
LAST-MODIFIED:20250401T173822Z
UID:10003514-1744916400-1744921800@redeemerpv.com
SUMMARY:Maundy Thursday Service
DESCRIPTION:Maundy is a word that means “command”. This is the day in John 13 when Jesus celebrates Passover with His disciples. In this moment He demonstrates humility and gives then a “new commandment”. Join us on campus for a special foot washing service on April 17th at 7pm. Reserve rKids Care for 6 weeks-Kindergarten by clicking below. \nIf you aren’t able to join us for this service in person\, click the video below to reflect with us on this important day. \nMaundy Thursday Reflection \nRESERVE rKIDS CARE
URL:https://redeemerpv.com/event/maundy-thursday/
LOCATION:Redeemer Campus\, 190 S Roscoe Blvd\, Ponte Vedra Beach\, FL\, 32082\, United States
CATEGORIES:Service
ATTACH;FMTTYPE=image/png:https://redeemerpv.com/wp-content/uploads/2025/03/Maundy-Thursday-2025.png
END:VEVENT
END:VCALENDAR