BEGIN:VCALENDAR
VERSION:2.0
PRODID:-//Redeemer Church - ECPv6.15.20//NONSGML v1.0//EN
CALSCALE:GREGORIAN
METHOD:PUBLISH
X-WR-CALNAME:Redeemer Church
X-ORIGINAL-URL:https://redeemerpv.com
X-WR-CALDESC:Events for Redeemer Church
REFRESH-INTERVAL;VALUE=DURATION:PT1H
X-Robots-Tag:noindex
X-PUBLISHED-TTL:PT1H
BEGIN:VTIMEZONE
TZID:America/New_York
BEGIN:DAYLIGHT
TZOFFSETFROM:-0500
TZOFFSETTO:-0400
TZNAME:EDT
DTSTART:20240310T070000
END:DAYLIGHT
BEGIN:STANDARD
TZOFFSETFROM:-0400
TZOFFSETTO:-0500
TZNAME:EST
DTSTART:20241103T060000
END:STANDARD
BEGIN:DAYLIGHT
TZOFFSETFROM:-0500
TZOFFSETTO:-0400
TZNAME:EDT
DTSTART:20250309T070000
END:DAYLIGHT
BEGIN:STANDARD
TZOFFSETFROM:-0400
TZOFFSETTO:-0500
TZNAME:EST
DTSTART:20251102T060000
END:STANDARD
BEGIN:DAYLIGHT
TZOFFSETFROM:-0500
TZOFFSETTO:-0400
TZNAME:EDT
DTSTART:20260308T070000
END:DAYLIGHT
BEGIN:STANDARD
TZOFFSETFROM:-0400
TZOFFSETTO:-0500
TZNAME:EST
DTSTART:20261101T060000
END:STANDARD
END:VTIMEZONE
BEGIN:VEVENT
DTSTART;TZID=America/New_York:20250305T083000
DTEND;TZID=America/New_York:20250305T090000
DTSTAMP:20260424T093540
CREATED:20250217T151401Z
LAST-MODIFIED:20250226T153228Z
UID:10003391-1741163400-1741165200@redeemerpv.com
SUMMARY:Lent Morning Prayer
DESCRIPTION:March 5th – April 17th | 8:30-9am \nJoin us on campus or on our YouTube channel at 8:30AM for a time of guided prayer. We can’t wait to see how God uses this time to speak to us during this Lent season! \nClick to join us online or view the digital prayer guide. \nWATCH LIVE ONLINE \nDIGITAL PRAYER GUIDE \n 
URL:https://redeemerpv.com/event/ash-wednesday/2025-03-05/
LOCATION:Redeemer Campus\, 190 S Roscoe Blvd\, Ponte Vedra Beach\, FL\, 32082\, United States
CATEGORIES:Service
ATTACH;FMTTYPE=image/png:https://redeemerpv.com/wp-content/uploads/2025/02/Lent-Morning-Prayer-Graphic-2025.png
END:VEVENT
BEGIN:VEVENT
DTSTART;TZID=America/New_York:20250305T183000
DTEND;TZID=America/New_York:20250305T203000
DTSTAMP:20260424T093540
CREATED:20240724T204140Z
LAST-MODIFIED:20240725T192436Z
UID:10000295-1741199400-1741206600@redeemerpv.com
SUMMARY:Midweek Gathering
DESCRIPTION:Every Wednesday we offer a variety of classes and activities for the whole family! \nCome at 6:30pm for a time of community and a delicious dinner for $5 per person. Then at 7:15pm\, head to rKids (6 weeks – 5th grade)\, The Rally (students 6-12th grade)\, Special Nation or the Adult Bible teaching (also live-streamed). We can’t wait to see you! \n  \nWatch the live-stream at 7:15pm \nLivestream
URL:https://redeemerpv.com/event/midweek-gathering/2025-03-05/
LOCATION:Redeemer Campus\, 190 S Roscoe Blvd\, Ponte Vedra Beach\, FL\, 32082\, United States
CATEGORIES:Service
ATTACH;FMTTYPE=image/png:https://redeemerpv.com/wp-content/uploads/2024/06/Midweek-Graphic.png
END:VEVENT
END:VCALENDAR